Workbook
Name 取扱品目: 変換!$B$4:$M$158
Name 小分類: 変換!$B$4:$C$158
Name 番号変換: 変換!$O$4:$P$13

Sheet 営業種目表
A1: 別紙1
A2: 希望する営業種目表
A3: 入札（見積）を希望する順（15位まで）に以下に記入してください（別紙【記載例】参照）。
A4: 順位 | C4: 小分類 № | E4: 小分類名 | I4: 番号 | J4: 取扱品目・業務内容 | P4: 許認可・登録等の資格 ＊証明書、免許等を添付すること | Y4: 取扱品目のメーカー名 ＊代理店等の場合は証明書を添付すること
AG5: 小分類 № | AH5: 番号
A6: 1 | E6: =IF(ISERROR(VLOOKUP(C6,'選択科目(縦欄)'!$B$2:$C$426,2)),"",(VLOOKUP(C6,'選択科目(縦欄)'!$B$2:$C$426,2))) | J6: =IF(ISERROR(VLOOKUP(AM6,'選択科目(縦欄)'!$A$2:$E$426,5,FALSE)),"",VLOOKUP(AM6,'選択科目(縦欄)'!$A$2:$E$426,5,FALSE)) | AF6: =IF(AND(I6<>"",J6=""),"該当の番号がありません",IF(COUNTIF($I$6:$I$14,I6)>1,"重複エラー","")) | AG6: =IF(A6="",AG5,C6) -> 0 | AH6: =IF(ISERROR(VLOOKUP(I6,番号書換!$A$1:$B$10,2,FALSE)),"",VLOOKUP(I6,番号書換!$A$1:$B$10,2,FALSE)) | AM6: =AG6&AH6 -> 0
J7: =IF(ISERROR(VLOOKUP(AM7,'選択科目(縦欄)'!$A$2:$E$426,5,FALSE)),"",VLOOKUP(AM7,'選択科目(縦欄)'!$A$2:$E$426,5,FALSE)) | AF7: =IF(AND(I7<>"",J7=""),"該当の番号がありません",IF(COUNTIF($I$6:$I$14,I7)>1,"重複エラー","")) | AG7: =IF(A7="",AG6,C7) -> 0 | AH7: =IF(ISERROR(VLOOKUP(I7,番号書換!$A$1:$B$10,2,FALSE)),"",VLOOKUP(I7,番号書換!$A$1:$B$10,2,FALSE)) | AM7: =AG7&AH7 -> 0
J8: =IF(ISERROR(VLOOKUP(AM8,'選択科目(縦欄)'!$A$2:$E$426,5,FALSE)),"",VLOOKUP(AM8,'選択科目(縦欄)'!$A$2:$E$426,5,FALSE)) | AF8: =IF(AND(I8<>"",J8=""),"該当の番号がありません",IF(COUNTIF($I$6:$I$14,I8)>1,"重複エラー","")) | AG8: =IF(A8="",AG7,C8) -> 0 | AH8: =IF(ISERROR(VLOOKUP(I8,番号書換!$A$1:$B$10,2,FALSE)),"",VLOOKUP(I8,番号書換!$A$1:$B$10,2,FALSE)) | AM8: =AG8&AH8 -> 0
J9: =IF(ISERROR(VLOOKUP(AM9,'選択科目(縦欄)'!$A$2:$E$426,5,FALSE)),"",VLOOKUP(AM9,'選択科目(縦欄)'!$A$2:$E$426,5,FALSE)) | AF9: =IF(AND(I9<>"",J9=""),"該当の番号がありません",IF(COUNTIF($I$6:$I$14,I9)>1,"重複エラー","")) | AG9: =IF(A9="",AG8,C9) -> 0 | AH9: =IF(ISERROR(VLOOKUP(I9,番号書換!$A$1:$B$10,2,FALSE)),"",VLOOKUP(I9,番号書換!$A$1:$B$10,2,FALSE)) | AM9: =AG9&AH9 -> 0
J10: =IF(ISERROR(VLOOKUP(AM10,'選択科目(縦欄)'!$A$2:$E$426,5,FALSE)),"",VLOOKUP(AM10,'選択科目(縦欄)'!$A$2:$E$426,5,FALSE)) | AF10: =IF(AND(I10<>"",J10=""),"該当の番号がありません",IF(COUNTIF($I$6:$I$14,I10)>1,"重複エラー","")) | AG10: =IF(A10="",AG9,C10) -> 0 | AH10: =IF(ISERROR(VLOOKUP(I10,番号書換!$A$1:$B$10,2,FALSE)),"",VLOOKUP(I10,番号書換!$A$1:$B$10,2,FALSE)) | AM10: =AG10&AH10 -> 0
J11: =IF(ISERROR(VLOOKUP(AM11,'選択科目(縦欄)'!$A$2:$E$426,5,FALSE)),"",VLOOKUP(AM11,'選択科目(縦欄)'!$A$2:$E$426,5,FALSE)) | AF11: =IF(AND(I11<>"",J11=""),"該当の番号がありません",IF(COUNTIF($I$6:$I$14,I11)>1,"重複エラー","")) | AG11: =IF(A11="",AG10,C11) -> 0 | AH11: =IF(ISERROR(VLOOKUP(I11,番号書換!$A$1:$B$10,2,FALSE)),"",VLOOKUP(I11,番号書換!$A$1:$B$10,2,FALSE)) | AM11: =AG11&AH11 -> 0
J12: =IF(ISERROR(VLOOKUP(AM12,'選択科目(縦欄)'!$A$2:$E$426,5,FALSE)),"",VLOOKUP(AM12,'選択科目(縦欄)'!$A$2:$E$426,5,FALSE)) | AF12: =IF(AND(I12<>"",J12=""),"該当の番号がありません",IF(COUNTIF($I$6:$I$14,I12)>1,"重複エラー","")) | AG12: =IF(A12="",AG11,C12) -> 0 | AH12: =IF(ISERROR(VLOOKUP(I12,番号書換!$A$1:$B$10,2,FALSE)),"",VLOOKUP(I12,番号書換!$A$1:$B$10,2,FALSE)) | AM12: =AG12&AH12 -> 0
J13: =IF(ISERROR(VLOOKUP(AM13,'選択科目(縦欄)'!$A$2:$E$426,5,FALSE)),"",VLOOKUP(AM13,'選択科目(縦欄)'!$A$2:$E$426,5,FALSE)) | AF13: =IF(AND(I13<>"",J13=""),"該当の番号がありません",IF(COUNTIF($I$6:$I$14,I13)>1,"重複エラー","")) | AG13: =IF(A13="",AG12,C13) -> 0 | AH13: =IF(ISERROR(VLOOKUP(I13,番号書換!$A$1:$B$10,2,FALSE)),"",VLOOKUP(I13,番号書換!$A$1:$B$10,2,FALSE)) | AM13: =AG13&AH13 -> 0
J14: =IF(ISERROR(VLOOKUP(AM14,'選択科目(縦欄)'!$A$2:$E$426,5,FALSE)),"",VLOOKUP(AM14,'選択科目(縦欄)'!$A$2:$E$426,5,FALSE)) | AF14: =IF(AND(I14<>"",J14=""),"該当の番号がありません",IF(COUNTIF($I$6:$I$14,I14)>1,"重複エラー","")) | AG14: =IF(A14="",AG13,C14) -> 0 | AH14: =IF(ISERROR(VLOOKUP(I14,番号書換!$A$1:$B$10,2,FALSE)),"",VLOOKUP(I14,番号書換!$A$1:$B$10,2,FALSE)) | AM14: =AG14&AH14 -> 0
I15: ⑩ | J15: その他( ) | AG15: =IF(A15="",AG14,C15) -> 0
A16: 2 | E16: =IF(ISERROR(VLOOKUP(C16,'選択科目(縦欄)'!$B$2:$C$426,2)),"",(VLOOKUP(C16,'選択科目(縦欄)'!$B$2:$C$426,2))) | J16: =IF(ISERROR(VLOOKUP(AM16,'選択科目(縦欄)'!$A$2:$E$426,5,FALSE)),"",VLOOKUP(AM16,'選択科目(縦欄)'!$A$2:$E$426,5,FALSE)) | AF16: =IF(AND(I16<>"",J16=""),"該当の番号がありません",IF(COUNTIF($I$6:$I$14,I16)>1,"重複エラー","")) | AG16: =IF(A16="",AG15,C16) -> 0 | AH16: =IF(ISERROR(VLOOKUP(I16,番号書換!$A$1:$B$10,2,FALSE)),"",VLOOKUP(I16,番号書換!$A$1:$B$10,2,FALSE)) | AM16: =AG16&AH16 -> 0
J17: =IF(ISERROR(VLOOKUP(AM17,'選択科目(縦欄)'!$A$2:$E$426,5,FALSE)),"",VLOOKUP(AM17,'選択科目(縦欄)'!$A$2:$E$426,5,FALSE)) | AF17: =IF(AND(I17<>"",J17=""),"該当の番号がありません",IF(COUNTIF($I$6:$I$14,I17)>1,"重複エラー","")) | AG17: =IF(A17="",AG16,C17) -> 0 | AH17: =IF(ISERROR(VLOOKUP(I17,番号書換!$A$1:$B$10,2,FALSE)),"",VLOOKUP(I17,番号書換!$A$1:$B$10,2,FALSE)) | AM17: =AG17&AH17 -> 0
J18: =IF(ISERROR(VLOOKUP(AM18,'選択科目(縦欄)'!$A$2:$E$426,5,FALSE)),"",VLOOKUP(AM18,'選択科目(縦欄)'!$A$2:$E$426,5,FALSE)) | AF18: =IF(AND(I18<>"",J18=""),"該当の番号がありません",IF(COUNTIF($I$6:$I$14,I18)>1,"重複エラー","")) | AG18: =IF(A18="",AG17,C18) -> 0 | AH18: =IF(ISERROR(VLOOKUP(I18,番号書換!$A$1:$B$10,2,FALSE)),"",VLOOKUP(I18,番号書換!$A$1:$B$10,2,FALSE)) | AM18: =AG18&AH18 -> 0
J19: =IF(ISERROR(VLOOKUP(AM19,'選択科目(縦欄)'!$A$2:$E$426,5,FALSE)),"",VLOOKUP(AM19,'選択科目(縦欄)'!$A$2:$E$426,5,FALSE)) | AF19: =IF(AND(I19<>"",J19=""),"該当の番号がありません",IF(COUNTIF($I$6:$I$14,I19)>1,"重複エラー","")) | AG19: =IF(A19="",AG18,C19) -> 0 | AH19: =IF(ISERROR(VLOOKUP(I19,番号書換!$A$1:$B$10,2,FALSE)),"",VLOOKUP(I19,番号書換!$A$1:$B$10,2,FALSE)) | AM19: =AG19&AH19 -> 0
J20: =IF(ISERROR(VLOOKUP(AM20,'選択科目(縦欄)'!$A$2:$E$426,5,FALSE)),"",VLOOKUP(AM20,'選択科目(縦欄)'!$A$2:$E$426,5,FALSE)) | AF20: =IF(AND(I20<>"",J20=""),"該当の番号がありません",IF(COUNTIF($I$6:$I$14,I20)>1,"重複エラー","")) | AG20: =IF(A20="",AG19,C20) -> 0 | AH20: =IF(ISERROR(VLOOKUP(I20,番号書換!$A$1:$B$10,2,FALSE)),"",VLOOKUP(I20,番号書換!$A$1:$B$10,2,FALSE)) | AM20: =AG20&AH20 -> 0
J21: =IF(ISERROR(VLOOKUP(AM21,'選択科目(縦欄)'!$A$2:$E$426,5,FALSE)),"",VLOOKUP(AM21,'選択科目(縦欄)'!$A$2:$E$426,5,FALSE)) | AF21: =IF(AND(I21<>"",J21=""),"該当の番号がありません",IF(COUNTIF($I$6:$I$14,I21)>1,"重複エラー","")) | AG21: =IF(A21="",AG20,C21) -> 0 | AH21: =IF(ISERROR(VLOOKUP(I21,番号書換!$A$1:$B$10,2,FALSE)),"",VLOOKUP(I21,番号書換!$A$1:$B$10,2,FALSE)) | AM21: =AG21&AH21 -> 0
J22: =IF(ISERROR(VLOOKUP(AM22,'選択科目(縦欄)'!$A$2:$E$426,5,FALSE)),"",VLOOKUP(AM22,'選択科目(縦欄)'!$A$2:$E$426,5,FALSE)) | AF22: =IF(AND(I22<>"",J22=""),"該当の番号がありません",IF(COUNTIF($I$6:$I$14,I22)>1,"重複エラー","")) | AG22: =IF(A22="",AG21,C22) -> 0 | AH22: =IF(ISERROR(VLOOKUP(I22,番号書換!$A$1:$B$10,2,FALSE)),"",VLOOKUP(I22,番号書換!$A$1:$B$10,2,FALSE)) | AM22: =AG22&AH22 -> 0
J23: =IF(ISERROR(VLOOKUP(AM23,'選択科目(縦欄)'!$A$2:$E$426,5,FALSE)),"",VLOOKUP(AM23,'選択科目(縦欄)'!$A$2:$E$426,5,FALSE)) | AF23: =IF(AND(I23<>"",J23=""),"該当の番号がありません",IF(COUNTIF($I$6:$I$14,I23)>1,"重複エラー","")) | AG23: =IF(A23="",AG22,C23) -> 0 | AH23: =IF(ISERROR(VLOOKUP(I23,番号書換!$A$1:$B$10,2,FALSE)),"",VLOOKUP(I23,番号書換!$A$1:$B$10,2,FALSE)) | AM23: =AG23&AH23 -> 0
J24: =IF(ISERROR(VLOOKUP(AM24,'選択科目(縦欄)'!$A$2:$E$426,5,FALSE)),"",VLOOKUP(AM24,'選択科目(縦欄)'!$A$2:$E$426,5,FALSE)) | AF24: =IF(AND(I24<>"",J24=""),"該当の番号がありません",IF(COUNTIF($I$6:$I$14,I24)>1,"重複エラー","")) | AG24: =IF(A24="",AG23,C24) -> 0 | AH24: =IF(ISERROR(VLOOKUP(I24,番号書換!$A$1:$B$10,2,FALSE)),"",VLOOKUP(I24,番号書換!$A$1:$B$10,2,FALSE)) | AM24: =AG24&AH24 -> 0
I25: ⑩ | J25: その他( ) | AG25: =IF(A25="",AG24,C25) -> 0
A26: 3 | E26: =IF(ISERROR(VLOOKUP(C26,'選択科目(縦欄)'!$B$2:$C$426,2)),"",(VLOOKUP(C26,'選択科目(縦欄)'!$B$2:$C$426,2))) | J26: =IF(ISERROR(VLOOKUP(AM26,'選択科目(縦欄)'!$A$2:$E$426,5,FALSE)),"",VLOOKUP(AM26,'選択科目(縦欄)'!$A$2:$E$426,5,FALSE)) | AF26: =IF(AND(I26<>"",J26=""),"該当の番号がありません",IF(COUNTIF($I$6:$I$14,I26)>1,"重複エラー","")) | AG26: =IF(A26="",AG25,C26) -> 0 | AH26: =IF(ISERROR(VLOOKUP(I26,番号書換!$A$1:$B$10,2,FALSE)),"",VLOOKUP(I26,番号書換!$A$1:$B$10,2,FALSE)) | AM26: =AG26&AH26 -> 0
J27: =IF(ISERROR(VLOOKUP(AM27,'選択科目(縦欄)'!$A$2:$E$426,5,FALSE)),"",VLOOKUP(AM27,'選択科目(縦欄)'!$A$2:$E$426,5,FALSE)) | AF27: =IF(AND(I27<>"",J27=""),"該当の番号がありません",IF(COUNTIF($I$6:$I$14,I27)>1,"重複エラー","")) | AG27: =IF(A27="",AG26,C27) -> 0 | AH27: =IF(ISERROR(VLOOKUP(I27,番号書換!$A$1:$B$10,2,FALSE)),"",VLOOKUP(I27,番号書換!$A$1:$B$10,2,FALSE)) | AM27: =AG27&AH27 -> 0
J28: =IF(ISERROR(VLOOKUP(AM28,'選択科目(縦欄)'!$A$2:$E$426,5,FALSE)),"",VLOOKUP(AM28,'選択科目(縦欄)'!$A$2:$E$426,5,FALSE)) | AF28: =IF(AND(I28<>"",J28=""),"該当の番号がありません",IF(COUNTIF($I$6:$I$14,I28)>1,"重複エラー","")) | AG28: =IF(A28="",AG27,C28) -> 0 | AH28: =IF(ISERROR(VLOOKUP(I28,番号書換!$A$1:$B$10,2,FALSE)),"",VLOOKUP(I28,番号書換!$A$1:$B$10,2,FALSE)) | AM28: =AG28&AH28 -> 0
J29: =IF(ISERROR(VLOOKUP(AM29,'選択科目(縦欄)'!$A$2:$E$426,5,FALSE)),"",VLOOKUP(AM29,'選択科目(縦欄)'!$A$2:$E$426,5,FALSE)) | AF29: =IF(AND(I29<>"",J29=""),"該当の番号がありません",IF(COUNTIF($I$6:$I$14,I29)>1,"重複エラー","")) | AG29: =IF(A29="",AG28,C29) -> 0 | AH29: =IF(ISERROR(VLOOKUP(I29,番号書換!$A$1:$B$10,2,FALSE)),"",VLOOKUP(I29,番号書換!$A$1:$B$10,2,FALSE)) | AM29: =AG29&AH29 -> 0
J30: =IF(ISERROR(VLOOKUP(AM30,'選択科目(縦欄)'!$A$2:$E$426,5,FALSE)),"",VLOOKUP(AM30,'選択科目(縦欄)'!$A$2:$E$426,5,FALSE)) | AF30: =IF(AND(I30<>"",J30=""),"該当の番号がありません",IF(COUNTIF($I$6:$I$14,I30)>1,"重複エラー","")) | AG30: =IF(A30="",AG29,C30) -> 0 | AH30: =IF(ISERROR(VLOOKUP(I30,番号書換!$A$1:$B$10,2,FALSE)),"",VLOOKUP(I30,番号書換!$A$1:$B$10,2,FALSE)) | AM30: =AG30&AH30 -> 0
J31: =IF(ISERROR(VLOOKUP(AM31,'選択科目(縦欄)'!$A$2:$E$426,5,FALSE)),"",VLOOKUP(AM31,'選択科目(縦欄)'!$A$2:$E$426,5,FALSE)) | AF31: =IF(AND(I31<>"",J31=""),"該当の番号がありません",IF(COUNTIF($I$6:$I$14,I31)>1,"重複エラー","")) | AG31: =IF(A31="",AG30,C31) -> 0 | AH31: =IF(ISERROR(VLOOKUP(I31,番号書換!$A$1:$B$10,2,FALSE)),"",VLOOKUP(I31,番号書換!$A$1:$B$10,2,FALSE)) | AM31: =AG31&AH31 -> 0
J32: =IF(ISERROR(VLOOKUP(AM32,'選択科目(縦欄)'!$A$2:$E$426,5,FALSE)),"",VLOOKUP(AM32,'選択科目(縦欄)'!$A$2:$E$426,5,FALSE)) | AF32: =IF(AND(I32<>"",J32=""),"該当の番号がありません",IF(COUNTIF($I$6:$I$14,I32)>1,"重複エラー","")) | AG32: =IF(A32="",AG31,C32) -> 0 | AH32: =IF(ISERROR(VLOOKUP(I32,番号書換!$A$1:$B$10,2,FALSE)),"",VLOOKUP(I32,番号書換!$A$1:$B$10,2,FALSE)) | AM32: =AG32&AH32 -> 0
J33: =IF(ISERROR(VLOOKUP(AM33,'選択科目(縦欄)'!$A$2:$E$426,5,FALSE)),"",VLOOKUP(AM33,'選択科目(縦欄)'!$A$2:$E$426,5,FALSE)) | AF33: =IF(AND(I33<>"",J33=""),"該当の番号がありません",IF(COUNTIF($I$6:$I$14,I33)>1,"重複エラー","")) | AG33: =IF(A33="",AG32,C33) -> 0 | AH33: =IF(ISERROR(VLOOKUP(I33,番号書換!$A$1:$B$10,2,FALSE)),"",VLOOKUP(I33,番号書換!$A$1:$B$10,2,FALSE)) | AM33: =AG33&AH33 -> 0
J34: =IF(ISERROR(VLOOKUP(AM34,'選択科目(縦欄)'!$A$2:$E$426,5,FALSE)),"",VLOOKUP(AM34,'選択科目(縦欄)'!$A$2:$E$426,5,FALSE)) | AF34: =IF(AND(I34<>"",J34=""),"該当の番号がありません",IF(COUNTIF($I$6:$I$14,I34)>1,"重複エラー","")) | AG34: =IF(A34="",AG33,C34) -> 0 | AH34: =IF(ISERROR(VLOOKUP(I34,番号書換!$A$1:$B$10,2,FALSE)),"",VLOOKUP(I34,番号書換!$A$1:$B$10,2,FALSE)) | AM34: =AG34&AH34 -> 0
I35: ⑩ | J35: その他( ) | AG35: =IF(A35="",AG34,C35) -> 0
A36: 4 | E36: =IF(ISERROR(VLOOKUP(C36,'選択科目(縦欄)'!$B$2:$C$426,2)),"",(VLOOKUP(C36,'選択科目(縦欄)'!$B$2:$C$426,2))) | J36: =IF(ISERROR(VLOOKUP(AM36,'選択科目(縦欄)'!$A$2:$E$426,5,FALSE)),"",VLOOKUP(AM36,'選択科目(縦欄)'!$A$2:$E$426,5,FALSE)) | AF36: =IF(AND(I36<>"",J36=""),"該当の番号がありません",IF(COUNTIF($I$6:$I$14,I36)>1,"重複エラー","")) | AG36: =IF(A36="",AG35,C36) -> 0 | AH36: =IF(ISERROR(VLOOKUP(I36,番号書換!$A$1:$B$10,2,FALSE)),"",VLOOKUP(I36,番号書換!$A$1:$B$10,2,FALSE)) | AM36: =AG36&AH36 -> 0
J37: =IF(ISERROR(VLOOKUP(AM37,'選択科目(縦欄)'!$A$2:$E$426,5,FALSE)),"",VLOOKUP(AM37,'選択科目(縦欄)'!$A$2:$E$426,5,FALSE)) | AF37: =IF(AND(I37<>"",J37=""),"該当の番号がありません",IF(COUNTIF($I$6:$I$14,I37)>1,"重複エラー","")) | AG37: =IF(A37="",AG36,C37) -> 0 | AH37: =IF(ISERROR(VLOOKUP(I37,番号書換!$A$1:$B$10,2,FALSE)),"",VLOOKUP(I37,番号書換!$A$1:$B$10,2,FALSE)) | AM37: =AG37&AH37 -> 0
J38: =IF(ISERROR(VLOOKUP(AM38,'選択科目(縦欄)'!$A$2:$E$426,5,FALSE)),"",VLOOKUP(AM38,'選択科目(縦欄)'!$A$2:$E$426,5,FALSE)) | AF38: =IF(AND(I38<>"",J38=""),"該当の番号がありません",IF(COUNTIF($I$6:$I$14,I38)>1,"重複エラー","")) | AG38: =IF(A38="",AG37,C38) -> 0 | AH38: =IF(ISERROR(VLOOKUP(I38,番号書換!$A$1:$B$10,2,FALSE)),"",VLOOKUP(I38,番号書換!$A$1:$B$10,2,FALSE)) | AM38: =AG38&AH38 -> 0
J39: =IF(ISERROR(VLOOKUP(AM39,'選択科目(縦欄)'!$A$2:$E$426,5,FALSE)),"",VLOOKUP(AM39,'選択科目(縦欄)'!$A$2:$E$426,5,FALSE)) | AF39: =IF(AND(I39<>"",J39=""),"該当の番号がありません",IF(COUNTIF($I$6:$I$14,I39)>1,"重複エラー","")) | AG39: =IF(A39="",AG38,C39) -> 0 | AH39: =IF(ISERROR(VLOOKUP(I39,番号書換!$A$1:$B$10,2,FALSE)),"",VLOOKUP(I39,番号書換!$A$1:$B$10,2,FALSE)) | AM39: =AG39&AH39 -> 0
J40: =IF(ISERROR(VLOOKUP(AM40,'選択科目(縦欄)'!$A$2:$E$426,5,FALSE)),"",VLOOKUP(AM40,'選択科目(縦欄)'!$A$2:$E$426,5,FALSE)) | AF40: =IF(AND(I40<>"",J40=""),"該当の番号がありません",IF(COUNTIF($I$6:$I$14,I40)>1,"重複エラー","")) | AG40: =IF(A40="",AG39,C40) -> 0 | AH40: =IF(ISERROR(VLOOKUP(I40,番号書換!$A$1:$B$10,2,FALSE)),"",VLOOKUP(I40,番号書換!$A$1:$B$10,2,FALSE)) | AM40: =AG40&AH40 -> 0
...

Sheet 分類表
B1: 営業種目分類表
A2: 【大分類：物品（製作・修繕含む）】
A3: 中分類№ | B3: 中分類名 | C3: 小分類№ | D3: 小分類名 | E3: 取扱品目・業務内容例示 | F3: 登録上の要件 （許認可・登録等の資格）
A4: 01 | B4: 文具 事務機器 | C4: 01 | D4: 事務用品 スチール製品 | E4: ①文房具 ②コピー用紙 ③印刷用紙 ④事務用机・椅子 ⑤保管庫 ⑩その他
C5: 02 | D5: 事務用機器 | E5: ①複写機 ②印刷機 ③裁断機 ④紙折り機 ⑤圧着機 ⑥郵便計器 ⑩その他
C6: 03 | D6: 施設用機器 | E6: ①自動券売機 ②駐車場用発券機 ⑩その他
C7: 04 | D7: ＯＡ機器及び関連商品 | E7: ①パソコン ②サーバー ③プリンター ④コンピューター周辺機器 ⑤ソフトウエア ⑥トナーカートリッジ ⑩その他
C8: 05 | D8: 印章 | E8: ①印鑑 ②公印 ③作成印 ④ゴム印 ⑩その他
A9: 02 | B9: 教材 運動 遊具 | C9: 06 | D9: 保育教材 保育用品 | E9: ①保育園等教材 ②保育用品 ⑩その他
C10: 07 | D10: 遊具 | E10: ①大型遊具 ②ブランコ ③滑り台 ⑩その他
C11: 08 | D11: 学校教材 学校用品 | E11: ①養護教材 ②理科用標本模型 ③ミシン ④各種教材 ⑩その他
C12: 09 | D12: 運動用具 運動着類 | E12: ①運動用品（ボール、武道具等） ②運動器具（サッカーゴール、跳箱、卓球台等） ③トレーニング機器・測定機器 ④アウトドア用品 ⑤運動用着衣・靴 ⑩その他
C13: 10 | D13: 楽器 | E13: ①楽器類 ②音楽CD ③ピアノ調律 ⑩その他
A14: 03 | B14: 家具 | C14: 11 | D14: 室内装飾品 | E14: ①カーテン ②ブラインド ③暗幕 ④じゅうたん・カーペット ⑤間仕切り ⑩その他
C15: 12 | D15: 家具 | E15: ①机・椅子（学校用含む） ②応接セット ③木製家具 ⑩その他
A16: 04 | B16: 被服 寝具 | C16: 13 | D16: 着衣類 | E16: ①調理用服 ②保育用エプロン ③作業服 ④防寒着 ⑤雨具 ⑥帽子 ⑩その他
C17: 14 | D17: 靴 | E17: ①教育シューズ ②安全靴 ③室内履き ④厨房シューズ ⑤長靴 ⑩その他
C18: 15 | D18: 寝具類 | E18: ①布団 ②毛布 ③座布団 ⑩その他
A19: 05 | B19: 電気 通信機器 | C19: 16 | D19: 家庭用電化製品 | E19: ①テレビ ②録画再生機 ③冷蔵庫 ④掃除機 ⑤洗濯機 ⑥空気清浄機 ⑦加湿器 ⑧電子レンジ ⑨施設用電器部品 ⑩その他
C20: 17 | D20: 音響器具 | E20: ①アンプ ②マイク ⑩その他
C21: 18 | D21: 通信機器 | E21: ①電話機（携帯電話含む） ②FAX ③無線機 ⑩その他
A22: 06 | B22: 冷暖房器具類 | C22: 19 | D22: 電気冷暖房器具 | E22: ①エアコン ②扇風機 ③電気ストーブ ⑩その他
C23: 20 | D23: 石油・ガス暖房器具 | E23: ①石油暖房機 ②ガス暖房機 ⑩その他
A24: 07 | B24: 厨房器具 | C24: 21 | D24: 厨房機器 | E24: ①シンク ②ガステーブル ③給食用厨房機器 ⑩その他
C25: 22 | D25: 食器 調理用器具 | E25: ①給食用食器類 ②鍋 ③食缶 ⑩その他
C26: 23 | D26: 厨房用消耗品 | E26: ①調理用ポリ手袋 ②ポリ袋 ③食品包装用ラップ ④食中毒予防消耗品 ⑩その他
A27: 中分類№ | B27: 中分類名 | C27: 小分類№ | D27: 小分類名 | E27: 取扱品目・業務内容例示 | F27: 登録上の要件 （許認可・登録等の資格）
A28: 08 | B28: 医療 衛生 薬品 | C28: 24 | D28: 医療用機器 器具 | E28: ①ＡＥＤ ②診療所用医療機器 ③薬用保冷庫 ④保健室用機器 ⑩その他 | F28: 高度管理医療機器等販売業許可、管理医療機器販売業届、医療用具販売業届
C29: 25 | D29: 福祉機器 介護用品 | E29: ①車椅子 ②リハビリ器具 ③補聴器 ④介護用品 ⑩その他
C30: 26 | D30: 衛生材料 | E30: ①包帯 ②ガーゼ ③脱脂綿 ④マスク ⑤手指消毒剤 ⑩その他
C31: 27 | D31: 医療薬品 | E31: ①医薬品 ②ワクチン ⑩その他 | F31: 薬局開設許可、医薬品販売業許可、動物用医薬品販売業許可
C32: 28 | D32: 防疫用薬品 | E32: ①害虫防除剤 ⑩その他 | F32: 医薬品販売業許可、毒物劇物販売業登録
C33: 29 | D33: 農業薬品 | E33: ①農薬 ②除草剤 ⑩その他 | F33: 農薬販売届
C34: 30 | D34: 工業薬品 | E34: ①下水道処理施設使用薬品 ②水道水処理施設使用薬品 ③プール薬品 ⑩その他
A35: 09 | B35: 産業機器 （医療用以外） | C35: 31 | D35: 計測機器 | E35: ①水質・環境測定機器 ②計量機器 ③観測機器 ④分析機器 ⑩その他
C36: 32 | D36: 農畜用機器 | E36: ①草刈機 ②刈払機 ③動力トラクター ④コンバイン ⑩その他
C37: 33 | D37: 環境用機器 | E37: ①生ごみ処理機 ②分煙機 ⑩その他
C38: 34 | D38: 一般工作機器 | E38: ①小型除雪機 ②発電機 ③クレーン ⑩その他
C39: 35 | D39: 上下水道用機器 | E39: ①水道メーター ②可搬式ポンプ ③汚泥脱水機 ④漏水防止機器 ⑤各種用水処理装置 ⑩その他
C40: 36 | D40: 有機資源センター用機器 | E40: ①たい肥製造用資材（かくはん機部品 チェーン） ⑩その他
...

Sheet 【記載例】
A1: 別紙
A2: 希望する営業種目表 【記載例】
A3: 入札（見積）を希望する順（15位まで）に以下に記入してください。
A4: 順位 | C4: 小分類 № | E4: 小分類名 | I4: 番号 | J4: 取扱品目・業務内容 | P4: 許認可・登録等の資格 ＊証明書、免許等を添付すること | Z4: 取扱品目のメーカー名 ＊代理店等の場合は証明書を添付すること
A6: 1 | C6: 02 | E6: 事務用機器 | I6: ① | J6: 複写機 | Z6: ㈱シバタ、㈱ケイヤク
I7: ② | J7: 印刷機
I8: ④ | J8: 紙折り機
I15: ⑩ | J15: その他（レジスタ）
A16: 2 | C16: 24 | E16: 医療用機器 器具 | I16: ① | J16: ＡＥＤ | P16: 高度管理医療機器等販売業許可
I17: ② | J17: 診療所用医療機器 | P17: 管理医療機器販売業届、医療用具販売業届
I25: ⑩ | J25: その他（ ）
A26: 3 | C26: 107 | E26: 下水道処理施設等維持管理 | I26: ① | J26: 下水道処理施設等維持管理 | P26: 下水道処理施設維持管理業者登録、浄化槽保守点検登録
I35: ⑩ | J35: その他（ ）
A36: 4
I45: ⑩ | J45: その他（ ）
A46: 5
I55: ⑩ | J55: その他（ ）

Sheet 営業種目一覧
B2: 中分類№ | C2: 中分類名 | D2: 小分類№ | E2: 小分類名 | G2: 取扱品目・業務内容例示
B3: 01 | C3: 文具 事務機器 | D3: 01 | E3: 事務用品 スチール製品 | F3: ① | G3: 文房具 | H3: ② | I3: コピー用紙 | J3: ③ | K3: 印刷用紙 | L3: ④ | M3: 事務用机・椅子 | N3: ⑤ | O3: 保管庫 | P3: ⑩ | Q3: その他
B4: 01 | C4: 文具 事務機器 | D4: 02 | E4: 事務用機器 | F4: ① | G4: 複写機 | H4: ② | I4: 印刷機 | J4: ③ | K4: 裁断機 | L4: ④ | M4: 紙折り機 | N4: ⑤ | O4: 圧着機 | P4: ⑥ | Q4: 郵便計器 | R4: ⑩ | S4: その他
B5: 01 | C5: 文具 事務機器 | D5: 03 | E5: 施設用機器 | F5: ① | G5: 自動販売機 | H5: ② | I5: 駐車場発券機 | J5: ⑩ | K5: その他
B6: 01 | C6: 文具 事務機器 | D6: 04 | E6: ＯＡ機器及び関連商品 | F6: ① | G6: パソコン | H6: ② | I6: サーバー | J6: ③ | K6: プリンター | L6: ④ | M6: コンピューター周辺機器 | N6: ⑤ | O6: ソフトウエア | P6: ⑥ | Q6: トナーカートリッジ | R6: ⑩ | S6: その他
B7: 01 | C7: 文具 事務機器 | D7: 05 | E7: 印章 | F7: ① | G7: 印鑑 | H7: ② | I7: 公印 | J7: ③ | K7: 作成印 | L7: ④ | M7: ゴム印 | N7: ⑩ | O7: その他
B8: 02 | C8: 家具 | D8: 06 | E8: 室内装飾品 | F8: ① | G8: カーテン | H8: ② | I8: ブラインド | J8: ③ | K8: 暗幕 | L8: ④ | M8: じゅうたん・カーペット | N8: ⑤ | O8: 畳 | P8: ⑥ | Q8: 間仕切り | R8: ⑩ | S8: その他
B9: 02 | C9: 家具 | D9: 07 | E9: 家具 | F9: ① | G9: 机・椅子 | H9: ② | I9: 応接セット | J9: ③ | K9: 木製家具 | L9: ④ | M9: オーダーメイド家具 | N9: ⑤ | O9: カプセルベッド | P9: ⑩ | Q9: その他
B10: 03 | C10: 被服 寝具 | D10: 08 | E10: 着衣類 | F10: ① | G10: 調理用服 | H10: ② | I10: 作業服 | J10: ③ | K10: 防寒着 | L10: ④ | M10: 雨具 | N10: ⑤ | O10: 帽子 | P10: ⑩ | Q10: その他
B11: 03 | C11: 被服 寝具 | D11: 09 | E11: 靴 | F11: ① | G11: 教育シューズ | H11: ② | I11: 安全靴 | J11: ③ | K11: 室内履き | L11: ④ | M11: 厨房シューズ | N11: ⑤ | O11: 長靴 | P11: ⑩ | Q11: その他
B12: 03 | C12: 被服 寝具 | D12: 10 | E12: 寝具類 | F12: ① | G12: 布団 | H12: ② | I12: 毛布 | J12: ③ | K12: 座布団 | L12: ⑩ | M12: その他
B13: 04 | C13: 電気 通信機器 | D13: 11 | E13: 家庭用電化製品及び関連商品 | F13: ① | G13: テレビ | H13: ② | I13: 録画再生機 | J13: ③ | K13: 冷蔵庫 | L13: ④ | M13: 掃除機 | N13: ⑤ | O13: 洗濯機 | P13: ⑥ | Q13: 空気清浄機・加湿器 | R13: ⑦ | S13: 電子レンジ | T13: ⑧ | U13: 乾電池 | V13: ⑨ | W13: コンセント | X13: ⑩ | Y13: その他
B14: 04 | C14: 電気 通信機器 | D14: 12 | E14: 音響器具 | F14: ① | G14: アンプ | H14: ② | I14: マイク | J14: ⑩ | K14: その他
B15: 04 | C15: 電気 通信機器 | D15: 13 | E15: 通信機器 | F15: ① | G15: 電話機（携帯電話含む） | H15: ② | I15: FAX | J15: ③ | K15: 無線機 | L15: ⑩ | M15: その他
B16: 05 | C16: 冷暖房器具類 | D16: 14 | E16: 電気冷暖房機器 | F16: ① | G16: 空調機器 | H16: ② | I16: 扇風機 | J16: ③ | K16: 電気ストーブ | L16: ⑩ | M16: その他
B17: 05 | C17: 冷暖房器具類 | D17: 15 | E17: 石油・ガス暖房器具 | F17: ① | G17: 石油暖房機 | H17: ② | I17: ガス暖房機 | J17: ⑩ | K17: その他
B18: 06 | C18: 厨房器具 | D18: 16 | E18: 厨房機器 | F18: ① | G18: シンク | H18: ② | I18: ガステーブル | J18: ③ | K18: 給食用厨房機器 | L18: ⑩ | M18: その他
B19: 06 | C19: 厨房器具 | D19: 17 | E19: 食器 調理用器具 | F19: ① | G19: 給食用食器類 | H19: ② | I19: 鍋 | J19: ③ | K19: 食缶 | L19: ⑩ | M19: その他
B20: 06 | C20: 厨房器具 | D20: 18 | E20: 厨房用消耗品 | F20: ① | G20: 調理用ポリ手袋 | H20: ② | I20: ポリ袋 | J20: ③ | K20: 食品包装用ラップ | L20: ④ | M20: 食中毒予防消耗品 | N20: ⑩ | O20: その他
B21: 07 | C21: 医療 衛生 薬品 | D21: 19 | E21: 医療用機器 器具 | F21: ① | G21: ＡＥＤ | H21: ② | I21: 診療所用医療用機器 | J21: ③ | K21: 薬用保冷庫 | L21: ④ | M21: 保健室用機器 | N21: ⑩ | O21: その他
B22: 07 | C22: 医療 衛生 薬品 | D22: 20 | E22: 福祉機器 介護用品 | F22: ① | G22: 車椅子 | H22: ② | I22: リハビリ器具 | J22: ③ | K22: 補聴器 | L22: ④ | M22: 介護用品 | N22: ⑩ | O22: その他
B23: 07 | C23: 医療 衛生 薬品 | D23: 21 | E23: 衛生材料 | F23: ① | G23: 包帯 | H23: ② | I23: ガーゼ | J23: ③ | K23: 脱脂綿 | L23: ④ | M23: マスク | N23: ⑤ | O23: 手指消毒剤 | P23: ⑩ | Q23: その他
B24: 07 | C24: 医療 衛生 薬品 | D24: 22 | E24: 医療薬品 | F24: ① | G24: 医薬品 | H24: ② | I24: ワクチン | J24: ⑩ | K24: その他
B25: 07 | C25: 医療 衛生 薬品 | D25: 23 | E25: 防疫用薬品 | F25: ① | G25: 害虫防除剤 | H25: ⑩ | I25: その他
B26: 07 | C26: 医療 衛生 薬品 | D26: 24 | E26: 工業薬品 | F26: ① | G26: 下水道処理施設使用薬品 | H26: ② | I26: 水道水処理施設使用薬品 | J26: ③ | K26: プール薬品 | L26: ⑩ | M26: その他
B27: 07 | C27: 医療 衛生 薬品 | D27: 25 | E27: 農業薬品 | F27: ① | G27: 農薬 | H27: ② | I27: 除草剤 | J27: ⑩ | K27: その他
B28: 08 | C28: 産業機器 （医療用以外） | D28: 26 | E28: 計測機器 | F28: ① | G28: 水質・環境測定用機器 | H28: ② | I28: 計量機器 | J28: ③ | K28: 観測機器 | L28: ④ | M28: 分析機器 | N28: ⑩ | O28: その他
B29: 08 | C29: 産業機器 （医療用以外） | D29: 27 | E29: 農畜用機器 | F29: ① | G29: 草刈機 | H29: ② | I29: 刈払機 | J29: ③ | K29: 動力トラクター | L29: ④ | M29: コンバイン | N29: ⑩ | O29: その他
B30: 08 | C30: 産業機器 （医療用以外） | D30: 28 | E30: 環境用機器 | F30: ① | G30: 生ごみ処理機 | H30: ② | I30: 分煙機 | J30: ⑩ | K30: その他
B31: 08 | C31: 産業機器 （医療用以外） | D31: 29 | E31: 一般工作機器 | F31: ① | G31: 小型除雪機 | H31: ② | I31: 発電機 | J31: ③ | K31: クレーン | L31: ⑩ | M31: その他
B32: 08 | C32: 産業機器 （医療用以外） | D32: 30 | E32: ごみ処理施設用品 | F32: ① | G32: クレーン | H32: ② | I32: 破砕機 | J32: ③ | K32: ろ布 | L32: ④ | M32: 火格子 | N32: ⑤ | O32: 耐火レンガ | P32: ⑥ | Q32: ごみ焼却施設用部品 | R32: ⑩ | S32: その他
B33: 08 | C33: 産業機器 （医療用以外） | D33: 31 | E33: 上下水道用機器 | F33: ① | G33: 水道メーター | H33: ② | I33: 可搬式ポンプ | J33: ③ | K33: 水中ポンプ | L33: ④ | M33: 水中エアレーター | N33: ⑤ | O33: 水中ミキサー | P33: ⑥ | Q33: 汚泥脱水機 | R33: ⑦ | S33: 漏水防止機器 | T33: ⑧ | U33: 各種用水処理装置 | V33: ⑩ | W33: その他
B34: 09 | C34: 精密機械 | D34: 32 | E34: カメラ 写真材料 | F34: ① | G34: カメラ | H34: ② | I34: 映写機 | J34: ③ | K34: フィルム・写真材料 | L34: ④ | M34: 写真撮影器具 | N34: ⑤ | O34: 現像 | P34: ⑩ | Q34: その他
B35: 09 | C35: 精密機械 | D35: 33 | E35: 時計 眼鏡 | F35: ① | G35: 時計 | H35: ② | I35: 眼鏡 | J35: ⑩ | K35: その他
B36: 10 | C36: 標識 看板 旗類 | D36: 34 | E36: 道路標識 | F36: ① | G36: 道路標識 | H36: ② | I36: スノーポール | J36: ③ | K36: カーブミラー | L36: ④ | M36: デリネーター | N36: ⑩ | O36: その他
B37: 10 | C37: 標識 看板 旗類 | D37: 35 | E37: 看板 | F37: ① | G37: スチール看板 | H37: ② | I37: アクリル看板 | J37: ③ | K37: 木製看板 | L37: ④ | M37: マグネットシート | N37: ⑩ | O37: その他
B38: 10 | C38: 標識 看板 旗類 | D38: 36 | E38: 横断幕 のぼり旗 | F38: ① | G38: 消防団旗 | H38: ② | I38: 横断幕 | J38: ③ | K38: のぼり旗 | L38: ⑩ | M38: その他
B39: 11 | C39: 工事用材料 | D39: 37 | E39: 鋼材 | F39: ① | G39: 鉄筋 | H39: ② | I39: 鉄骨 | J39: ③ | K39: 鋼管 | L39: ④ | M39: アルミ | N39: ⑩ | O39: その他
B40: 11 | C40: 工事用材料 | D40: 38 | E40: コンクリート セメント 舗装材 | F40: ① | G40: アスファルト混合物 | H40: ② | I40: セメント | J40: ③ | K40: 石灰 | L40: ④ | M40: コンクリート | N40: ⑤ | O40: 舗装用資材 | P40: ⑥ | Q40: 潤滑油 | R40: ⑦ | S40: 融雪剤 | T40: ⑧ | U40: 凍結防止剤 | V40: ⑨ | W40: 常温合剤 | X40: ⑩ | Y40: その他
B41: 11 | C41: 工事用材料 | D41: 39 | E41: 石材 | F41: ① | G41: 砂 | H41: ② | I41: 砂利 | J41: ③ | K41: 土 | L41: ④ | M41: 人造石 | N41: ⑤ | O41: 砕石 | P41: ⑥ | Q41: レンガ | R41: ⑦ | S41: ブロック | T41: ⑩ | U41: その他
...

Sheet 選択科目(縦欄)
B1: 小分類 № | C1: 小分類名 | D1: 番号 | E1: 取扱品目・業務内容
A2: =B2&D2 -> 011 | B2: 01 | C2: 事務用品 スチール製品 | D2: 1 | E2: 文房具
A3: =B3&D3 -> 012 | B3: 01 | C3: 事務用品 スチール製品 | D3: 2 | E3: コピー用紙
A4: =B4&D4 -> 013 | B4: 01 | C4: 事務用品 スチール製品 | D4: 3 | E4: 印刷用紙
A5: =B5&D5 -> 014 | B5: 01 | C5: 事務用品 スチール製品 | D5: 4 | E5: 事務用机・椅子
A6: =B6&D6 -> 015 | B6: 01 | C6: 事務用品 スチール製品 | D6: 5 | E6: 保管庫
A7: =B7&D7 -> 021 | B7: 02 | C7: 事務用機器 | D7: 1 | E7: 複写機
A8: =B8&D8 -> 022 | B8: 02 | C8: 事務用機器 | D8: 2 | E8: 印刷機
A9: =B9&D9 -> 023 | B9: 02 | C9: 事務用機器 | D9: 3 | E9: 裁断機
A10: =B10&D10 -> 024 | B10: 02 | C10: 事務用機器 | D10: 4 | E10: 紙折り機
A11: =B11&D11 -> 025 | B11: 02 | C11: 事務用機器 | D11: 5 | E11: 圧着機
A12: =B12&D12 -> 026 | B12: 02 | C12: 事務用機器 | D12: 6 | E12: 郵便計器
A13: =B13&D13 -> 031 | B13: 03 | C13: 施設用機器 | D13: 1 | E13: 自動販売機
... A384: =B384&D384 -> 1261 | B384: 126 | C384: 人材派遣 | D384: 1 | E384: 人材派遣
A385: =B385&D385 -> 1271 | B385: 127 | C385: OA機器 事務機器 | D385: 1 | E385: コンピュータ機器
A386: =B386&D386 -> 1272 | B386: 127 | C386: OA機器 事務機器 | D386: 2 | E386: システム
A387: =B387&D387 -> 1273 | B387: 127 | C387: OA機器 事務機器 | D387: 3 | E387: 複写機・複合機
A388: =B388&D388 -> 1274 | B388: 127 | C388: OA機器 事務機器 | D388: 4 | E388: 照明器具
A389: =B389&D389 -> 1275 | B389: 127 | C389: OA機器 事務機器 | D389: 5 | E389: 空調機器
A390: =B390&D390 -> 1276 | B390: 127 | C390: OA機器 事務機器 | D390: 6 | E390: 通信機器
A391: =B391&D391 -> 1281 | B391: 128 | C391: 医療用機器 | D391: 1 | E391: 診療所等の医療用機器・器具
A392: =B392&D392 -> 1282 | B392: 128 | C392: 医療用機器 | D392: 2 | E392: AED
A393: =B393&D393 -> 1283 | B393: 128 | C393: 医療用機器 | D393: 3 | E393: 人工呼吸器
A394: =B394&D394 -> 1291 | B394: 129 | C394: 自動車 | D394: 1 | E394: メンテナンス付自動車リース
A395: =B395&D395 -> 1292 | B395: 129 | C395: 自動車 | D395: 2 | E395: ファイナンス自動車リース
A396: =B396&D396 -> 1293 | B396: 129 | C396: 自動車 | D396: 3 | E396: 重機
... A426: =B426&D426 -> 1371 | B426: 137 | C426: 上記以外のレンタル | D426: 1 | E426: （具体的に入力してください。）

Sheet 番号書換
A1: ① | B1: 1
A2: ② | B2: 2
A3: ③ | B3: 3
A4: ④ | B4: 4
A5: ⑤ | B5: 5
A6: ⑥ | B6: 6
A7: ⑦ | B7: 7
A8: ⑧ | B8: 8
A9: ⑨ | B9: 9
A10: ⑩ | B10: 10

Sheet 変換
D3: ① | E3: ② | F3: ③ | G3: ④ | H3: ⑤ | I3: ⑥ | J3: ⑦ | K3: ⑧ | L3: ⑨ | M3: ⑩
B4: =分類表!C4 -> 01 | C4: =分類表!D4 -> 事務用品 スチール製品 | D4: =IF(ISERROR(MID(分類表!$E4,FIND(D$3,分類表!$E4)+1,IF(ISERROR(FIND(E$3,分類表!$E4)-1-FIND(D$3,分類表!$E4)),FIND($M$3,分類表!$E4)-1-FIND(D$3,分類表!$E4)-1,FIND(E$3,分類表!$E4)-1-FIND(D$3,分類表!$E4)-1))),"",MID(分類表!$E4,FIND(D$3,分類表!$E4)+1,IF(ISERROR(FIND(E$3,分類表!$E4)-1-FIND(D$3,分類表!$E4)),FIND($M$3,分類表!$E4)-1-FIND(D$3,分類表!$E4)-1,FIND(E$3,分類表!$E4)-1-FIND(D$3,分類表!$E4)-1))) -> 文房具 | E4: =IF(ISERROR(MID(分類表!$E4,FIND(E$3,分類表!$E4)+1,IF(ISERROR(FIND(F$3,分類表!$E4)-1-FIND(E$3,分類表!$E4)),FIND($M$3,分類表!$E4)-1-FIND(E$3,分類表!$E4)-1,FIND(F$3,分類表!$E4)-1-FIND(E$3,分類表!$E4)-1))),"",MID(分類表!$E4,FIND(E$3,分類表!$E4)+1,IF(ISERROR(FIND(F$3,分類表!$E4)-1-FIND(E$3,分類表!$E4)),FIND($M$3,分類表!$E4)-1-FIND(E$3,分類表!$E4)-1,FIND(F$3,分類表!$E4)-1-FIND(E$3,分類表!$E4)-1))) -> コピー用紙 | F4: =IF(ISERROR(MID(分類表!$E4,FIND(F$3,分類表!$E4)+1,IF(ISERROR(FIND(G$3,分類表!$E4)-1-FIND(F$3,分類表!$E4)),FIND($M$3,分類表!$E4)-1-FIND(F$3,分類表!$E4)-1,FIND(G$3,分類表!$E4)-1-FIND(F$3,分類表!$E4)-1))),"",MID(分類表!$E4,FIND(F$3,分類表!$E4)+1,IF(ISERROR(FIND(G$3,分類表!$E4)-1-FIND(F$3,分類表!$E4)),FIND($M$3,分類表!$E4)-1-FIND(F$3,分類表!$E4)-1,FIND(G$3,分類表!$E4)-1-FIND(F$3,分類表!$E4)-1))) -> 印刷用紙 | G4: =IF(ISERROR(MID(分類表!$E4,FIND(G$3,分類表!$E4)+1,IF(ISERROR(FIND(H$3,分類表!$E4)-1-FIND(G$3,分類表!$E4)),FIND($M$3,分類表!$E4)-1-FIND(G$3,分類表!$E4)-1,FIND(H$3,分類表!$E4)-1-FIND(G$3,分類表!$E4)-1))),"",MID(分類表!$E4,FIND(G$3,分類表!$E4)+1,IF(ISERROR(FIND(H$3,分類表!$E4)-1-FIND(G$3,分類表!$E4)),FIND($M$3,分類表!$E4)-1-FIND(G$3,分類表!$E4)-1,FIND(H$3,分類表!$E4)-1-FIND(G$3,分類表!$E4)-1))) -> 事務用机・椅子 | H4: =IF(ISERROR(MID(分類表!$E4,FIND(H$3,分類表!$E4)+1,IF(ISERROR(FIND(I$3,分類表!$E4)-1-FIND(H$3,分類表!$E4)),FIND($M$3,分類表!$E4)-1-FIND(H$3,分類表!$E4)-1,FIND(I$3,分類表!$E4)-1-FIND(H$3,分類表!$E4)-1))),"",MID(分類表!$E4,FIND(H$3,分類表!$E4)+1,IF(ISERROR(FIND(I$3,分類表!$E4)-1-FIND(H$3,分類表!$E4)),FIND($M$3,分類表!$E4)-1-FIND(H$3,分類表!$E4)-1,FIND(I$3,分類表!$E4)-1-FIND(H$3,分類表!$E4)-1))) -> 保管庫 | I4: =IF(ISERROR(MID(分類表!$E4,FIND(I$3,分類表!$E4)+1,IF(ISERROR(FIND(J$3,分類表!$E4)-1-FIND(I$3,分類表!$E4)),FIND($M$3,分類表!$E4)-1-FIND(I$3,分類表!$E4)-1,FIND(J$3,分類表!$E4)-1-FIND(I$3,分類表!$E4)-1))),"",MID(分類表!$E4,FIND(I$3,分類表!$E4)+1,IF(ISERROR(FIND(J$3,分類表!$E4)-1-FIND(I$3,分類表!$E4)),FIND($M$3,分類表!$E4)-1-FIND(I$3,分類表!$E4)-1,FIND(J$3,分類表!$E4)-1-FIND(I$3,分類表!$E4)-1))) | J4: =IF(ISERROR(MID(分類表!$E4,FIND(J$3,分類表!$E4)+1,IF(ISERROR(FIND(K$3,分類表!$E4)-1-FIND(J$3,分類表!$E4)),FIND($M$3,分類表!$E4)-1-FIND(J$3,分類表!$E4)-1,FIND(K$3,分類表!$E4)-1-FIND(J$3,分類表!$E4)-1))),"",MID(分類表!$E4,FIND(J$3,分類表!$E4)+1,IF(ISERROR(FIND(K$3,分類表!$E4)-1-FIND(J$3,分類表!$E4)),FIND($M$3,分類表!$E4)-1-FIND(J$3,分類表!$E4)-1,FIND(K$3,分類表!$E4)-1-FIND(J$3,分類表!$E4)-1))) | K4: =IF(ISERROR(MID(分類表!$E4,FIND(K$3,分類表!$E4)+1,IF(ISERROR(FIND(L$3,分類表!$E4)-1-FIND(K$3,分類表!$E4)),FIND($M$3,分類表!$E4)-1-FIND(K$3,分類表!$E4)-1,FIND(L$3,分類表!$E4)-1-FIND(K$3,分類表!$E4)-1))),"",MID(分類表!$E4,FIND(K$3,分類表!$E4)+1,IF(ISERROR(FIND(L$3,分類表!$E4)-1-FIND(K$3,分類表!$E4)),FIND($M$3,分類表!$E4)-1-FIND(K$3,分類表!$E4)-1,FIND(L$3,分類表!$E4)-1-FIND(K$3,分類表!$E4)-1))) | L4: =IF(ISERROR(MID(分類表!$E4,FIND(L$3,分類表!$E4)+1,IF(ISERROR(FIND(M$3,分類表!$E4)-1-FIND(L$3,分類表!$E4)),FIND($M$3,分類表!$E4)-1-FIND(L$3,分類表!$E4)-1,FIND(M$3,分類表!$E4)-1-FIND(L$3,分類表!$E4)-1))),"",MID(分類表!$E4,FIND(L$3,分類表!$E4)+1,IF(ISERROR(FIND(M$3,分類表!$E4)-1-FIND(L$3,分類表!$E4)),FIND($M$3,分類表!$E4)-1-FIND(L$3,分類表!$E4)-1,FIND(M$3,分類表!$E4)-1-FIND(L$3,分類表!$E4)-1))) | M4: =IF(ISERROR(MID(分類表!$E4,FIND(M$3,分類表!$E4)+1,LEN(分類表!$E4)-FIND(M$3,分類表!$E4)+1)),"",MID(分類表!$E4,FIND(M$3,分類表!$E4)+1,LEN(分類表!$E4)-FIND(M$3,分類表!$E4)+1)) -> その他 | O4: ① | P4: 1
B5: =分類表!C5 -> 02 | C5: =分類表!D5 -> 事務用機器 | D5: =IF(ISERROR(MID(分類表!$E5,FIND(D$3,分類表!$E5)+1,IF(ISERROR(FIND(E$3,分類表!$E5)-1-FIND(D$3,分類表!$E5)),FIND($M$3,分類表!$E5)-1-FIND(D$3,分類表!$E5)-1,FIND(E$3,分類表!$E5)-1-FIND(D$3,分類表!$E5)-1))),"",MID(分類表!$E5,FIND(D$3,分類表!$E5)+1,IF(ISERROR(FIND(E$3,分類表!$E5)-1-FIND(D$3,分類表!$E5)),FIND($M$3,分類表!$E5)-1-FIND(D$3,分類表!$E5)-1,FIND(E$3,分類表!$E5)-1-FIND(D$3,分類表!$E5)-1))) -> 複写機 | E5: =IF(ISERROR(MID(分類表!$E5,FIND(E$3,分類表!$E5)+1,IF(ISERROR(FIND(F$3,分類表!$E5)-1-FIND(E$3,分類表!$E5)),FIND($M$3,分類表!$E5)-1-FIND(E$3,分類表!$E5)-1,FIND(F$3,分類表!$E5)-1-FIND(E$3,分類表!$E5)-1))),"",MID(分類表!$E5,FIND(E$3,分類表!$E5)+1,IF(ISERROR(FIND(F$3,分類表!$E5)-1-FIND(E$3,分類表!$E5)),FIND($M$3,分類表!$E5)-1-FIND(E$3,分類表!$E5)-1,FIND(F$3,分類表!$E5)-1-FIND(E$3,分類表!$E5)-1))) -> 印刷機 | F5: =IF(ISERROR(MID(分類表!$E5,FIND(F$3,分類表!$E5)+1,IF(ISERROR(FIND(G$3,分類表!$E5)-1-FIND(F$3,分類表!$E5)),FIND($M$3,分類表!$E5)-1-FIND(F$3,分類表!$E5)-1,FIND(G$3,分類表!$E5)-1-FIND(F$3,分類表!$E5)-1))),"",MID(分類表!$E5,FIND(F$3,分類表!$E5)+1,IF(ISERROR(FIND(G$3,分類表!$E5)-1-FIND(F$3,分類表!$E5)),FIND($M$3,分類表!$E5)-1-FIND(F$3,分類表!$E5)-1,FIND(G$3,分類表!$E5)-1-FIND(F$3,分類表!$E5)-1))) -> 裁断機 | G5: =IF(ISERROR(MID(分類表!$E5,FIND(G$3,分類表!$E5)+1,IF(ISERROR(FIND(H$3,分類表!$E5)-1-FIND(G$3,分類表!$E5)),FIND($M$3,分類表!$E5)-1-FIND(G$3,分類表!$E5)-1,FIND(H$3,分類表!$E5)-1-FIND(G$3,分類表!$E5)-1))),"",MID(分類表!$E5,FIND(G$3,分類表!$E5)+1,IF(ISERROR(FIND(H$3,分類表!$E5)-1-FIND(G$3,分類表!$E5)),FIND($M$3,分類表!$E5)-1-FIND(G$3,分類表!$E5)-1,FIND(H$3,分類表!$E5)-1-FIND(G$3,分類表!$E5)-1))) -> 紙折り機 | H5: =IF(ISERROR(MID(分類表!$E5,FIND(H$3,分類表!$E5)+1,IF(ISERROR(FIND(I$3,分類表!$E5)-1-FIND(H$3,分類表!$E5)),FIND($M$3,分類表!$E5)-1-FIND(H$3,分類表!$E5)-1,FIND(I$3,分類表!$E5)-1-FIND(H$3,分類表!$E5)-1))),"",MID(分類表!$E5,FIND(H$3,分類表!$E5)+1,IF(ISERROR(FIND(I$3,分類表!$E5)-1-FIND(H$3,分類表!$E5)),FIND($M$3,分類表!$E5)-1-FIND(H$3,分類表!$E5)-1,FIND(I$3,分類表!$E5)-1-FIND(H$3,分類表!$E5)-1))) -> 圧着機 | I5: =IF(ISERROR(MID(分類表!$E5,FIND(I$3,分類表!$E5)+1,IF(ISERROR(FIND(J$3,分類表!$E5)-1-FIND(I$3,分類表!$E5)),FIND($M$3,分類表!$E5)-1-FIND(I$3,分類表!$E5)-1,FIND(J$3,分類表!$E5)-1-FIND(I$3,分類表!$E5)-1))),"",MID(分類表!$E5,FIND(I$3,分類表!$E5)+1,IF(ISERROR(FIND(J$3,分類表!$E5)-1-FIND(I$3,分類表!$E5)),FIND($M$3,分類表!$E5)-1-FIND(I$3,分類表!$E5)-1,FIND(J$3,分類表!$E5)-1-FIND(I$3,分類表!$E5)-1))) -> 郵便計器 | J5: =IF(ISERROR(MID(分類表!$E5,FIND(J$3,分類表!$E5)+1,IF(ISERROR(FIND(K$3,分類表!$E5)-1-FIND(J$3,分類表!$E5)),FIND($M$3,分類表!$E5)-1-FIND(J$3,分類表!$E5)-1,FIND(K$3,分類表!$E5)-1-FIND(J$3,分類表!$E5)-1))),"",MID(分類表!$E5,FIND(J$3,分類表!$E5)+1,IF(ISERROR(FIND(K$3,分類表!$E5)-1-FIND(J$3,分類表!$E5)),FIND($M$3,分類表!$E5)-1-FIND(J$3,分類表!$E5)-1,FIND(K$3,分類表!$E5)-1-FIND(J$3,分類表!$E5)-1))) | K5: =IF(ISERROR(MID(分類表!$E5,FIND(K$3,分類表!$E5)+1,IF(ISERROR(FIND(L$3,分類表!$E5)-1-FIND(K$3,分類表!$E5)),FIND($M$3,分類表!$E5)-1-FIND(K$3,分類表!$E5)-1,FIND(L$3,分類表!$E5)-1-FIND(K$3,分類表!$E5)-1))),"",MID(分類表!$E5,FIND(K$3,分類表!$E5)+1,IF(ISERROR(FIND(L$3,分類表!$E5)-1-FIND(K$3,分類表!$E5)),FIND($M$3,分類表!$E5)-1-FIND(K$3,分類表!$E5)-1,FIND(L$3,分類表!$E5)-1-FIND(K$3,分類表!$E5)-1))) | L5: =IF(ISERROR(MID(分類表!$E5,FIND(L$3,分類表!$E5)+1,IF(ISERROR(FIND(M$3,分類表!$E5)-1-FIND(L$3,分類表!$E5)),FIND($M$3,分類表!$E5)-1-FIND(L$3,分類表!$E5)-1,FIND(M$3,分類表!$E5)-1-FIND(L$3,分類表!$E5)-1))),"",MID(分類表!$E5,FIND(L$3,分類表!$E5)+1,IF(ISERROR(FIND(M$3,分類表!$E5)-1-FIND(L$3,分類表!$E5)),FIND($M$3,分類表!$E5)-1-FIND(L$3,分類表!$E5)-1,FIND(M$3,分類表!$E5)-1-FIND(L$3,分類表!$E5)-1))) | M5: =IF(ISERROR(MID(分類表!$E5,FIND(M$3,分類表!$E5)+1,LEN(分類表!$E5)-FIND(M$3,分類表!$E5)+1)),"",MID(分類表!$E5,FIND(M$3,分類表!$E5)+1,LEN(分類表!$E5)-FIND(M$3,分類表!$E5)+1)) -> その他 | O5: ② | P5: 2
B6: =分類表!C6 -> 03 | C6: =分類表!D6 -> 施設用機器 | D6: =IF(ISERROR(MID(分類表!$E6,FIND(D$3,分類表!$E6)+1,IF(ISERROR(FIND(E$3,分類表!$E6)-1-FIND(D$3,分類表!$E6)),FIND($M$3,分類表!$E6)-1-FIND(D$3,分類表!$E6)-1,FIND(E$3,分類表!$E6)-1-FIND(D$3,分類表!$E6)-1))),"",MID(分類表!$E6,FIND(D$3,分類表!$E6)+1,IF(ISERROR(FIND(E$3,分類表!$E6)-1-FIND(D$3,分類表!$E6)),FIND($M$3,分類表!$E6)-1-FIND(D$3,分類表!$E6)-1,FIND(E$3,分類表!$E6)-1-FIND(D$3,分類表!$E6)-1))) -> 自動券売機 | E6: =IF(ISERROR(MID(分類表!$E6,FIND(E$3,分類表!$E6)+1,IF(ISERROR(FIND(F$3,分類表!$E6)-1-FIND(E$3,分類表!$E6)),FIND($M$3,分類表!$E6)-1-FIND(E$3,分類表!$E6)-1,FIND(F$3,分類表!$E6)-1-FIND(E$3,分類表!$E6)-1))),"",MID(分類表!$E6,FIND(E$3,分類表!$E6)+1,IF(ISERROR(FIND(F$3,分類表!$E6)-1-FIND(E$3,分類表!$E6)),FIND($M$3,分類表!$E6)-1-FIND(E$3,分類表!$E6)-1,FIND(F$3,分類表!$E6)-1-FIND(E$3,分類表!$E6)-1))) -> 駐車場用発券機 | F6: =IF(ISERROR(MID(分類表!$E6,FIND(F$3,分類表!$E6)+1,IF(ISERROR(FIND(G$3,分類表!$E6)-1-FIND(F$3,分類表!$E6)),FIND($M$3,分類表!$E6)-1-FIND(F$3,分類表!$E6)-1,FIND(G$3,分類表!$E6)-1-FIND(F$3,分類表!$E6)-1))),"",MID(分類表!$E6,FIND(F$3,分類表!$E6)+1,IF(ISERROR(FIND(G$3,分類表!$E6)-1-FIND(F$3,分類表!$E6)),FIND($M$3,分類表!$E6)-1-FIND(F$3,分類表!$E6)-1,FIND(G$3,分類表!$E6)-1-FIND(F$3,分類表!$E6)-1))) | G6: =IF(ISERROR(MID(分類表!$E6,FIND(G$3,分類表!$E6)+1,IF(ISERROR(FIND(H$3,分類表!$E6)-1-FIND(G$3,分類表!$E6)),FIND($M$3,分類表!$E6)-1-FIND(G$3,分類表!$E6)-1,FIND(H$3,分類表!$E6)-1-FIND(G$3,分類表!$E6)-1))),"",MID(分類表!$E6,FIND(G$3,分類表!$E6)+1,IF(ISERROR(FIND(H$3,分類表!$E6)-1-FIND(G$3,分類表!$E6)),FIND($M$3,分類表!$E6)-1-FIND(G$3,分類表!$E6)-1,FIND(H$3,分類表!$E6)-1-FIND(G$3,分類表!$E6)-1))) | H6: =IF(ISERROR(MID(分類表!$E6,FIND(H$3,分類表!$E6)+1,IF(ISERROR(FIND(I$3,分類表!$E6)-1-FIND(H$3,分類表!$E6)),FIND($M$3,分類表!$E6)-1-FIND(H$3,分類表!$E6)-1,FIND(I$3,分類表!$E6)-1-FIND(H$3,分類表!$E6)-1))),"",MID(分類表!$E6,FIND(H$3,分類表!$E6)+1,IF(ISERROR(FIND(I$3,分類表!$E6)-1-FIND(H$3,分類表!$E6)),FIND($M$3,分類表!$E6)-1-FIND(H$3,分類表!$E6)-1,FIND(I$3,分類表!$E6)-1-FIND(H$3,分類表!$E6)-1))) | I6: =IF(ISERROR(MID(分類表!$E6,FIND(I$3,分類表!$E6)+1,IF(ISERROR(FIND(J$3,分類表!$E6)-1-FIND(I$3,分類表!$E6)),FIND($M$3,分類表!$E6)-1-FIND(I$3,分類表!$E6)-1,FIND(J$3,分類表!$E6)-1-FIND(I$3,分類表!$E6)-1))),"",MID(分類表!$E6,FIND(I$3,分類表!$E6)+1,IF(ISERROR(FIND(J$3,分類表!$E6)-1-FIND(I$3,分類表!$E6)),FIND($M$3,分類表!$E6)-1-FIND(I$3,分類表!$E6)-1,FIND(J$3,分類表!$E6)-1-FIND(I$3,分類表!$E6)-1))) | J6: =IF(ISERROR(MID(分類表!$E6,FIND(J$3,分類表!$E6)+1,IF(ISERROR(FIND(K$3,分類表!$E6)-1-FIND(J$3,分類表!$E6)),FIND($M$3,分類表!$E6)-1-FIND(J$3,分類表!$E6)-1,FIND(K$3,分類表!$E6)-1-FIND(J$3,分類表!$E6)-1))),"",MID(分類表!$E6,FIND(J$3,分類表!$E6)+1,IF(ISERROR(FIND(K$3,分類表!$E6)-1-FIND(J$3,分類表!$E6)),FIND($M$3,分類表!$E6)-1-FIND(J$3,分類表!$E6)-1,FIND(K$3,分類表!$E6)-1-FIND(J$3,分類表!$E6)-1))) | K6: =IF(ISERROR(MID(分類表!$E6,FIND(K$3,分類表!$E6)+1,IF(ISERROR(FIND(L$3,分類表!$E6)-1-FIND(K$3,分類表!$E6)),FIND($M$3,分類表!$E6)-1-FIND(K$3,分類表!$E6)-1,FIND(L$3,分類表!$E6)-1-FIND(K$3,分類表!$E6)-1))),"",MID(分類表!$E6,FIND(K$3,分類表!$E6)+1,IF(ISERROR(FIND(L$3,分類表!$E6)-1-FIND(K$3,分類表!$E6)),FIND($M$3,分類表!$E6)-1-FIND(K$3,分類表!$E6)-1,FIND(L$3,分類表!$E6)-1-FIND(K$3,分類表!$E6)-1))) | L6: =IF(ISERROR(MID(分類表!$E6,FIND(L$3,分類表!$E6)+1,IF(ISERROR(FIND(M$3,分類表!$E6)-1-FIND(L$3,分類表!$E6)),FIND($M$3,分類表!$E6)-1-FIND(L$3,分類表!$E6)-1,FIND(M$3,分類表!$E6)-1-FIND(L$3,分類表!$E6)-1))),"",MID(分類表!$E6,FIND(L$3,分類表!$E6)+1,IF(ISERROR(FIND(M$3,分類表!$E6)-1-FIND(L$3,分類表!$E6)),FIND($M$3,分類表!$E6)-1-FIND(L$3,分類表!$E6)-1,FIND(M$3,分類表!$E6)-1-FIND(L$3,分類表!$E6)-1))) | M6: =IF(ISERROR(MID(分類表!$E6,FIND(M$3,分類表!$E6)+1,LEN(分類表!$E6)-FIND(M$3,分類表!$E6)+1)),"",MID(分類表!$E6,FIND(M$3,分類表!$E6)+1,LEN(分類表!$E6)-FIND(M$3,分類表!$E6)+1)) -> その他 | O6: ③ | P6: 3
B7: =分類表!C7 -> 04 | C7: =分類表!D7 -> ＯＡ機器及び関連商品 | D7: =IF(ISERROR(MID(分類表!$E7,FIND(D$3,分類表!$E7)+1,IF(ISERROR(FIND(E$3,分類表!$E7)-1-FIND(D$3,分類表!$E7)),FIND($M$3,分類表!$E7)-1-FIND(D$3,分類表!$E7)-1,FIND(E$3,分類表!$E7)-1-FIND(D$3,分類表!$E7)-1))),"",MID(分類表!$E7,FIND(D$3,分類表!$E7)+1,IF(ISERROR(FIND(E$3,分類表!$E7)-1-FIND(D$3,分類表!$E7)),FIND($M$3,分類表!$E7)-1-FIND(D$3,分類表!$E7)-1,FIND(E$3,分類表!$E7)-1-FIND(D$3,分類表!$E7)-1))) -> パソコン | E7: =IF(ISERROR(MID(分類表!$E7,FIND(E$3,分類表!$E7)+1,IF(ISERROR(FIND(F$3,分類表!$E7)-1-FIND(E$3,分類表!$E7)),FIND($M$3,分類表!$E7)-1-FIND(E$3,分類表!$E7)-1,FIND(F$3,分類表!$E7)-1-FIND(E$3,分類表!$E7)-1))),"",MID(分類表!$E7,FIND(E$3,分類表!$E7)+1,IF(ISERROR(FIND(F$3,分類表!$E7)-1-FIND(E$3,分類表!$E7)),FIND($M$3,分類表!$E7)-1-FIND(E$3,分類表!$E7)-1,FIND(F$3,分類表!$E7)-1-FIND(E$3,分類表!$E7)-1))) -> サーバー | F7: =IF(ISERROR(MID(分類表!$E7,FIND(F$3,分類表!$E7)+1,IF(ISERROR(FIND(G$3,分類表!$E7)-1-FIND(F$3,分類表!$E7)),FIND($M$3,分類表!$E7)-1-FIND(F$3,分類表!$E7)-1,FIND(G$3,分類表!$E7)-1-FIND(F$3,分類表!$E7)-1))),"",MID(分類表!$E7,FIND(F$3,分類表!$E7)+1,IF(ISERROR(FIND(G$3,分類表!$E7)-1-FIND(F$3,分類表!$E7)),FIND($M$3,分類表!$E7)-1-FIND(F$3,分類表!$E7)-1,FIND(G$3,分類表!$E7)-1-FIND(F$3,分類表!$E7)-1))) -> プリンター | G7: =IF(ISERROR(MID(分類表!$E7,FIND(G$3,分類表!$E7)+1,IF(ISERROR(FIND(H$3,分類表!$E7)-1-FIND(G$3,分類表!$E7)),FIND($M$3,分類表!$E7)-1-FIND(G$3,分類表!$E7)-1,FIND(H$3,分類表!$E7)-1-FIND(G$3,分類表!$E7)-1))),"",MID(分類表!$E7,FIND(G$3,分類表!$E7)+1,IF(ISERROR(FIND(H$3,分類表!$E7)-1-FIND(G$3,分類表!$E7)),FIND($M$3,分類表!$E7)-1-FIND(G$3,分類表!$E7)-1,FIND(H$3,分類表!$E7)-1-FIND(G$3,分類表!$E7)-1))) -> コンピューター周辺機器 | H7: =IF(ISERROR(MID(分類表!$E7,FIND(H$3,分類表!$E7)+1,IF(ISERROR(FIND(I$3,分類表!$E7)-1-FIND(H$3,分類表!$E7)),FIND($M$3,分類表!$E7)-1-FIND(H$3,分類表!$E7)-1,FIND(I$3,分類表!$E7)-1-FIND(H$3,分類表!$E7)-1))),"",MID(分類表!$E7,FIND(H$3,分類表!$E7)+1,IF(ISERROR(FIND(I$3,分類表!$E7)-1-FIND(H$3,分類表!$E7)),FIND($M$3,分類表!$E7)-1-FIND(H$3,分類表!$E7)-1,FIND(I$3,分類表!$E7)-1-FIND(H$3,分類表!$E7)-1))) -> ソフトウエア | I7: =IF(ISERROR(MID(分類表!$E7,FIND(I$3,分類表!$E7)+1,IF(ISERROR(FIND(J$3,分類表!$E7)-1-FIND(I$3,分類表!$E7)),FIND($M$3,分類表!$E7)-1-FIND(I$3,分類表!$E7)-1,FIND(J$3,分類表!$E7)-1-FIND(I$3,分類表!$E7)-1))),"",MID(分類表!$E7,FIND(I$3,分類表!$E7)+1,IF(ISERROR(FIND(J$3,分類表!$E7)-1-FIND(I$3,分類表!$E7)),FIND($M$3,分類表!$E7)-1-FIND(I$3,分類表!$E7)-1,FIND(J$3,分類表!$E7)-1-FIND(I$3,分類表!$E7)-1))) -> トナーカートリッジ | J7: =IF(ISERROR(MID(分類表!$E7,FIND(J$3,分類表!$E7)+1,IF(ISERROR(FIND(K$3,分類表!$E7)-1-FIND(J$3,分類表!$E7)),FIND($M$3,分類表!$E7)-1-FIND(J$3,分類表!$E7)-1,FIND(K$3,分類表!$E7)-1-FIND(J$3,分類表!$E7)-1))),"",MID(分類表!$E7,FIND(J$3,分類表!$E7)+1,IF(ISERROR(FIND(K$3,分類表!$E7)-1-FIND(J$3,分類表!$E7)),FIND($M$3,分類表!$E7)-1-FIND(J$3,分類表!$E7)-1,FIND(K$3,分類表!$E7)-1-FIND(J$3,分類表!$E7)-1))) | K7: =IF(ISERROR(MID(分類表!$E7,FIND(K$3,分類表!$E7)+1,IF(ISERROR(FIND(L$3,分類表!$E7)-1-FIND(K$3,分類表!$E7)),FIND($M$3,分類表!$E7)-1-FIND(K$3,分類表!$E7)-1,FIND(L$3,分類表!$E7)-1-FIND(K$3,分類表!$E7)-1))),"",MID(分類表!$E7,FIND(K$3,分類表!$E7)+1,IF(ISERROR(FIND(L$3,分類表!$E7)-1-FIND(K$3,分類表!$E7)),FIND($M$3,分類表!$E7)-1-FIND(K$3,分類表!$E7)-1,FIND(L$3,分類表!$E7)-1-FIND(K$3,分類表!$E7)-1))) | L7: =IF(ISERROR(MID(分類表!$E7,FIND(L$3,分類表!$E7)+1,IF(ISERROR(FIND(M$3,分類表!$E7)-1-FIND(L$3,分類表!$E7)),FIND($M$3,分類表!$E7)-1-FIND(L$3,分類表!$E7)-1,FIND(M$3,分類表!$E7)-1-FIND(L$3,分類表!$E7)-1))),"",MID(分類表!$E7,FIND(L$3,分類表!$E7)+1,IF(ISERROR(FIND(M$3,分類表!$E7)-1-FIND(L$3,分類表!$E7)),FIND($M$3,分類表!$E7)-1-FIND(L$3,分類表!$E7)-1,FIND(M$3,分類表!$E7)-1-FIND(L$3,分類表!$E7)-1))) | M7: =IF(ISERROR(MID(分類表!$E7,FIND(M$3,分類表!$E7)+1,LEN(分類表!$E7)-FIND(M$3,分類表!$E7)+1)),"",MID(分類表!$E7,FIND(M$3,分類表!$E7)+1,LEN(分類表!$E7)-FIND(M$3,分類表!$E7)+1)) -> その他 | O7: ④ | P7: 4
B8: =分類表!C8 -> 05 | C8: =分類表!D8 -> 印章 | D8: =IF(ISERROR(MID(分類表!$E8,FIND(D$3,分類表!$E8)+1,IF(ISERROR(FIND(E$3,分類表!$E8)-1-FIND(D$3,分類表!$E8)),FIND($M$3,分類表!$E8)-1-FIND(D$3,分類表!$E8)-1,FIND(E$3,分類表!$E8)-1-FIND(D$3,分類表!$E8)-1))),"",MID(分類表!$E8,FIND(D$3,分類表!$E8)+1,IF(ISERROR(FIND(E$3,分類表!$E8)-1-FIND(D$3,分類表!$E8)),FIND($M$3,分類表!$E8)-1-FIND(D$3,分類表!$E8)-1,FIND(E$3,分類表!$E8)-1-FIND(D$3,分類表!$E8)-1))) -> 印鑑 | E8: =IF(ISERROR(MID(分類表!$E8,FIND(E$3,分類表!$E8)+1,IF(ISERROR(FIND(F$3,分類表!$E8)-1-FIND(E$3,分類表!$E8)),FIND($M$3,分類表!$E8)-1-FIND(E$3,分類表!$E8)-1,FIND(F$3,分類表!$E8)-1-FIND(E$3,分類表!$E8)-1))),"",MID(分類表!$E8,FIND(E$3,分類表!$E8)+1,IF(ISERROR(FIND(F$3,分類表!$E8)-1-FIND(E$3,分類表!$E8)),FIND($M$3,分類表!$E8)-1-FIND(E$3,分類表!$E8)-1,FIND(F$3,分類表!$E8)-1-FIND(E$3,分類表!$E8)-1))) -> 公印 | F8: =IF(ISERROR(MID(分類表!$E8,FIND(F$3,分類表!$E8)+1,IF(ISERROR(FIND(G$3,分類表!$E8)-1-FIND(F$3,分類表!$E8)),FIND($M$3,分類表!$E8)-1-FIND(F$3,分類表!$E8)-1,FIND(G$3,分類表!$E8)-1-FIND(F$3,分類表!$E8)-1))),"",MID(分類表!$E8,FIND(F$3,分類表!$E8)+1,IF(ISERROR(FIND(G$3,分類表!$E8)-1-FIND(F$3,分類表!$E8)),FIND($M$3,分類表!$E8)-1-FIND(F$3,分類表!$E8)-1,FIND(G$3,分類表!$E8)-1-FIND(F$3,分類表!$E8)-1))) -> 作成印 | G8: =IF(ISERROR(MID(分類表!$E8,FIND(G$3,分類表!$E8)+1,IF(ISERROR(FIND(H$3,分類表!$E8)-1-FIND(G$3,分類表!$E8)),FIND($M$3,分類表!$E8)-1-FIND(G$3,分類表!$E8)-1,FIND(H$3,分類表!$E8)-1-FIND(G$3,分類表!$E8)-1))),"",MID(分類表!$E8,FIND(G$3,分類表!$E8)+1,IF(ISERROR(FIND(H$3,分類表!$E8)-1-FIND(G$3,分類表!$E8)),FIND($M$3,分類表!$E8)-1-FIND(G$3,分類表!$E8)-1,FIND(H$3,分類表!$E8)-1-FIND(G$3,分類表!$E8)-1))) -> ゴム印 | H8: =IF(ISERROR(MID(分類表!$E8,FIND(H$3,分類表!$E8)+1,IF(ISERROR(FIND(I$3,分類表!$E8)-1-FIND(H$3,分類表!$E8)),FIND($M$3,分類表!$E8)-1-FIND(H$3,分類表!$E8)-1,FIND(I$3,分類表!$E8)-1-FIND(H$3,分類表!$E8)-1))),"",MID(分類表!$E8,FIND(H$3,分類表!$E8)+1,IF(ISERROR(FIND(I$3,分類表!$E8)-1-FIND(H$3,分類表!$E8)),FIND($M$3,分類表!$E8)-1-FIND(H$3,分類表!$E8)-1,FIND(I$3,分類表!$E8)-1-FIND(H$3,分類表!$E8)-1))) | I8: =IF(ISERROR(MID(分類表!$E8,FIND(I$3,分類表!$E8)+1,IF(ISERROR(FIND(J$3,分類表!$E8)-1-FIND(I$3,分類表!$E8)),FIND($M$3,分類表!$E8)-1-FIND(I$3,分類表!$E8)-1,FIND(J$3,分類表!$E8)-1-FIND(I$3,分類表!$E8)-1))),"",MID(分類表!$E8,FIND(I$3,分類表!$E8)+1,IF(ISERROR(FIND(J$3,分類表!$E8)-1-FIND(I$3,分類表!$E8)),FIND($M$3,分類表!$E8)-1-FIND(I$3,分類表!$E8)-1,FIND(J$3,分類表!$E8)-1-FIND(I$3,分類表!$E8)-1))) | J8: =IF(ISERROR(MID(分類表!$E8,FIND(J$3,分類表!$E8)+1,IF(ISERROR(FIND(K$3,分類表!$E8)-1-FIND(J$3,分類表!$E8)),FIND($M$3,分類表!$E8)-1-FIND(J$3,分類表!$E8)-1,FIND(K$3,分類表!$E8)-1-FIND(J$3,分類表!$E8)-1))),"",MID(分類表!$E8,FIND(J$3,分類表!$E8)+1,IF(ISERROR(FIND(K$3,分類表!$E8)-1-FIND(J$3,分類表!$E8)),FIND($M$3,分類表!$E8)-1-FIND(J$3,分類表!$E8)-1,FIND(K$3,分類表!$E8)-1-FIND(J$3,分類表!$E8)-1))) | K8: =IF(ISERROR(MID(分類表!$E8,FIND(K$3,分類表!$E8)+1,IF(ISERROR(FIND(L$3,分類表!$E8)-1-FIND(K$3,分類表!$E8)),FIND($M$3,分類表!$E8)-1-FIND(K$3,分類表!$E8)-1,FIND(L$3,分類表!$E8)-1-FIND(K$3,分類表!$E8)-1))),"",MID(分類表!$E8,FIND(K$3,分類表!$E8)+1,IF(ISERROR(FIND(L$3,分類表!$E8)-1-FIND(K$3,分類表!$E8)),FIND($M$3,分類表!$E8)-1-FIND(K$3,分類表!$E8)-1,FIND(L$3,分類表!$E8)-1-FIND(K$3,分類表!$E8)-1))) | L8: =IF(ISERROR(MID(分類表!$E8,FIND(L$3,分類表!$E8)+1,IF(ISERROR(FIND(M$3,分類表!$E8)-1-FIND(L$3,分類表!$E8)),FIND($M$3,分類表!$E8)-1-FIND(L$3,分類表!$E8)-1,FIND(M$3,分類表!$E8)-1-FIND(L$3,分類表!$E8)-1))),"",MID(分類表!$E8,FIND(L$3,分類表!$E8)+1,IF(ISERROR(FIND(M$3,分類表!$E8)-1-FIND(L$3,分類表!$E8)),FIND($M$3,分類表!$E8)-1-FIND(L$3,分類表!$E8)-1,FIND(M$3,分類表!$E8)-1-FIND(L$3,分類表!$E8)-1))) | M8: =IF(ISERROR(MID(分類表!$E8,FIND(M$3,分類表!$E8)+1,LEN(分類表!$E8)-FIND(M$3,分類表!$E8)+1)),"",MID(分類表!$E8,FIND(M$3,分類表!$E8)+1,LEN(分類表!$E8)-FIND(M$3,分類表!$E8)+1)) -> その他 | O8: ⑤ | P8: 5
B9: =分類表!C9 -> 06 | C9: =分類表!D9 -> 保育教材 保育用品 | D9: =IF(ISERROR(MID(分類表!$E9,FIND(D$3,分類表!$E9)+1,IF(ISERROR(FIND(E$3,分類表!$E9)-1-FIND(D$3,分類表!$E9)),FIND($M$3,分類表!$E9)-1-FIND(D$3,分類表!$E9)-1,FIND(E$3,分類表!$E9)-1-FIND(D$3,分類表!$E9)-1))),"",MID(分類表!$E9,FIND(D$3,分類表!$E9)+1,IF(ISERROR(FIND(E$3,分類表!$E9)-1-FIND(D$3,分類表!$E9)),FIND($M$3,分類表!$E9)-1-FIND(D$3,分類表!$E9)-1,FIND(E$3,分類表!$E9)-1-FIND(D$3,分類表!$E9)-1))) -> 保育園等教材 | E9: =IF(ISERROR(MID(分類表!$E9,FIND(E$3,分類表!$E9)+1,IF(ISERROR(FIND(F$3,分類表!$E9)-1-FIND(E$3,分類表!$E9)),FIND($M$3,分類表!$E9)-1-FIND(E$3,分類表!$E9)-1,FIND(F$3,分類表!$E9)-1-FIND(E$3,分類表!$E9)-1))),"",MID(分類表!$E9,FIND(E$3,分類表!$E9)+1,IF(ISERROR(FIND(F$3,分類表!$E9)-1-FIND(E$3,分類表!$E9)),FIND($M$3,分類表!$E9)-1-FIND(E$3,分類表!$E9)-1,FIND(F$3,分類表!$E9)-1-FIND(E$3,分類表!$E9)-1))) -> 保育用品 | F9: =IF(ISERROR(MID(分類表!$E9,FIND(F$3,分類表!$E9)+1,IF(ISERROR(FIND(G$3,分類表!$E9)-1-FIND(F$3,分類表!$E9)),FIND($M$3,分類表!$E9)-1-FIND(F$3,分類表!$E9)-1,FIND(G$3,分類表!$E9)-1-FIND(F$3,分類表!$E9)-1))),"",MID(分類表!$E9,FIND(F$3,分類表!$E9)+1,IF(ISERROR(FIND(G$3,分類表!$E9)-1-FIND(F$3,分類表!$E9)),FIND($M$3,分類表!$E9)-1-FIND(F$3,分類表!$E9)-1,FIND(G$3,分類表!$E9)-1-FIND(F$3,分類表!$E9)-1))) | G9: =IF(ISERROR(MID(分類表!$E9,FIND(G$3,分類表!$E9)+1,IF(ISERROR(FIND(H$3,分類表!$E9)-1-FIND(G$3,分類表!$E9)),FIND($M$3,分類表!$E9)-1-FIND(G$3,分類表!$E9)-1,FIND(H$3,分類表!$E9)-1-FIND(G$3,分類表!$E9)-1))),"",MID(分類表!$E9,FIND(G$3,分類表!$E9)+1,IF(ISERROR(FIND(H$3,分類表!$E9)-1-FIND(G$3,分類表!$E9)),FIND($M$3,分類表!$E9)-1-FIND(G$3,分類表!$E9)-1,FIND(H$3,分類表!$E9)-1-FIND(G$3,分類表!$E9)-1))) | H9: =IF(ISERROR(MID(分類表!$E9,FIND(H$3,分類表!$E9)+1,IF(ISERROR(FIND(I$3,分類表!$E9)-1-FIND(H$3,分類表!$E9)),FIND($M$3,分類表!$E9)-1-FIND(H$3,分類表!$E9)-1,FIND(I$3,分類表!$E9)-1-FIND(H$3,分類表!$E9)-1))),"",MID(分類表!$E9,FIND(H$3,分類表!$E9)+1,IF(ISERROR(FIND(I$3,分類表!$E9)-1-FIND(H$3,分類表!$E9)),FIND($M$3,分類表!$E9)-1-FIND(H$3,分類表!$E9)-1,FIND(I$3,分類表!$E9)-1-FIND(H$3,分類表!$E9)-1))) | I9: =IF(ISERROR(MID(分類表!$E9,FIND(I$3,分類表!$E9)+1,IF(ISERROR(FIND(J$3,分類表!$E9)-1-FIND(I$3,分類表!$E9)),FIND($M$3,分類表!$E9)-1-FIND(I$3,分類表!$E9)-1,FIND(J$3,分類表!$E9)-1-FIND(I$3,分類表!$E9)-1))),"",MID(分類表!$E9,FIND(I$3,分類表!$E9)+1,IF(ISERROR(FIND(J$3,分類表!$E9)-1-FIND(I$3,分類表!$E9)),FIND($M$3,分類表!$E9)-1-FIND(I$3,分類表!$E9)-1,FIND(J$3,分類表!$E9)-1-FIND(I$3,分類表!$E9)-1))) | J9: =IF(ISERROR(MID(分類表!$E9,FIND(J$3,分類表!$E9)+1,IF(ISERROR(FIND(K$3,分類表!$E9)-1-FIND(J$3,分類表!$E9)),FIND($M$3,分類表!$E9)-1-FIND(J$3,分類表!$E9)-1,FIND(K$3,分類表!$E9)-1-FIND(J$3,分類表!$E9)-1))),"",MID(分類表!$E9,FIND(J$3,分類表!$E9)+1,IF(ISERROR(FIND(K$3,分類表!$E9)-1-FIND(J$3,分類表!$E9)),FIND($M$3,分類表!$E9)-1-FIND(J$3,分類表!$E9)-1,FIND(K$3,分類表!$E9)-1-FIND(J$3,分類表!$E9)-1))) | K9: =IF(ISERROR(MID(分類表!$E9,FIND(K$3,分類表!$E9)+1,IF(ISERROR(FIND(L$3,分類表!$E9)-1-FIND(K$3,分類表!$E9)),FIND($M$3,分類表!$E9)-1-FIND(K$3,分類表!$E9)-1,FIND(L$3,分類表!$E9)-1-FIND(K$3,分類表!$E9)-1))),"",MID(分類表!$E9,FIND(K$3,分類表!$E9)+1,IF(ISERROR(FIND(L$3,分類表!$E9)-1-FIND(K$3,分類表!$E9)),FIND($M$3,分類表!$E9)-1-FIND(K$3,分類表!$E9)-1,FIND(L$3,分類表!$E9)-1-FIND(K$3,分類表!$E9)-1))) | L9: =IF(ISERROR(MID(分類表!$E9,FIND(L$3,分類表!$E9)+1,IF(ISERROR(FIND(M$3,分類表!$E9)-1-FIND(L$3,分類表!$E9)),FIND($M$3,分類表!$E9)-1-FIND(L$3,分類表!$E9)-1,FIND(M$3,分類表!$E9)-1-FIND(L$3,分類表!$E9)-1))),"",MID(分類表!$E9,FIND(L$3,分類表!$E9)+1,IF(ISERROR(FIND(M$3,分類表!$E9)-1-FIND(L$3,分類表!$E9)),FIND($M$3,分類表!$E9)-1-FIND(L$3,分類表!$E9)-1,FIND(M$3,分類表!$E9)-1-FIND(L$3,分類表!$E9)-1))) | M9: =IF(ISERROR(MID(分類表!$E9,FIND(M$3,分類表!$E9)+1,LEN(分類表!$E9)-FIND(M$3,分類表!$E9)+1)),"",MID(分類表!$E9,FIND(M$3,分類表!$E9)+1,LEN(分類表!$E9)-FIND(M$3,分類表!$E9)+1)) -> その他 | O9: ⑥ | P9: 6
B10: =分類表!C10 -> 07 | C10: =分類表!D10 -> 遊具 | D10: =IF(ISERROR(MID(分類表!$E10,FIND(D$3,分類表!$E10)+1,IF(ISERROR(FIND(E$3,分類表!$E10)-1-FIND(D$3,分類表!$E10)),FIND($M$3,分類表!$E10)-1-FIND(D$3,分類表!$E10)-1,FIND(E$3,分類表!$E10)-1-FIND(D$3,分類表!$E10)-1))),"",MID(分類表!$E10,FIND(D$3,分類表!$E10)+1,IF(ISERROR(FIND(E$3,分類表!$E10)-1-FIND(D$3,分類表!$E10)),FIND($M$3,分類表!$E10)-1-FIND(D$3,分類表!$E10)-1,FIND(E$3,分類表!$E10)-1-FIND(D$3,分類表!$E10)-1))) -> 大型遊具 | E10: =IF(ISERROR(MID(分類表!$E10,FIND(E$3,分類表!$E10)+1,IF(ISERROR(FIND(F$3,分類表!$E10)-1-FIND(E$3,分類表!$E10)),FIND($M$3,分類表!$E10)-1-FIND(E$3,分類表!$E10)-1,FIND(F$3,分類表!$E10)-1-FIND(E$3,分類表!$E10)-1))),"",MID(分類表!$E10,FIND(E$3,分類表!$E10)+1,IF(ISERROR(FIND(F$3,分類表!$E10)-1-FIND(E$3,分類表!$E10)),FIND($M$3,分類表!$E10)-1-FIND(E$3,分類表!$E10)-1,FIND(F$3,分類表!$E10)-1-FIND(E$3,分類表!$E10)-1))) -> ブランコ | F10: =IF(ISERROR(MID(分類表!$E10,FIND(F$3,分類表!$E10)+1,IF(ISERROR(FIND(G$3,分類表!$E10)-1-FIND(F$3,分類表!$E10)),FIND($M$3,分類表!$E10)-1-FIND(F$3,分類表!$E10)-1,FIND(G$3,分類表!$E10)-1-FIND(F$3,分類表!$E10)-1))),"",MID(分類表!$E10,FIND(F$3,分類表!$E10)+1,IF(ISERROR(FIND(G$3,分類表!$E10)-1-FIND(F$3,分類表!$E10)),FIND($M$3,分類表!$E10)-1-FIND(F$3,分類表!$E10)-1,FIND(G$3,分類表!$E10)-1-FIND(F$3,分類表!$E10)-1))) -> 滑り台 | G10: =IF(ISERROR(MID(分類表!$E10,FIND(G$3,分類表!$E10)+1,IF(ISERROR(FIND(H$3,分類表!$E10)-1-FIND(G$3,分類表!$E10)),FIND($M$3,分類表!$E10)-1-FIND(G$3,分類表!$E10)-1,FIND(H$3,分類表!$E10)-1-FIND(G$3,分類表!$E10)-1))),"",MID(分類表!$E10,FIND(G$3,分類表!$E10)+1,IF(ISERROR(FIND(H$3,分類表!$E10)-1-FIND(G$3,分類表!$E10)),FIND($M$3,分類表!$E10)-1-FIND(G$3,分類表!$E10)-1,FIND(H$3,分類表!$E10)-1-FIND(G$3,分類表!$E10)-1))) | H10: =IF(ISERROR(MID(分類表!$E10,FIND(H$3,分類表!$E10)+1,IF(ISERROR(FIND(I$3,分類表!$E10)-1-FIND(H$3,分類表!$E10)),FIND($M$3,分類表!$E10)-1-FIND(H$3,分類表!$E10)-1,FIND(I$3,分類表!$E10)-1-FIND(H$3,分類表!$E10)-1))),"",MID(分類表!$E10,FIND(H$3,分類表!$E10)+1,IF(ISERROR(FIND(I$3,分類表!$E10)-1-FIND(H$3,分類表!$E10)),FIND($M$3,分類表!$E10)-1-FIND(H$3,分類表!$E10)-1,FIND(I$3,分類表!$E10)-1-FIND(H$3,分類表!$E10)-1))) | I10: =IF(ISERROR(MID(分類表!$E10,FIND(I$3,分類表!$E10)+1,IF(ISERROR(FIND(J$3,分類表!$E10)-1-FIND(I$3,分類表!$E10)),FIND($M$3,分類表!$E10)-1-FIND(I$3,分類表!$E10)-1,FIND(J$3,分類表!$E10)-1-FIND(I$3,分類表!$E10)-1))),"",MID(分類表!$E10,FIND(I$3,分類表!$E10)+1,IF(ISERROR(FIND(J$3,分類表!$E10)-1-FIND(I$3,分類表!$E10)),FIND($M$3,分類表!$E10)-1-FIND(I$3,分類表!$E10)-1,FIND(J$3,分類表!$E10)-1-FIND(I$3,分類表!$E10)-1))) | J10: =IF(ISERROR(MID(分類表!$E10,FIND(J$3,分類表!$E10)+1,IF(ISERROR(FIND(K$3,分類表!$E10)-1-FIND(J$3,分類表!$E10)),FIND($M$3,分類表!$E10)-1-FIND(J$3,分類表!$E10)-1,FIND(K$3,分類表!$E10)-1-FIND(J$3,分類表!$E10)-1))),"",MID(分類表!$E10,FIND(J$3,分類表!$E10)+1,IF(ISERROR(FIND(K$3,分類表!$E10)-1-FIND(J$3,分類表!$E10)),FIND($M$3,分類表!$E10)-1-FIND(J$3,分類表!$E10)-1,FIND(K$3,分類表!$E10)-1-FIND(J$3,分類表!$E10)-1))) | K10: =IF(ISERROR(MID(分類表!$E10,FIND(K$3,分類表!$E10)+1,IF(ISERROR(FIND(L$3,分類表!$E10)-1-FIND(K$3,分類表!$E10)),FIND($M$3,分類表!$E10)-1-FIND(K$3,分類表!$E10)-1,FIND(L$3,分類表!$E10)-1-FIND(K$3,分類表!$E10)-1))),"",MID(分類表!$E10,FIND(K$3,分類表!$E10)+1,IF(ISERROR(FIND(L$3,分類表!$E10)-1-FIND(K$3,分類表!$E10)),FIND($M$3,分類表!$E10)-1-FIND(K$3,分類表!$E10)-1,FIND(L$3,分類表!$E10)-1-FIND(K$3,分類表!$E10)-1))) | L10: =IF(ISERROR(MID(分類表!$E10,FIND(L$3,分類表!$E10)+1,IF(ISERROR(FIND(M$3,分類表!$E10)-1-FIND(L$3,分類表!$E10)),FIND($M$3,分類表!$E10)-1-FIND(L$3,分類表!$E10)-1,FIND(M$3,分類表!$E10)-1-FIND(L$3,分類表!$E10)-1))),"",MID(分類表!$E10,FIND(L$3,分類表!$E10)+1,IF(ISERROR(FIND(M$3,分類表!$E10)-1-FIND(L$3,分類表!$E10)),FIND($M$3,分類表!$E10)-1-FIND(L$3,分類表!$E10)-1,FIND(M$3,分類表!$E10)-1-FIND(L$3,分類表!$E10)-1))) | M10: =IF(ISERROR(MID(分類表!$E10,FIND(M$3,分類表!$E10)+1,LEN(分類表!$E10)-FIND(M$3,分類表!$E10)+1)),"",MID(分類表!$E10,FIND(M$3,分類表!$E10)+1,LEN(分類表!$E10)-FIND(M$3,分類表!$E10)+1)) -> その他 | O10: ⑦ | P10: 7
B11: =分類表!C11 -> 08 | C11: =分類表!D11 -> 学校教材 学校用品 | D11: =IF(ISERROR(MID(分類表!$E11,FIND(D$3,分類表!$E11)+1,IF(ISERROR(FIND(E$3,分類表!$E11)-1-FIND(D$3,分類表!$E11)),FIND($M$3,分類表!$E11)-1-FIND(D$3,分類表!$E11)-1,FIND(E$3,分類表!$E11)-1-FIND(D$3,分類表!$E11)-1))),"",MID(分類表!$E11,FIND(D$3,分類表!$E11)+1,IF(ISERROR(FIND(E$3,分類表!$E11)-1-FIND(D$3,分類表!$E11)),FIND($M$3,分類表!$E11)-1-FIND(D$3,分類表!$E11)-1,FIND(E$3,分類表!$E11)-1-FIND(D$3,分類表!$E11)-1))) -> 養護教材 | E11: =IF(ISERROR(MID(分類表!$E11,FIND(E$3,分類表!$E11)+1,IF(ISERROR(FIND(F$3,分類表!$E11)-1-FIND(E$3,分類表!$E11)),FIND($M$3,分類表!$E11)-1-FIND(E$3,分類表!$E11)-1,FIND(F$3,分類表!$E11)-1-FIND(E$3,分類表!$E11)-1))),"",MID(分類表!$E11,FIND(E$3,分類表!$E11)+1,IF(ISERROR(FIND(F$3,分類表!$E11)-1-FIND(E$3,分類表!$E11)),FIND($M$3,分類表!$E11)-1-FIND(E$3,分類表!$E11)-1,FIND(F$3,分類表!$E11)-1-FIND(E$3,分類表!$E11)-1))) -> 理科用標本模型 | F11: =IF(ISERROR(MID(分類表!$E11,FIND(F$3,分類表!$E11)+1,IF(ISERROR(FIND(G$3,分類表!$E11)-1-FIND(F$3,分類表!$E11)),FIND($M$3,分類表!$E11)-1-FIND(F$3,分類表!$E11)-1,FIND(G$3,分類表!$E11)-1-FIND(F$3,分類表!$E11)-1))),"",MID(分類表!$E11,FIND(F$3,分類表!$E11)+1,IF(ISERROR(FIND(G$3,分類表!$E11)-1-FIND(F$3,分類表!$E11)),FIND($M$3,分類表!$E11)-1-FIND(F$3,分類表!$E11)-1,FIND(G$3,分類表!$E11)-1-FIND(F$3,分類表!$E11)-1))) -> ミシン | G11: =IF(ISERROR(MID(分類表!$E11,FIND(G$3,分類表!$E11)+1,IF(ISERROR(FIND(H$3,分類表!$E11)-1-FIND(G$3,分類表!$E11)),FIND($M$3,分類表!$E11)-1-FIND(G$3,分類表!$E11)-1,FIND(H$3,分類表!$E11)-1-FIND(G$3,分類表!$E11)-1))),"",MID(分類表!$E11,FIND(G$3,分類表!$E11)+1,IF(ISERROR(FIND(H$3,分類表!$E11)-1-FIND(G$3,分類表!$E11)),FIND($M$3,分類表!$E11)-1-FIND(G$3,分類表!$E11)-1,FIND(H$3,分類表!$E11)-1-FIND(G$3,分類表!$E11)-1))) -> 各種教材 | H11: =IF(ISERROR(MID(分類表!$E11,FIND(H$3,分類表!$E11)+1,IF(ISERROR(FIND(I$3,分類表!$E11)-1-FIND(H$3,分類表!$E11)),FIND($M$3,分類表!$E11)-1-FIND(H$3,分類表!$E11)-1,FIND(I$3,分類表!$E11)-1-FIND(H$3,分類表!$E11)-1))),"",MID(分類表!$E11,FIND(H$3,分類表!$E11)+1,IF(ISERROR(FIND(I$3,分類表!$E11)-1-FIND(H$3,分類表!$E11)),FIND($M$3,分類表!$E11)-1-FIND(H$3,分類表!$E11)-1,FIND(I$3,分類表!$E11)-1-FIND(H$3,分類表!$E11)-1))) | I11: =IF(ISERROR(MID(分類表!$E11,FIND(I$3,分類表!$E11)+1,IF(ISERROR(FIND(J$3,分類表!$E11)-1-FIND(I$3,分類表!$E11)),FIND($M$3,分類表!$E11)-1-FIND(I$3,分類表!$E11)-1,FIND(J$3,分類表!$E11)-1-FIND(I$3,分類表!$E11)-1))),"",MID(分類表!$E11,FIND(I$3,分類表!$E11)+1,IF(ISERROR(FIND(J$3,分類表!$E11)-1-FIND(I$3,分類表!$E11)),FIND($M$3,分類表!$E11)-1-FIND(I$3,分類表!$E11)-1,FIND(J$3,分類表!$E11)-1-FIND(I$3,分類表!$E11)-1))) | J11: =IF(ISERROR(MID(分類表!$E11,FIND(J$3,分類表!$E11)+1,IF(ISERROR(FIND(K$3,分類表!$E11)-1-FIND(J$3,分類表!$E11)),FIND($M$3,分類表!$E11)-1-FIND(J$3,分類表!$E11)-1,FIND(K$3,分類表!$E11)-1-FIND(J$3,分類表!$E11)-1))),"",MID(分類表!$E11,FIND(J$3,分類表!$E11)+1,IF(ISERROR(FIND(K$3,分類表!$E11)-1-FIND(J$3,分類表!$E11)),FIND($M$3,分類表!$E11)-1-FIND(J$3,分類表!$E11)-1,FIND(K$3,分類表!$E11)-1-FIND(J$3,分類表!$E11)-1))) | K11: =IF(ISERROR(MID(分類表!$E11,FIND(K$3,分類表!$E11)+1,IF(ISERROR(FIND(L$3,分類表!$E11)-1-FIND(K$3,分類表!$E11)),FIND($M$3,分類表!$E11)-1-FIND(K$3,分類表!$E11)-1,FIND(L$3,分類表!$E11)-1-FIND(K$3,分類表!$E11)-1))),"",MID(分類表!$E11,FIND(K$3,分類表!$E11)+1,IF(ISERROR(FIND(L$3,分類表!$E11)-1-FIND(K$3,分類表!$E11)),FIND($M$3,分類表!$E11)-1-FIND(K$3,分類表!$E11)-1,FIND(L$3,分類表!$E11)-1-FIND(K$3,分類表!$E11)-1))) | L11: =IF(ISERROR(MID(分類表!$E11,FIND(L$3,分類表!$E11)+1,IF(ISERROR(FIND(M$3,分類表!$E11)-1-FIND(L$3,分類表!$E11)),FIND($M$3,分類表!$E11)-1-FIND(L$3,分類表!$E11)-1,FIND(M$3,分類表!$E11)-1-FIND(L$3,分類表!$E11)-1))),"",MID(分類表!$E11,FIND(L$3,分類表!$E11)+1,IF(ISERROR(FIND(M$3,分類表!$E11)-1-FIND(L$3,分類表!$E11)),FIND($M$3,分類表!$E11)-1-FIND(L$3,分類表!$E11)-1,FIND(M$3,分類表!$E11)-1-FIND(L$3,分類表!$E11)-1))) | M11: =IF(ISERROR(MID(分類表!$E11,FIND(M$3,分類表!$E11)+1,LEN(分類表!$E11)-FIND(M$3,分類表!$E11)+1)),"",MID(分類表!$E11,FIND(M$3,分類表!$E11)+1,LEN(分類表!$E11)-FIND(M$3,分類表!$E11)+1)) -> その他 | O11: ⑧ | P11: 8
B12: =分類表!C12 -> 09 | C12: =分類表!D12 -> 運動用具 運動着類 | D12: =IF(ISERROR(MID(分類表!$E12,FIND(D$3,分類表!$E12)+1,IF(ISERROR(FIND(E$3,分類表!$E12)-1-FIND(D$3,分類表!$E12)),FIND($M$3,分類表!$E12)-1-FIND(D$3,分類表!$E12)-1,FIND(E$3,分類表!$E12)-1-FIND(D$3,分類表!$E12)-1))),"",MID(分類表!$E12,FIND(D$3,分類表!$E12)+1,IF(ISERROR(FIND(E$3,分類表!$E12)-1-FIND(D$3,分類表!$E12)),FIND($M$3,分類表!$E12)-1-FIND(D$3,分類表!$E12)-1,FIND(E$3,分類表!$E12)-1-FIND(D$3,分類表!$E12)-1))) -> 運動用品（ボール、武道具等） | E12: =IF(ISERROR(MID(分類表!$E12,FIND(E$3,分類表!$E12)+1,IF(ISERROR(FIND(F$3,分類表!$E12)-1-FIND(E$3,分類表!$E12)),FIND($M$3,分類表!$E12)-1-FIND(E$3,分類表!$E12)-1,FIND(F$3,分類表!$E12)-1-FIND(E$3,分類表!$E12)-1))),"",MID(分類表!$E12,FIND(E$3,分類表!$E12)+1,IF(ISERROR(FIND(F$3,分類表!$E12)-1-FIND(E$3,分類表!$E12)),FIND($M$3,分類表!$E12)-1-FIND(E$3,分類表!$E12)-1,FIND(F$3,分類表!$E12)-1-FIND(E$3,分類表!$E12)-1))) -> 運動器具（サッカーゴール、跳箱、卓球台等） | F12: =IF(ISERROR(MID(分類表!$E12,FIND(F$3,分類表!$E12)+1,IF(ISERROR(FIND(G$3,分類表!$E12)-1-FIND(F$3,分類表!$E12)),FIND($M$3,分類表!$E12)-1-FIND(F$3,分類表!$E12)-1,FIND(G$3,分類表!$E12)-1-FIND(F$3,分類表!$E12)-1))),"",MID(分類表!$E12,FIND(F$3,分類表!$E12)+1,IF(ISERROR(FIND(G$3,分類表!$E12)-1-FIND(F$3,分類表!$E12)),FIND($M$3,分類表!$E12)-1-FIND(F$3,分類表!$E12)-1,FIND(G$3,分類表!$E12)-1-FIND(F$3,分類表!$E12)-1))) -> トレーニング機器・測定機器 | G12: =IF(ISERROR(MID(分類表!$E12,FIND(G$3,分類表!$E12)+1,IF(ISERROR(FIND(H$3,分類表!$E12)-1-FIND(G$3,分類表!$E12)),FIND($M$3,分類表!$E12)-1-FIND(G$3,分類表!$E12)-1,FIND(H$3,分類表!$E12)-1-FIND(G$3,分類表!$E12)-1))),"",MID(分類表!$E12,FIND(G$3,分類表!$E12)+1,IF(ISERROR(FIND(H$3,分類表!$E12)-1-FIND(G$3,分類表!$E12)),FIND($M$3,分類表!$E12)-1-FIND(G$3,分類表!$E12)-1,FIND(H$3,分類表!$E12)-1-FIND(G$3,分類表!$E12)-1))) -> アウトドア用品 | H12: =IF(ISERROR(MID(分類表!$E12,FIND(H$3,分類表!$E12)+1,IF(ISERROR(FIND(I$3,分類表!$E12)-1-FIND(H$3,分類表!$E12)),FIND($M$3,分類表!$E12)-1-FIND(H$3,分類表!$E12)-1,FIND(I$3,分類表!$E12)-1-FIND(H$3,分類表!$E12)-1))),"",MID(分類表!$E12,FIND(H$3,分類表!$E12)+1,IF(ISERROR(FIND(I$3,分類表!$E12)-1-FIND(H$3,分類表!$E12)),FIND($M$3,分類表!$E12)-1-FIND(H$3,分類表!$E12)-1,FIND(I$3,分類表!$E12)-1-FIND(H$3,分類表!$E12)-1))) -> 運動用着衣・靴 | I12: =IF(ISERROR(MID(分類表!$E12,FIND(I$3,分類表!$E12)+1,IF(ISERROR(FIND(J$3,分類表!$E12)-1-FIND(I$3,分類表!$E12)),FIND($M$3,分類表!$E12)-1-FIND(I$3,分類表!$E12)-1,FIND(J$3,分類表!$E12)-1-FIND(I$3,分類表!$E12)-1))),"",MID(分類表!$E12,FIND(I$3,分類表!$E12)+1,IF(ISERROR(FIND(J$3,分類表!$E12)-1-FIND(I$3,分類表!$E12)),FIND($M$3,分類表!$E12)-1-FIND(I$3,分類表!$E12)-1,FIND(J$3,分類表!$E12)-1-FIND(I$3,分類表!$E12)-1))) | J12: =IF(ISERROR(MID(分類表!$E12,FIND(J$3,分類表!$E12)+1,IF(ISERROR(FIND(K$3,分類表!$E12)-1-FIND(J$3,分類表!$E12)),FIND($M$3,分類表!$E12)-1-FIND(J$3,分類表!$E12)-1,FIND(K$3,分類表!$E12)-1-FIND(J$3,分類表!$E12)-1))),"",MID(分類表!$E12,FIND(J$3,分類表!$E12)+1,IF(ISERROR(FIND(K$3,分類表!$E12)-1-FIND(J$3,分類表!$E12)),FIND($M$3,分類表!$E12)-1-FIND(J$3,分類表!$E12)-1,FIND(K$3,分類表!$E12)-1-FIND(J$3,分類表!$E12)-1))) | K12: =IF(ISERROR(MID(分類表!$E12,FIND(K$3,分類表!$E12)+1,IF(ISERROR(FIND(L$3,分類表!$E12)-1-FIND(K$3,分類表!$E12)),FIND($M$3,分類表!$E12)-1-FIND(K$3,分類表!$E12)-1,FIND(L$3,分類表!$E12)-1-FIND(K$3,分類表!$E12)-1))),"",MID(分類表!$E12,FIND(K$3,分類表!$E12)+1,IF(ISERROR(FIND(L$3,分類表!$E12)-1-FIND(K$3,分類表!$E12)),FIND($M$3,分類表!$E12)-1-FIND(K$3,分類表!$E12)-1,FIND(L$3,分類表!$E12)-1-FIND(K$3,分類表!$E12)-1))) | L12: =IF(ISERROR(MID(分類表!$E12,FIND(L$3,分類表!$E12)+1,IF(ISERROR(FIND(M$3,分類表!$E12)-1-FIND(L$3,分類表!$E12)),FIND($M$3,分類表!$E12)-1-FIND(L$3,分類表!$E12)-1,FIND(M$3,分類表!$E12)-1-FIND(L$3,分類表!$E12)-1))),"",MID(分類表!$E12,FIND(L$3,分類表!$E12)+1,IF(ISERROR(FIND(M$3,分類表!$E12)-1-FIND(L$3,分類表!$E12)),FIND($M$3,分類表!$E12)-1-FIND(L$3,分類表!$E12)-1,FIND(M$3,分類表!$E12)-1-FIND(L$3,分類表!$E12)-1))) | M12: =IF(ISERROR(MID(分類表!$E12,FIND(M$3,分類表!$E12)+1,LEN(分類表!$E12)-FIND(M$3,分類表!$E12)+1)),"",MID(分類表!$E12,FIND(M$3,分類表!$E12)+1,LEN(分類表!$E12)-FIND(M$3,分類表!$E12)+1)) -> その他 | O12: ⑨ | P12: 9
B13: =分類表!C13 -> 10 | C13: =分類表!D13 -> 楽器 | D13: =IF(ISERROR(MID(分類表!$E13,FIND(D$3,分類表!$E13)+1,IF(ISERROR(FIND(E$3,分類表!$E13)-1-FIND(D$3,分類表!$E13)),FIND($M$3,分類表!$E13)-1-FIND(D$3,分類表!$E13)-1,FIND(E$3,分類表!$E13)-1-FIND(D$3,分類表!$E13)-1))),"",MID(分類表!$E13,FIND(D$3,分類表!$E13)+1,IF(ISERROR(FIND(E$3,分類表!$E13)-1-FIND(D$3,分類表!$E13)),FIND($M$3,分類表!$E13)-1-FIND(D$3,分類表!$E13)-1,FIND(E$3,分類表!$E13)-1-FIND(D$3,分類表!$E13)-1))) -> 楽器類 | E13: =IF(ISERROR(MID(分類表!$E13,FIND(E$3,分類表!$E13)+1,IF(ISERROR(FIND(F$3,分類表!$E13)-1-FIND(E$3,分類表!$E13)),FIND($M$3,分類表!$E13)-1-FIND(E$3,分類表!$E13)-1,FIND(F$3,分類表!$E13)-1-FIND(E$3,分類表!$E13)-1))),"",MID(分類表!$E13,FIND(E$3,分類表!$E13)+1,IF(ISERROR(FIND(F$3,分類表!$E13)-1-FIND(E$3,分類表!$E13)),FIND($M$3,分類表!$E13)-1-FIND(E$3,分類表!$E13)-1,FIND(F$3,分類表!$E13)-1-FIND(E$3,分類表!$E13)-1))) -> 音楽CD | F13: =IF(ISERROR(MID(分類表!$E13,FIND(F$3,分類表!$E13)+1,IF(ISERROR(FIND(G$3,分類表!$E13)-1-FIND(F$3,分類表!$E13)),FIND($M$3,分類表!$E13)-1-FIND(F$3,分類表!$E13)-1,FIND(G$3,分類表!$E13)-1-FIND(F$3,分類表!$E13)-1))),"",MID(分類表!$E13,FIND(F$3,分類表!$E13)+1,IF(ISERROR(FIND(G$3,分類表!$E13)-1-FIND(F$3,分類表!$E13)),FIND($M$3,分類表!$E13)-1-FIND(F$3,分類表!$E13)-1,FIND(G$3,分類表!$E13)-1-FIND(F$3,分類表!$E13)-1))) -> ピアノ調律 | G13: =IF(ISERROR(MID(分類表!$E13,FIND(G$3,分類表!$E13)+1,IF(ISERROR(FIND(H$3,分類表!$E13)-1-FIND(G$3,分類表!$E13)),FIND($M$3,分類表!$E13)-1-FIND(G$3,分類表!$E13)-1,FIND(H$3,分類表!$E13)-1-FIND(G$3,分類表!$E13)-1))),"",MID(分類表!$E13,FIND(G$3,分類表!$E13)+1,IF(ISERROR(FIND(H$3,分類表!$E13)-1-FIND(G$3,分類表!$E13)),FIND($M$3,分類表!$E13)-1-FIND(G$3,分類表!$E13)-1,FIND(H$3,分類表!$E13)-1-FIND(G$3,分類表!$E13)-1))) | H13: =IF(ISERROR(MID(分類表!$E13,FIND(H$3,分類表!$E13)+1,IF(ISERROR(FIND(I$3,分類表!$E13)-1-FIND(H$3,分類表!$E13)),FIND($M$3,分類表!$E13)-1-FIND(H$3,分類表!$E13)-1,FIND(I$3,分類表!$E13)-1-FIND(H$3,分類表!$E13)-1))),"",MID(分類表!$E13,FIND(H$3,分類表!$E13)+1,IF(ISERROR(FIND(I$3,分類表!$E13)-1-FIND(H$3,分類表!$E13)),FIND($M$3,分類表!$E13)-1-FIND(H$3,分類表!$E13)-1,FIND(I$3,分類表!$E13)-1-FIND(H$3,分類表!$E13)-1))) | I13: =IF(ISERROR(MID(分類表!$E13,FIND(I$3,分類表!$E13)+1,IF(ISERROR(FIND(J$3,分類表!$E13)-1-FIND(I$3,分類表!$E13)),FIND($M$3,分類表!$E13)-1-FIND(I$3,分類表!$E13)-1,FIND(J$3,分類表!$E13)-1-FIND(I$3,分類表!$E13)-1))),"",MID(分類表!$E13,FIND(I$3,分類表!$E13)+1,IF(ISERROR(FIND(J$3,分類表!$E13)-1-FIND(I$3,分類表!$E13)),FIND($M$3,分類表!$E13)-1-FIND(I$3,分類表!$E13)-1,FIND(J$3,分類表!$E13)-1-FIND(I$3,分類表!$E13)-1))) | J13: =IF(ISERROR(MID(分類表!$E13,FIND(J$3,分類表!$E13)+1,IF(ISERROR(FIND(K$3,分類表!$E13)-1-FIND(J$3,分類表!$E13)),FIND($M$3,分類表!$E13)-1-FIND(J$3,分類表!$E13)-1,FIND(K$3,分類表!$E13)-1-FIND(J$3,分類表!$E13)-1))),"",MID(分類表!$E13,FIND(J$3,分類表!$E13)+1,IF(ISERROR(FIND(K$3,分類表!$E13)-1-FIND(J$3,分類表!$E13)),FIND($M$3,分類表!$E13)-1-FIND(J$3,分類表!$E13)-1,FIND(K$3,分類表!$E13)-1-FIND(J$3,分類表!$E13)-1))) | K13: =IF(ISERROR(MID(分類表!$E13,FIND(K$3,分類表!$E13)+1,IF(ISERROR(FIND(L$3,分類表!$E13)-1-FIND(K$3,分類表!$E13)),FIND($M$3,分類表!$E13)-1-FIND(K$3,分類表!$E13)-1,FIND(L$3,分類表!$E13)-1-FIND(K$3,分類表!$E13)-1))),"",MID(分類表!$E13,FIND(K$3,分類表!$E13)+1,IF(ISERROR(FIND(L$3,分類表!$E13)-1-FIND(K$3,分類表!$E13)),FIND($M$3,分類表!$E13)-1-FIND(K$3,分類表!$E13)-1,FIND(L$3,分類表!$E13)-1-FIND(K$3,分類表!$E13)-1))) | L13: =IF(ISERROR(MID(分類表!$E13,FIND(L$3,分類表!$E13)+1,IF(ISERROR(FIND(M$3,分類表!$E13)-1-FIND(L$3,分類表!$E13)),FIND($M$3,分類表!$E13)-1-FIND(L$3,分類表!$E13)-1,FIND(M$3,分類表!$E13)-1-FIND(L$3,分類表!$E13)-1))),"",MID(分類表!$E13,FIND(L$3,分類表!$E13)+1,IF(ISERROR(FIND(M$3,分類表!$E13)-1-FIND(L$3,分類表!$E13)),FIND($M$3,分類表!$E13)-1-FIND(L$3,分類表!$E13)-1,FIND(M$3,分類表!$E13)-1-FIND(L$3,分類表!$E13)-1))) | M13: =IF(ISERROR(MID(分類表!$E13,FIND(M$3,分類表!$E13)+1,LEN(分類表!$E13)-FIND(M$3,分類表!$E13)+1)),"",MID(分類表!$E13,FIND(M$3,分類表!$E13)+1,LEN(分類表!$E13)-FIND(M$3,分類表!$E13)+1)) -> その他 | O13: ⑩ | P13: 10
