Workbook
Name 取扱品目: 変換!$B$4:$M$158
Name 小分類: 変換!$B$4:$C$158
Name 番号変換: 変換!$O$4:$P$13

Sheet 営業種目表
A1: 別紙1
A2: 希望する営業種目表
A3: 入札（見積）を希望する順（15位まで）に以下に記入してください（別紙【記載例】参照）。
A4: 順位 | C4: 小分類 № | E4: 小分類名 | I4: 番号 | J4: 取扱品目・業務内容 | P4: 許認可・登録等の資格 ＊証明書、免許等を添付すること | Y4: 取扱品目のメーカー名 ＊代理店等の場合は証明書を添付すること
AG5: 小分類 № | AH5: 番号
A6: 1 | E6: =IF(ISERROR(VLOOKUP(C6,'選択科目(縦欄)'!$B$2:$C$426,2)),"",(VLOOKUP(C6,'選択科目(縦欄)'!$B$2:$C$426,2))) | J6: =IF(ISERROR(VLOOKUP(AM6,'選択科目(縦欄)'!$A$2:$E$426,5,FALSE)),"",VLOOKUP(AM6,'選択科目(縦欄)'!$A$2:$E$426,5,FALSE)) | AF6: =IF(AND(I6<>"",J6=""),"該当の番号がありません",IF(COUNTIF($I$6:$I$14,I6)>1,"重複エラー","")) | AG6: =IF(A6="",AG5,C6) -> 0 | AH6: =IF(ISERROR(VLOOKUP(I6,番号書換!$A$1:$B$10,2,FALSE)),"",VLOOKUP(I6,番号書換!$A$1:$B$10,2,FALSE)) | AM6: =AG6&AH6 -> 0
J7: =IF(ISERROR(VLOOKUP(AM7,'選択科目(縦欄)'!$A$2:$E$426,5,FALSE)),"",VLOOKUP(AM7,'選択科目(縦欄)'!$A$2:$E$426,5,FALSE)) | AF7: =IF(AND(I7<>"",J7=""),"該当の番号がありません",IF(COUNTIF($I$6:$I$14,I7)>1,"重複エラー","")) | AG7: =IF(A7="",AG6,C7) -> 0 | AH7: =IF(ISERROR(VLOOKUP(I7,番号書換!$A$1:$B$10,2,FALSE)),"",VLOOKUP(I7,番号書換!$A$1:$B$10,2,FALSE)) | AM7: =AG7&AH7 -> 0
J8: =IF(ISERROR(VLOOKUP(AM8,'選択科目(縦欄)'!$A$2:$E$426,5,FALSE)),"",VLOOKUP(AM8,'選択科目(縦欄)'!$A$2:$E$426,5,FALSE)) | AF8: =IF(AND(I8<>"",J8=""),"該当の番号がありません",IF(COUNTIF($I$6:$I$14,I8)>1,"重複エラー","")) | AG8: =IF(A8="",AG7,C8) -> 0 | AH8: =IF(ISERROR(VLOOKUP(I8,番号書換!$A$1:$B$10,2,FALSE)),"",VLOOKUP(I8,番号書換!$A$1:$B$10,2,FALSE)) | AM8: =AG8&AH8 -> 0
J9: =IF(ISERROR(VLOOKUP(AM9,'選択科目(縦欄)'!$A$2:$E$426,5,FALSE)),"",VLOOKUP(AM9,'選択科目(縦欄)'!$A$2:$E$426,5,FALSE)) | AF9: =IF(AND(I9<>"",J9=""),"該当の番号がありません",IF(COUNTIF($I$6:$I$14,I9)>1,"重複エラー","")) | AG9: =IF(A9="",AG8,C9) -> 0 | AH9: =IF(ISERROR(VLOOKUP(I9,番号書換!$A$1:$B$10,2,FALSE)),"",VLOOKUP(I9,番号書換!$A$1:$B$10,2,FALSE)) | AM9: =AG9&AH9 -> 0
J10: =IF(ISERROR(VLOOKUP(AM10,'選択科目(縦欄)'!$A$2:$E$426,5,FALSE)),"",VLOOKUP(AM10,'選択科目(縦欄)'!$A$2:$E$426,5,FALSE)) | AF10: =IF(AND(I10<>"",J10=""),"該当の番号がありません",IF(COUNTIF($I$6:$I$14,I10)>1,"重複エラー","")) | AG10: =IF(A10="",AG9,C10) -> 0 | AH10: =IF(ISERROR(VLOOKUP(I10,番号書換!$A$1:$B$10,2,FALSE)),"",VLOOKUP(I10,番号書換!$A$1:$B$10,2,FALSE)) | AM10: =AG10&AH10 -> 0
J11: =IF(ISERROR(VLOOKUP(AM11,'選択科目(縦欄)'!$A$2:$E$426,5,FALSE)),"",VLOOKUP(AM11,'選択科目(縦欄)'!$A$2:$E$426,5,FALSE)) | AF11: =IF(AND(I11<>"",J11=""),"該当の番号がありません",IF(COUNTIF($I$6:$I$14,I11)>1,"重複エラー","")) | AG11: =IF(A11="",AG10,C11) -> 0 | AH11: =IF(ISERROR(VLOOKUP(I11,番号書換!$A$1:$B$10,2,FALSE)),"",VLOOKUP(I11,番号書換!$A$1:$B$10,2,FALSE)) | AM11: =AG11&AH11 -> 0
J12: =IF(ISERROR(VLOOKUP(AM12,'選択科目(縦欄)'!$A$2:$E$426,5,FALSE)),"",VLOOKUP(AM12,'選択科目(縦欄)'!$A$2:$E$426,5,FALSE)) | AF12: =IF(AND(I12<>"",J12=""),"該当の番号がありません",IF(COUNTIF($I$6:$I$14,I12)>1,"重複エラー","")) | AG12: =IF(A12="",AG11,C12) -> 0 | AH12: =IF(ISERROR(VLOOKUP(I12,番号書換!$A$1:$B$10,2,FALSE)),"",VLOOKUP(I12,番号書換!$A$1:$B$10,2,FALSE)) | AM12: =AG12&AH12 -> 0
J13: =IF(ISERROR(VLOOKUP(AM13,'選択科目(縦欄)'!$A$2:$E$426,5,FALSE)),"",VLOOKUP(AM13,'選択科目(縦欄)'!$A$2:$E$426,5,FALSE)) | AF13: =IF(AND(I13<>"",J13=""),"該当の番号がありません",IF(COUNTIF($I$6:$I$14,I13)>1,"重複エラー","")) | AG13: =IF(A13="",AG12,C13) -> 0 | AH13: =IF(ISERROR(VLOOKUP(I13,番号書換!$A$1:$B$10,2,FALSE)),"",VLOOKUP(I13,番号書換!$A$1:$B$10,2,FALSE)) | AM13: =AG13&AH13 -> 0
J14: =IF(ISERROR(VLOOKUP(AM14,'選択科目(縦欄)'!$A$2:$E$426,5,FALSE)),"",VLOOKUP(AM14,'選択科目(縦欄)'!$A$2:$E$426,5,FALSE)) | AF14: =IF(AND(I14<>"",J14=""),"該当の番号がありません",IF(COUNTIF($I$6:$I$14,I14)>1,"重複エラー","")) | AG14: =IF(A14="",AG13,C14) -> 0 | AH14: =IF(ISERROR(VLOOKUP(I14,番号書換!$A$1:$B$10,2,FALSE)),"",VLOOKUP(I14,番号書換!$A$1:$B$10,2,FALSE)) | AM14: =AG14&AH14 -> 0
I15: ⑩ | J15: その他( ) | AG15: =IF(A15="",AG14,C15) -> 0
A16: 2 | E16: =IF(ISERROR(VLOOKUP(C16,'選択科目(縦欄)'!$B$2:$C$426,2)),"",(VLOOKUP(C16,'選択科目(縦欄)'!$B$2:$C$426,2))) | J16: =IF(ISERROR(VLOOKUP(AM16,'選択科目(縦欄)'!$A$2:$E$426,5,FALSE)),"",VLOOKUP(AM16,'選択科目(縦欄)'!$A$2:$E$426,5,FALSE)) | AF16: =IF(AND(I16<>"",J16=""),"該当の番号がありません",IF(COUNTIF($I$6:$I$14,I16)>1,"重複エラー","")) | AG16: =IF(A16="",AG15,C16) -> 0 | AH16: =IF(ISERROR(VLOOKUP(I16,番号書換!$A$1:$B$10,2,FALSE)),"",VLOOKUP(I16,番号書換!$A$1:$B$10,2,FALSE)) | AM16: =AG16&AH16 -> 0
J17: =IF(ISERROR(VLOOKUP(AM17,'選択科目(縦欄)'!$A$2:$E$426,5,FALSE)),"",VLOOKUP(AM17,'選択科目(縦欄)'!$A$2:$E$426,5,FALSE)) | AF17: =IF(AND(I17<>"",J17=""),"該当の番号がありません",IF(COUNTIF($I$6:$I$14,I17)>1,"重複エラー","")) | AG17: =IF(A17="",AG16,C17) -> 0 | AH17: =IF(ISERROR(VLOOKUP(I17,番号書換!$A$1:$B$10,2,FALSE)),"",VLOOKUP(I17,番号書換!$A$1:$B$10,2,FALSE)) | AM17: =AG17&AH17 -> 0
J18: =IF(ISERROR(VLOOKUP(AM18,'選択科目(縦欄)'!$A$2:$E$426,5,FALSE)),"",VLOOKUP(AM18,'選択科目(縦欄)'!$A$2:$E$426,5,FALSE)) | AF18: =IF(AND(I18<>"",J18=""),"該当の番号がありません",IF(COUNTIF($I$6:$I$14,I18)>1,"重複エラー","")) | AG18: =IF(A18="",AG17,C18) -> 0 | AH18: =IF(ISERROR(VLOOKUP(I18,番号書換!$A$1:$B$10,2,FALSE)),"",VLOOKUP(I18,番号書換!$A$1:$B$10,2,FALSE)) | AM18: =AG18&AH18 -> 0
J19: =IF(ISERROR(VLOOKUP(AM19,'選択科目(縦欄)'!$A$2:$E$426,5,FALSE)),"",VLOOKUP(AM19,'選択科目(縦欄)'!$A$2:$E$426,5,FALSE)) | AF19: =IF(AND(I19<>"",J19=""),"該当の番号がありません",IF(COUNTIF($I$6:$I$14,I19)>1,"重複エラー","")) | AG19: =IF(A19="",AG18,C19) -> 0 | AH19: =IF(ISERROR(VLOOKUP(I19,番号書換!$A$1:$B$10,2,FALSE)),"",VLOOKUP(I19,番号書換!$A$1:$B$10,2,FALSE)) | AM19: =AG19&AH19 -> 0
J20: =IF(ISERROR(VLOOKUP(AM20,'選択科目(縦欄)'!$A$2:$E$426,5,FALSE)),"",VLOOKUP(AM20,'選択科目(縦欄)'!$A$2:$E$426,5,FALSE)) | AF20: =IF(AND(I20<>"",J20=""),"該当の番号がありません",IF(COUNTIF($I$6:$I$14,I20)>1,"重複エラー","")) | AG20: =IF(A20="",AG19,C20) -> 0 | AH20: =IF(ISERROR(VLOOKUP(I20,番号書換!$A$1:$B$10,2,FALSE)),"",VLOOKUP(I20,番号書換!$A$1:$B$10,2,FALSE)) | AM20: =AG20&AH20 -> 0
J21: =IF(ISERROR(VLOOKUP(AM21,'選択科目(縦欄)'!$A$2:$E$426,5,FALSE)),"",VLOOKUP(AM21,'選択科目(縦欄)'!$A$2:$E$426,5,FALSE)) | AF21: =IF(AND(I21<>"",J21=""),"該当の番号がありません",IF(COUNTIF($I$6:$I$14,I21)>1,"重複エラー","")) | AG21: =IF(A21="",AG20,C21) -> 0 | AH21: =IF(ISERROR(VLOOKUP(I21,番号書換!$A$1:$B$10,2,FALSE)),"",VLOOKUP(I21,番号書換!$A$1:$B$10,2,FALSE)) | AM21: =AG21&AH21 -> 0
J22: =IF(ISERROR(VLOOKUP(AM22,'選択科目(縦欄)'!$A$2:$E$426,5,FALSE)),"",VLOOKUP(AM22,'選択科目(縦欄)'!$A$2:$E$426,5,FALSE)) | AF22: =IF(AND(I22<>"",J22=""),"該当の番号がありません",IF(COUNTIF($I$6:$I$14,I22)>1,"重複エラー","")) | AG22: =IF(A22="",AG21,C22) -> 0 | AH22: =IF(ISERROR(VLOOKUP(I22,番号書換!$A$1:$B$10,2,FALSE)),"",VLOOKUP(I22,番号書換!$A$1:$B$10,2,FALSE)) | AM22: =AG22&AH22 -> 0
J23: =IF(ISERROR(VLOOKUP(AM23,'選択科目(縦欄)'!$A$2:$E$426,5,FALSE)),"",VLOOKUP(AM23,'選択科目(縦欄)'!$A$2:$E$426,5,FALSE)) | AF23: =IF(AND(I23<>"",J23=""),"該当の番号がありません",IF(COUNTIF($I$6:$I$14,I23)>1,"重複エラー","")) | AG23: =IF(A23="",AG22,C23) -> 0 | AH23: =IF(ISERROR(VLOOKUP(I23,番号書換!$A$1:$B$10,2,FALSE)),"",VLOOKUP(I23,番号書換!$A$1:$B$10,2,FALSE)) | AM23: =AG23&AH23 -> 0
J24: =IF(ISERROR(VLOOKUP(AM24,'選択科目(縦欄)'!$A$2:$E$426,5,FALSE)),"",VLOOKUP(AM24,'選択科目(縦欄)'!$A$2:$E$426,5,FALSE)) | AF24: =IF(AND(I24<>"",J24=""),"該当の番号がありません",IF(COUNTIF($I$6:$I$14,I24)>1,"重複エラー","")) | AG24: =IF(A24="",AG23,C24) -> 0 | AH24: =IF(ISERROR(VLOOKUP(I24,番号書換!$A$1:$B$10,2,FALSE)),"",VLOOKUP(I24,番号書換!$A$1:$B$10,2,FALSE)) | AM24: =AG24&AH24 -> 0
I25: ⑩ | J25: その他( ) | AG25: =IF(A25="",AG24,C25) -> 0
A26: 3 | E26: =IF(ISERROR(VLOOKUP(C26,'選択科目(縦欄)'!$B$2:$C$426,2)),"",(VLOOKUP(C26,'選択科目(縦欄)'!$B$2:$C$426,2))) | J26: =IF(ISERROR(VLOOKUP(AM26,'選択科目(縦欄)'!$A$2:$E$426,5,FALSE)),"",VLOOKUP(AM26,'選択科目(縦欄)'!$A$2:$E$426,5,FALSE)) | AF26: =IF(AND(I26<>"",J26=""),"該当の番号がありません",IF(COUNTIF($I$6:$I$14,I26)>1,"重複エラー","")) | AG26: =IF(A26="",AG25,C26) -> 0 | AH26: =IF(ISERROR(VLOOKUP(I26,番号書換!$A$1:$B$10,2,FALSE)),"",VLOOKUP(I26,番号書換!$A$1:$B$10,2,FALSE)) | AM26: =AG26&AH26 -> 0
J27: =IF(ISERROR(VLOOKUP(AM27,'選択科目(縦欄)'!$A$2:$E$426,5,FALSE)),"",VLOOKUP(AM27,'選択科目(縦欄)'!$A$2:$E$426,5,FALSE)) | AF27: =IF(AND(I27<>"",J27=""),"該当の番号がありません",IF(COUNTIF($I$6:$I$14,I27)>1,"重複エラー","")) | AG27: =IF(A27="",AG26,C27) -> 0 | AH27: =IF(ISERROR(VLOOKUP(I27,番号書換!$A$1:$B$10,2,FALSE)),"",VLOOKUP(I27,番号書換!$A$1:$B$10,2,FALSE)) | AM27: =AG27&AH27 -> 0
J28: =IF(ISERROR(VLOOKUP(AM28,'選択科目(縦欄)'!$A$2:$E$426,5,FALSE)),"",VLOOKUP(AM28,'選択科目(縦欄)'!$A$2:$E$426,5,FALSE)) | AF28: =IF(AND(I28<>"",J28=""),"該当の番号がありません",IF(COUNTIF($I$6:$I$14,I28)>1,"重複エラー","")) | AG28: =IF(A28="",AG27,C28) -> 0 | AH28: =IF(ISERROR(VLOOKUP(I28,番号書換!$A$1:$B$10,2,FALSE)),"",VLOOKUP(I28,番号書換!$A$1:$B$10,2,FALSE)) | AM28: =AG28&AH28 -> 0
J29: =IF(ISERROR(VLOOKUP(AM29,'選択科目(縦欄)'!$A$2:$E$426,5,FALSE)),"",VLOOKUP(AM29,'選択科目(縦欄)'!$A$2:$E$426,5,FALSE)) | AF29: =IF(AND(I29<>"",J29=""),"該当の番号がありません",IF(COUNTIF($I$6:$I$14,I29)>1,"重複エラー","")) | AG29: =IF(A29="",AG28,C29) -> 0 | AH29: =IF(ISERROR(VLOOKUP(I29,番号書換!$A$1:$B$10,2,FALSE)),"",VLOOKUP(I29,番号書換!$A$1:$B$10,2,FALSE)) | AM29: =AG29&AH29 -> 0
J30: =IF(ISERROR(VLOOKUP(AM30,'選択科目(縦欄)'!$A$2:$E$426,5,FALSE)),"",VLOOKUP(AM30,'選択科目(縦欄)'!$A$2:$E$426,5,FALSE)) | AF30: =IF(AND(I30<>"",J30=""),"該当の番号がありません",IF(COUNTIF($I$6:$I$14,I30)>1,"重複エラー","")) | AG30: =IF(A30="",AG29,C30) -> 0 | AH30: =IF(ISERROR(VLOOKUP(I30,番号書換!$A$1:$B$10,2,FALSE)),"",VLOOKUP(I30,番号書換!$A$1:$B$10,2,FALSE)) | AM30: =AG30&AH30 -> 0
J31: =IF(ISERROR(VLOOKUP(AM31,'選択科目(縦欄)'!$A$2:$E$426,5,FALSE)),"",VLOOKUP(AM31,'選択科目(縦欄)'!$A$2:$E$426,5,FALSE)) | AF31: =IF(AND(I31<>"",J31=""),"該当の番号がありません",IF(COUNTIF($I$6:$I$14,I31)>1,"重複エラー","")) | AG31: =IF(A31="",AG30,C31) -> 0 | AH31: =IF(ISERROR(VLOOKUP(I31,番号書換!$A$1:$B$10,2,FALSE)),"",VLOOKUP(I31,番号書換!$A$1:$B$10,2,FALSE)) | AM31: =AG31&AH31 -> 0
J32: =IF(ISERROR(VLOOKUP(AM32,'選択科目(縦欄)'!$A$2:$E$426,5,FALSE)),"",VLOOKUP(AM32,'選択科目(縦欄)'!$A$2:$E$426,5,FALSE)) | AF32: =IF(AND(I32<>"",J32=""),"該当の番号がありません",IF(COUNTIF($I$6:$I$14,I32)>1,"重複エラー","")) | AG32: =IF(A32="",AG31,C32) -> 0 | AH32: =IF(ISERROR(VLOOKUP(I32,番号書換!$A$1:$B$10,2,FALSE)),"",VLOOKUP(I32,番号書換!$A$1:$B$10,2,FALSE)) | AM32: =AG32&AH32 -> 0
J33: =IF(ISERROR(VLOOKUP(AM33,'選択科目(縦欄)'!$A$2:$E$426,5,FALSE)),"",VLOOKUP(AM33,'選択科目(縦欄)'!$A$2:$E$426,5,FALSE)) | AF33: =IF(AND(I33<>"",J33=""),"該当の番号がありません",IF(COUNTIF($I$6:$I$14,I33)>1,"重複エラー","")) | AG33: =IF(A33="",AG32,C33) -> 0 | AH33: =IF(ISERROR(VLOOKUP(I33,番号書換!$A$1:$B$10,2,FALSE)),"",VLOOKUP(I33,番号書換!$A$1:$B$10,2,FALSE)) | AM33: =AG33&AH33 -> 0
J34: =IF(ISERROR(VLOOKUP(AM34,'選択科目(縦欄)'!$A$2:$E$426,5,FALSE)),"",VLOOKUP(AM34,'選択科目(縦欄)'!$A$2:$E$426,5,FALSE)) | AF34: =IF(AND(I34<>"",J34=""),"該当の番号がありません",IF(COUNTIF($I$6:$I$14,I34)>1,"重複エラー","")) | AG34: =IF(A34="",AG33,C34) -> 0 | AH34: =IF(ISERROR(VLOOKUP(I34,番号書換!$A$1:$B$10,2,FALSE)),"",VLOOKUP(I34,番号書換!$A$1:$B$10,2,FALSE)) | AM34: =AG34&AH34 -> 0
I35: ⑩ | J35: その他( ) | AG35: =IF(A35="",AG34,C35) -> 0
A36: 4 | E36: =IF(ISERROR(VLOOKUP(C36,'選択科目(縦欄)'!$B$2:$C$426,2)),"",(VLOOKUP(C36,'選択科目(縦欄)'!$B$2:$C$426,2))) | J36: =IF(ISERROR(VLOOKUP(AM36,'選択科目(縦欄)'!$A$2:$E$426,5,FALSE)),"",VLOOKUP(AM36,'選択科目(縦欄)'!$A$2:$E$426,5,FALSE)) | AF36: =IF(AND(I36<>"",J36=""),"該当の番号がありません",IF(COUNTIF($I$6:$I$14,I36)>1,"重複エラー","")) | AG36: =IF(A36="",AG35,C36) -> 0 | AH36: =IF(ISERROR(VLOOKUP(I36,番号書換!$A$1:$B$10,2,FALSE)),"",VLOOKUP(I36,番号書換!$A$1:$B$10,2,FALSE)) | AM36: =AG36&AH36 -> 0
J37: =IF(ISERROR(VLOOKUP(AM37,'選択科目(縦欄)'!$A$2:$E$426,5,FALSE)),"",VLOOKUP(AM37,'選択科目(縦欄)'!$A$2:$E$426,5,FALSE)) | AF37: =IF(AND(I37<>"",J37=""),"該当の番号がありません",IF(COUNTIF($I$6:$I$14,I37)>1,"重複エラー","")) | AG37: =IF(A37="",AG36,C37) -> 0 | AH37: =IF(ISERROR(VLOOKUP(I37,番号書換!$A$1:$B$10,2,FALSE)),"",VLOOKUP(I37,番号書換!$A$1:$B$10,2,FALSE)) | AM37: =AG37&AH37 -> 0
J38: =IF(ISERROR(VLOOKUP(AM38,'選択科目(縦欄)'!$A$2:$E$426,5,FALSE)),"",VLOOKUP(AM38,'選択科目(縦欄)'!$A$2:$E$426,5,FALSE)) | AF38: =IF(AND(I38<>"",J38=""),"該当の番号がありません",IF(COUNTIF($I$6:$I$14,I38)>1,"重複エラー","")) | AG38: =IF(A38="",AG37,C38) -> 0 | AH38: =IF(ISERROR(VLOOKUP(I38,番号書換!$A$1:$B$10,2,FALSE)),"",VLOOKUP(I38,番号書換!$A$1:$B$10,2,FALSE)) | AM38: =AG38&AH38 -> 0
J39: =IF(ISERROR(VLOOKUP(AM39,'選択科目(縦欄)'!$A$2:$E$426,5,FALSE)),"",VLOOKUP(AM39,'選択科目(縦欄)'!$A$2:$E$426,5,FALSE)) | AF39: =IF(AND(I39<>"",J39=""),"該当の番号がありません",IF(COUNTIF($I$6:$I$14,I39)>1,"重複エラー","")) | AG39: =IF(A39="",AG38,C39) -> 0 | AH39: =IF(ISERROR(VLOOKUP(I39,番号書換!$A$1:$B$10,2,FALSE)),"",VLOOKUP(I39,番号書換!$A$1:$B$10,2,FALSE)) | AM39: =AG39&AH39 -> 0
J40: =IF(ISERROR(VLOOKUP(AM40,'選択科目(縦欄)'!$A$2:$E$426,5,FALSE)),"",VLOOKUP(AM40,'選択科目(縦欄)'!$A$2:$E$426,5,FALSE)) | AF40: =IF(AND(I40<>"",J40=""),"該当の番号がありません",IF(COUNTIF($I$6:$I$14,I40)>1,"重複エラー","")) | AG40: =IF(A40="",AG39,C40) -> 0 | AH40: =IF(ISERROR(VLOOKUP(I40,番号書換!$A$1:$B$10,2,FALSE)),"",VLOOKUP(I40,番号書換!$A$1:$B$10,2,FALSE)) | AM40: =AG40&AH40 -> 0
J41: =IF(ISERROR(VLOOKUP(AM41,'選択科目(縦欄)'!$A$2:$E$426,5,FALSE)),"",VLOOKUP(AM41,'選択科目(縦欄)'!$A$2:$E$426,5,FALSE)) | AF41: =IF(AND(I41<>"",J41=""),"該当の番号がありません",IF(COUNTIF($I$6:$I$14,I41)>1,"重複エラー","")) | AG41: =IF(A41="",AG40,C41) -> 0 | AH41: =IF(ISERROR(VLOOKUP(I41,番号書換!$A$1:$B$10,2,FALSE)),"",VLOOKUP(I41,番号書換!$A$1:$B$10,2,FALSE)) | AM41: =AG41&AH41 -> 0
J42: =IF(ISERROR(VLOOKUP(AM42,'選択科目(縦欄)'!$A$2:$E$426,5,FALSE)),"",VLOOKUP(AM42,'選択科目(縦欄)'!$A$2:$E$426,5,FALSE)) | AF42: =IF(AND(I42<>"",J42=""),"該当の番号がありません",IF(COUNTIF($I$6:$I$14,I42)>1,"重複エラー","")) | AG42: =IF(A42="",AG41,C42) -> 0 | AH42: =IF(ISERROR(VLOOKUP(I42,番号書換!$A$1:$B$10,2,FALSE)),"",VLOOKUP(I42,番号書換!$A$1:$B$10,2,FALSE)) | AM42: =AG42&AH42 -> 0
J43: =IF(ISERROR(VLOOKUP(AM43,'選択科目(縦欄)'!$A$2:$E$426,5,FALSE)),"",VLOOKUP(AM43,'選択科目(縦欄)'!$A$2:$E$426,5,FALSE)) | AF43: =IF(AND(I43<>"",J43=""),"該当の番号がありません",IF(COUNTIF($I$6:$I$14,I43)>1,"重複エラー","")) | AG43: =IF(A43="",AG42,C43) -> 0 | AH43: =IF(ISERROR(VLOOKUP(I43,番号書換!$A$1:$B$10,2,FALSE)),"",VLOOKUP(I43,番号書換!$A$1:$B$10,2,FALSE)) | AM43: =AG43&AH43 -> 0
J44: =IF(ISERROR(VLOOKUP(AM44,'選択科目(縦欄)'!$A$2:$E$426,5,FALSE)),"",VLOOKUP(AM44,'選択科目(縦欄)'!$A$2:$E$426,5,FALSE)) | AF44: =IF(AND(I44<>"",J44=""),"該当の番号がありません",IF(COUNTIF($I$6:$I$14,I44)>1,"重複エラー","")) | AG44: =IF(A44="",AG43,C44) -> 0 | AH44: =IF(ISERROR(VLOOKUP(I44,番号書換!$A$1:$B$10,2,FALSE)),"",VLOOKUP(I44,番号書換!$A$1:$B$10,2,FALSE)) | AM44: =AG44&AH44 -> 0
I45: ⑩ | J45: その他( ) | AG45: =IF(A45="",AG44,C45) -> 0
A46: 5 | E46: =IF(ISERROR(VLOOKUP(C46,'選択科目(縦欄)'!$B$2:$C$426,2)),"",(VLOOKUP(C46,'選択科目(縦欄)'!$B$2:$C$426,2))) | J46: =IF(ISERROR(VLOOKUP(AM46,'選択科目(縦欄)'!$A$2:$E$426,5,FALSE)),"",VLOOKUP(AM46,'選択科目(縦欄)'!$A$2:$E$426,5,FALSE)) | AF46: =IF(AND(I46<>"",J46=""),"該当の番号がありません",IF(COUNTIF($I$6:$I$14,I46)>1,"重複エラー","")) | AG46: =IF(A46="",AG45,C46) -> 0 | AH46: =IF(ISERROR(VLOOKUP(I46,番号書換!$A$1:$B$10,2,FALSE)),"",VLOOKUP(I46,番号書換!$A$1:$B$10,2,FALSE)) | AM46: =AG46&AH46 -> 0
J47: =IF(ISERROR(VLOOKUP(AM47,'選択科目(縦欄)'!$A$2:$E$426,5,FALSE)),"",VLOOKUP(AM47,'選択科目(縦欄)'!$A$2:$E$426,5,FALSE)) | AF47: =IF(AND(I47<>"",J47=""),"該当の番号がありません",IF(COUNTIF($I$6:$I$14,I47)>1,"重複エラー","")) | AG47: =IF(A47="",AG46,C47) -> 0 | AH47: =IF(ISERROR(VLOOKUP(I47,番号書換!$A$1:$B$10,2,FALSE)),"",VLOOKUP(I47,番号書換!$A$1:$B$10,2,FALSE)) | AM47: =AG47&AH47 -> 0
J48: =IF(ISERROR(VLOOKUP(AM48,'選択科目(縦欄)'!$A$2:$E$426,5,FALSE)),"",VLOOKUP(AM48,'選択科目(縦欄)'!$A$2:$E$426,5,FALSE)) | AF48: =IF(AND(I48<>"",J48=""),"該当の番号がありません",IF(COUNTIF($I$6:$I$14,I48)>1,"重複エラー","")) | AG48: =IF(A48="",AG47,C48) -> 0 | AH48: =IF(ISERROR(VLOOKUP(I48,番号書換!$A$1:$B$10,2,FALSE)),"",VLOOKUP(I48,番号書換!$A$1:$B$10,2,FALSE)) | AM48: =AG48&AH48 -> 0
J49: =IF(ISERROR(VLOOKUP(AM49,'選択科目(縦欄)'!$A$2:$E$426,5,FALSE)),"",VLOOKUP(AM49,'選択科目(縦欄)'!$A$2:$E$426,5,FALSE)) | AF49: =IF(AND(I49<>"",J49=""),"該当の番号がありません",IF(COUNTIF($I$6:$I$14,I49)>1,"重複エラー","")) | AG49: =IF(A49="",AG48,C49) -> 0 | AH49: =IF(ISERROR(VLOOKUP(I49,番号書換!$A$1:$B$10,2,FALSE)),"",VLOOKUP(I49,番号書換!$A$1:$B$10,2,FALSE)) | AM49: =AG49&AH49 -> 0
J50: =IF(ISERROR(VLOOKUP(AM50,'選択科目(縦欄)'!$A$2:$E$426,5,FALSE)),"",VLOOKUP(AM50,'選択科目(縦欄)'!$A$2:$E$426,5,FALSE)) | AF50: =IF(AND(I50<>"",J50=""),"該当の番号がありません",IF(COUNTIF($I$6:$I$14,I50)>1,"重複エラー","")) | AG50: =IF(A50="",AG49,C50) -> 0 | AH50: =IF(ISERROR(VLOOKUP(I50,番号書換!$A$1:$B$10,2,FALSE)),"",VLOOKUP(I50,番号書換!$A$1:$B$10,2,FALSE)) | AM50: =AG50&AH50 -> 0
J51: =IF(ISERROR(VLOOKUP(AM51,'選択科目(縦欄)'!$A$2:$E$426,5,FALSE)),"",VLOOKUP(AM51,'選択科目(縦欄)'!$A$2:$E$426,5,FALSE)) | AF51: =IF(AND(I51<>"",J51=""),"該当の番号がありません",IF(COUNTIF($I$6:$I$14,I51)>1,"重複エラー","")) | AG51: =IF(A51="",AG50,C51) -> 0 | AH51: =IF(ISERROR(VLOOKUP(I51,番号書換!$A$1:$B$10,2,FALSE)),"",VLOOKUP(I51,番号書換!$A$1:$B$10,2,FALSE)) | AM51: =AG51&AH51 -> 0
J52: =IF(ISERROR(VLOOKUP(AM52,'選択科目(縦欄)'!$A$2:$E$426,5,FALSE)),"",VLOOKUP(AM52,'選択科目(縦欄)'!$A$2:$E$426,5,FALSE)) | AF52: =IF(AND(I52<>"",J52=""),"該当の番号がありません",IF(COUNTIF($I$6:$I$14,I52)>1,"重複エラー","")) | AG52: =IF(A52="",AG51,C52) -> 0 | AH52: =IF(ISERROR(VLOOKUP(I52,番号書換!$A$1:$B$10,2,FALSE)),"",VLOOKUP(I52,番号書換!$A$1:$B$10,2,FALSE)) | AM52: =AG52&AH52 -> 0
J53: =IF(ISERROR(VLOOKUP(AM53,'選択科目(縦欄)'!$A$2:$E$426,5,FALSE)),"",VLOOKUP(AM53,'選択科目(縦欄)'!$A$2:$E$426,5,FALSE)) | AF53: =IF(AND(I53<>"",J53=""),"該当の番号がありません",IF(COUNTIF($I$6:$I$14,I53)>1,"重複エラー","")) | AG53: =IF(A53="",AG52,C53) -> 0 | AH53: =IF(ISERROR(VLOOKUP(I53,番号書換!$A$1:$B$10,2,FALSE)),"",VLOOKUP(I53,番号書換!$A$1:$B$10,2,FALSE)) | AM53: =AG53&AH53 -> 0
J54: =IF(ISERROR(VLOOKUP(AM54,'選択科目(縦欄)'!$A$2:$E$426,5,FALSE)),"",VLOOKUP(AM54,'選択科目(縦欄)'!$A$2:$E$426,5,FALSE)) | AF54: =IF(AND(I54<>"",J54=""),"該当の番号がありません",IF(COUNTIF($I$6:$I$14,I54)>1,"重複エラー","")) | AG54: =IF(A54="",AG53,C54) -> 0 | AH54: =IF(ISERROR(VLOOKUP(I54,番号書換!$A$1:$B$10,2,FALSE)),"",VLOOKUP(I54,番号書換!$A$1:$B$10,2,FALSE)) | AM54: =AG54&AH54 -> 0
I55: ⑩ | J55: その他( ) | AG55: =IF(A55="",AG54,C55) -> 0
A56: 6 | E56: =IF(ISERROR(VLOOKUP(C56,'選択科目(縦欄)'!$B$2:$C$426,2)),"",(VLOOKUP(C56,'選択科目(縦欄)'!$B$2:$C$426,2))) | J56: =IF(ISERROR(VLOOKUP(AM56,'選択科目(縦欄)'!$A$2:$E$426,5,FALSE)),"",VLOOKUP(AM56,'選択科目(縦欄)'!$A$2:$E$426,5,FALSE)) | AF56: =IF(AND(I56<>"",J56=""),"該当の番号がありません",IF(COUNTIF($I$6:$I$14,I56)>1,"重複エラー","")) | AG56: =IF(A56="",AG55,C56) -> 0 | AH56: =IF(ISERROR(VLOOKUP(I56,番号書換!$A$1:$B$10,2,FALSE)),"",VLOOKUP(I56,番号書換!$A$1:$B$10,2,FALSE)) | AM56: =AG56&AH56 -> 0
J57: =IF(ISERROR(VLOOKUP(AM57,'選択科目(縦欄)'!$A$2:$E$426,5,FALSE)),"",VLOOKUP(AM57,'選択科目(縦欄)'!$A$2:$E$426,5,FALSE)) | AF57: =IF(AND(I57<>"",J57=""),"該当の番号がありません",IF(COUNTIF($I$6:$I$14,I57)>1,"重複エラー","")) | AG57: =IF(A57="",AG56,C57) -> 0 | AH57: =IF(ISERROR(VLOOKUP(I57,番号書換!$A$1:$B$10,2,FALSE)),"",VLOOKUP(I57,番号書換!$A$1:$B$10,2,FALSE)) | AM57: =AG57&AH57 -> 0
J58: =IF(ISERROR(VLOOKUP(AM58,'選択科目(縦欄)'!$A$2:$E$426,5,FALSE)),"",VLOOKUP(AM58,'選択科目(縦欄)'!$A$2:$E$426,5,FALSE)) | AF58: =IF(AND(I58<>"",J58=""),"該当の番号がありません",IF(COUNTIF($I$6:$I$14,I58)>1,"重複エラー","")) | AG58: =IF(A58="",AG57,C58) -> 0 | AH58: =IF(ISERROR(VLOOKUP(I58,番号書換!$A$1:$B$10,2,FALSE)),"",VLOOKUP(I58,番号書換!$A$1:$B$10,2,FALSE)) | AM58: =AG58&AH58 -> 0
J59: =IF(ISERROR(VLOOKUP(AM59,'選択科目(縦欄)'!$A$2:$E$426,5,FALSE)),"",VLOOKUP(AM59,'選択科目(縦欄)'!$A$2:$E$426,5,FALSE)) | AF59: =IF(AND(I59<>"",J59=""),"該当の番号がありません",IF(COUNTIF($I$6:$I$14,I59)>1,"重複エラー","")) | AG59: =IF(A59="",AG58,C59) -> 0 | AH59: =IF(ISERROR(VLOOKUP(I59,番号書換!$A$1:$B$10,2,FALSE)),"",VLOOKUP(I59,番号書換!$A$1:$B$10,2,FALSE)) | AM59: =AG59&AH59 -> 0
J60: =IF(ISERROR(VLOOKUP(AM60,'選択科目(縦欄)'!$A$2:$E$426,5,FALSE)),"",VLOOKUP(AM60,'選択科目(縦欄)'!$A$2:$E$426,5,FALSE)) | AF60: =IF(AND(I60<>"",J60=""),"該当の番号がありません",IF(COUNTIF($I$6:$I$14,I60)>1,"重複エラー","")) | AG60: =IF(A60="",AG59,C60) -> 0 | AH60: =IF(ISERROR(VLOOKUP(I60,番号書換!$A$1:$B$10,2,FALSE)),"",VLOOKUP(I60,番号書換!$A$1:$B$10,2,FALSE)) | AM60: =AG60&AH60 -> 0
J61: =IF(ISERROR(VLOOKUP(AM61,'選択科目(縦欄)'!$A$2:$E$426,5,FALSE)),"",VLOOKUP(AM61,'選択科目(縦欄)'!$A$2:$E$426,5,FALSE)) | AF61: =IF(AND(I61<>"",J61=""),"該当の番号がありません",IF(COUNTIF($I$6:$I$14,I61)>1,"重複エラー","")) | AG61: =IF(A61="",AG60,C61) -> 0 | AH61: =IF(ISERROR(VLOOKUP(I61,番号書換!$A$1:$B$10,2,FALSE)),"",VLOOKUP(I61,番号書換!$A$1:$B$10,2,FALSE)) | AM61: =AG61&AH61 -> 0
J62: =IF(ISERROR(VLOOKUP(AM62,'選択科目(縦欄)'!$A$2:$E$426,5,FALSE)),"",VLOOKUP(AM62,'選択科目(縦欄)'!$A$2:$E$426,5,FALSE)) | AF62: =IF(AND(I62<>"",J62=""),"該当の番号がありません",IF(COUNTIF($I$6:$I$14,I62)>1,"重複エラー","")) | AG62: =IF(A62="",AG61,C62) -> 0 | AH62: =IF(ISERROR(VLOOKUP(I62,番号書換!$A$1:$B$10,2,FALSE)),"",VLOOKUP(I62,番号書換!$A$1:$B$10,2,FALSE)) | AM62: =AG62&AH62 -> 0
J63: =IF(ISERROR(VLOOKUP(AM63,'選択科目(縦欄)'!$A$2:$E$426,5,FALSE)),"",VLOOKUP(AM63,'選択科目(縦欄)'!$A$2:$E$426,5,FALSE)) | AF63: =IF(AND(I63<>"",J63=""),"該当の番号がありません",IF(COUNTIF($I$6:$I$14,I63)>1,"重複エラー","")) | AG63: =IF(A63="",AG62,C63) -> 0 | AH63: =IF(ISERROR(VLOOKUP(I63,番号書換!$A$1:$B$10,2,FALSE)),"",VLOOKUP(I63,番号書換!$A$1:$B$10,2,FALSE)) | AM63: =AG63&AH63 -> 0
J64: =IF(ISERROR(VLOOKUP(AM64,'選択科目(縦欄)'!$A$2:$E$426,5,FALSE)),"",VLOOKUP(AM64,'選択科目(縦欄)'!$A$2:$E$426,5,FALSE)) | AF64: =IF(AND(I64<>"",J64=""),"該当の番号がありません",IF(COUNTIF($I$6:$I$14,I64)>1,"重複エラー","")) | AG64: =IF(A64="",AG63,C64) -> 0 | AH64: =IF(ISERROR(VLOOKUP(I64,番号書換!$A$1:$B$10,2,FALSE)),"",VLOOKUP(I64,番号書換!$A$1:$B$10,2,FALSE)) | AM64: =AG64&AH64 -> 0
I65: ⑩ | J65: その他( ) | AG65: =IF(A65="",AG64,C65) -> 0
A66: 7 | E66: =IF(ISERROR(VLOOKUP(C66,'選択科目(縦欄)'!$B$2:$C$426,2)),"",(VLOOKUP(C66,'選択科目(縦欄)'!$B$2:$C$426,2))) | J66: =IF(ISERROR(VLOOKUP(AM66,'選択科目(縦欄)'!$A$2:$E$426,5,FALSE)),"",VLOOKUP(AM66,'選択科目(縦欄)'!$A$2:$E$426,5,FALSE)) | AF66: =IF(AND(I66<>"",J66=""),"該当の番号がありません",IF(COUNTIF($I$6:$I$14,I66)>1,"重複エラー","")) | AG66: =IF(A66="",AG65,C66) -> 0 | AH66: =IF(ISERROR(VLOOKUP(I66,番号書換!$A$1:$B$10,2,FALSE)),"",VLOOKUP(I66,番号書換!$A$1:$B$10,2,FALSE)) | AM66: =AG66&AH66 -> 0
J67: =IF(ISERROR(VLOOKUP(AM67,'選択科目(縦欄)'!$A$2:$E$426,5,FALSE)),"",VLOOKUP(AM67,'選択科目(縦欄)'!$A$2:$E$426,5,FALSE)) | AF67: =IF(AND(I67<>"",J67=""),"該当の番号がありません",IF(COUNTIF($I$6:$I$14,I67)>1,"重複エラー","")) | AG67: =IF(A67="",AG66,C67) -> 0 | AH67: =IF(ISERROR(VLOOKUP(I67,番号書換!$A$1:$B$10,2,FALSE)),"",VLOOKUP(I67,番号書換!$A$1:$B$10,2,FALSE)) | AM67: =AG67&AH67 -> 0
J68: =IF(ISERROR(VLOOKUP(AM68,'選択科目(縦欄)'!$A$2:$E$426,5,FALSE)),"",VLOOKUP(AM68,'選択科目(縦欄)'!$A$2:$E$426,5,FALSE)) | AF68: =IF(AND(I68<>"",J68=""),"該当の番号がありません",IF(COUNTIF($I$6:$I$14,I68)>1,"重複エラー","")) | AG68: =IF(A68="",AG67,C68) -> 0 | AH68: =IF(ISERROR(VLOOKUP(I68,番号書換!$A$1:$B$10,2,FALSE)),"",VLOOKUP(I68,番号書換!$A$1:$B$10,2,FALSE)) | AM68: =AG68&AH68 -> 0
J69: =IF(ISERROR(VLOOKUP(AM69,'選択科目(縦欄)'!$A$2:$E$426,5,FALSE)),"",VLOOKUP(AM69,'選択科目(縦欄)'!$A$2:$E$426,5,FALSE)) | AF69: =IF(AND(I69<>"",J69=""),"該当の番号がありません",IF(COUNTIF($I$6:$I$14,I69)>1,"重複エラー","")) | AG69: =IF(A69="",AG68,C69) -> 0 | AH69: =IF(ISERROR(VLOOKUP(I69,番号書換!$A$1:$B$10,2,FALSE)),"",VLOOKUP(I69,番号書換!$A$1:$B$10,2,FALSE)) | AM69: =AG69&AH69 -> 0
J70: =IF(ISERROR(VLOOKUP(AM70,'選択科目(縦欄)'!$A$2:$E$426,5,FALSE)),"",VLOOKUP(AM70,'選択科目(縦欄)'!$A$2:$E$426,5,FALSE)) | AF70: =IF(AND(I70<>"",J70=""),"該当の番号がありません",IF(COUNTIF($I$6:$I$14,I70)>1,"重複エラー","")) | AG70: =IF(A70="",AG69,C70) -> 0 | AH70: =IF(ISERROR(VLOOKUP(I70,番号書換!$A$1:$B$10,2,FALSE)),"",VLOOKUP(I70,番号書換!$A$1:$B$10,2,FALSE)) | AM70: =AG70&AH70 -> 0
J71: =IF(ISERROR(VLOOKUP(AM71,'選択科目(縦欄)'!$A$2:$E$426,5,FALSE)),"",VLOOKUP(AM71,'選択科目(縦欄)'!$A$2:$E$426,5,FALSE)) | AF71: =IF(AND(I71<>"",J71=""),"該当の番号がありません",IF(COUNTIF($I$6:$I$14,I71)>1,"重複エラー","")) | AG71: =IF(A71="",AG70,C71) -> 0 | AH71: =IF(ISERROR(VLOOKUP(I71,番号書換!$A$1:$B$10,2,FALSE)),"",VLOOKUP(I71,番号書換!$A$1:$B$10,2,FALSE)) | AM71: =AG71&AH71 -> 0
J72: =IF(ISERROR(VLOOKUP(AM72,'選択科目(縦欄)'!$A$2:$E$426,5,FALSE)),"",VLOOKUP(AM72,'選択科目(縦欄)'!$A$2:$E$426,5,FALSE)) | AF72: =IF(AND(I72<>"",J72=""),"該当の番号がありません",IF(COUNTIF($I$6:$I$14,I72)>1,"重複エラー","")) | AG72: =IF(A72="",AG71,C72) -> 0 | AH72: =IF(ISERROR(VLOOKUP(I72,番号書換!$A$1:$B$10,2,FALSE)),"",VLOOKUP(I72,番号書換!$A$1:$B$10,2,FALSE)) | AM72: =AG72&AH72 -> 0
J73: =IF(ISERROR(VLOOKUP(AM73,'選択科目(縦欄)'!$A$2:$E$426,5,FALSE)),"",VLOOKUP(AM73,'選択科目(縦欄)'!$A$2:$E$426,5,FALSE)) | AF73: =IF(AND(I73<>"",J73=""),"該当の番号がありません",IF(COUNTIF($I$6:$I$14,I73)>1,"重複エラー","")) | AG73: =IF(A73="",AG72,C73) -> 0 | AH73: =IF(ISERROR(VLOOKUP(I73,番号書換!$A$1:$B$10,2,FALSE)),"",VLOOKUP(I73,番号書換!$A$1:$B$10,2,FALSE)) | AM73: =AG73&AH73 -> 0
J74: =IF(ISERROR(VLOOKUP(AM74,'選択科目(縦欄)'!$A$2:$E$426,5,FALSE)),"",VLOOKUP(AM74,'選択科目(縦欄)'!$A$2:$E$426,5,FALSE)) | AF74: =IF(AND(I74<>"",J74=""),"該当の番号がありません",IF(COUNTIF($I$6:$I$14,I74)>1,"重複エラー","")) | AG74: =IF(A74="",AG73,C74) -> 0 | AH74: =IF(ISERROR(VLOOKUP(I74,番号書換!$A$1:$B$10,2,FALSE)),"",VLOOKUP(I74,番号書換!$A$1:$B$10,2,FALSE)) | AM74: =AG74&AH74 -> 0
I75: ⑩ | J75: その他( ) | AG75: =IF(A75="",AG74,C75) -> 0
A76: 8 | E76: =IF(ISERROR(VLOOKUP(C76,'選択科目(縦欄)'!$B$2:$C$426,2)),"",(VLOOKUP(C76,'選択科目(縦欄)'!$B$2:$C$426,2))) | J76: =IF(ISERROR(VLOOKUP(AM76,'選択科目(縦欄)'!$A$2:$E$426,5,FALSE)),"",VLOOKUP(AM76,'選択科目(縦欄)'!$A$2:$E$426,5,FALSE)) | AF76: =IF(AND(I76<>"",J76=""),"該当の番号がありません",IF(COUNTIF($I$6:$I$14,I76)>1,"重複エラー","")) | AG76: =IF(A76="",AG75,C76) -> 0 | AH76: =IF(ISERROR(VLOOKUP(I76,番号書換!$A$1:$B$10,2,FALSE)),"",VLOOKUP(I76,番号書換!$A$1:$B$10,2,FALSE)) | AM76: =AG76&AH76 -> 0
J77: =IF(ISERROR(VLOOKUP(AM77,'選択科目(縦欄)'!$A$2:$E$426,5,FALSE)),"",VLOOKUP(AM77,'選択科目(縦欄)'!$A$2:$E$426,5,FALSE)) | AF77: =IF(AND(I77<>"",J77=""),"該当の番号がありません",IF(COUNTIF($I$6:$I$14,I77)>1,"重複エラー","")) | AG77: =IF(A77="",AG76,C77) -> 0 | AH77: =IF(ISERROR(VLOOKUP(I77,番号書換!$A$1:$B$10,2,FALSE)),"",VLOOKUP(I77,番号書換!$A$1:$B$10,2,FALSE)) | AM77: =AG77&AH77 -> 0
J78: =IF(ISERROR(VLOOKUP(AM78,'選択科目(縦欄)'!$A$2:$E$426,5,FALSE)),"",VLOOKUP(AM78,'選択科目(縦欄)'!$A$2:$E$426,5,FALSE)) | AF78: =IF(AND(I78<>"",J78=""),"該当の番号がありません",IF(COUNTIF($I$6:$I$14,I78)>1,"重複エラー","")) | AG78: =IF(A78="",AG77,C78) -> 0 | AH78: =IF(ISERROR(VLOOKUP(I78,番号書換!$A$1:$B$10,2,FALSE)),"",VLOOKUP(I78,番号書換!$A$1:$B$10,2,FALSE)) | AM78: =AG78&AH78 -> 0
J79: =IF(ISERROR(VLOOKUP(AM79,'選択科目(縦欄)'!$A$2:$E$426,5,FALSE)),"",VLOOKUP(AM79,'選択科目(縦欄)'!$A$2:$E$426,5,FALSE)) | AF79: =IF(AND(I79<>"",J79=""),"該当の番号がありません",IF(COUNTIF($I$6:$I$14,I79)>1,"重複エラー","")) | AG79: =IF(A79="",AG78,C79) -> 0 | AH79: =IF(ISERROR(VLOOKUP(I79,番号書換!$A$1:$B$10,2,FALSE)),"",VLOOKUP(I79,番号書換!$A$1:$B$10,2,FALSE)) | AM79: =AG79&AH79 -> 0
J80: =IF(ISERROR(VLOOKUP(AM80,'選択科目(縦欄)'!$A$2:$E$426,5,FALSE)),"",VLOOKUP(AM80,'選択科目(縦欄)'!$A$2:$E$426,5,FALSE)) | AF80: =IF(AND(I80<>"",J80=""),"該当の番号がありません",IF(COUNTIF($I$6:$I$14,I80)>1,"重複エラー","")) | AG80: =IF(A80="",AG79,C80) -> 0 | AH80: =IF(ISERROR(VLOOKUP(I80,番号書換!$A$1:$B$10,2,FALSE)),"",VLOOKUP(I80,番号書換!$A$1:$B$10,2,FALSE)) | AM80: =AG80&AH80 -> 0
J81: =IF(ISERROR(VLOOKUP(AM81,'選択科目(縦欄)'!$A$2:$E$426,5,FALSE)),"",VLOOKUP(AM81,'選択科目(縦欄)'!$A$2:$E$426,5,FALSE)) | AF81: =IF(AND(I81<>"",J81=""),"該当の番号がありません",IF(COUNTIF($I$6:$I$14,I81)>1,"重複エラー","")) | AG81: =IF(A81="",AG80,C81) -> 0 | AH81: =IF(ISERROR(VLOOKUP(I81,番号書換!$A$1:$B$10,2,FALSE)),"",VLOOKUP(I81,番号書換!$A$1:$B$10,2,FALSE)) | AM81: =AG81&AH81 -> 0
J82: =IF(ISERROR(VLOOKUP(AM82,'選択科目(縦欄)'!$A$2:$E$426,5,FALSE)),"",VLOOKUP(AM82,'選択科目(縦欄)'!$A$2:$E$426,5,FALSE)) | AF82: =IF(AND(I82<>"",J82=""),"該当の番号がありません",IF(COUNTIF($I$6:$I$14,I82)>1,"重複エラー","")) | AG82: =IF(A82="",AG81,C82) -> 0 | AH82: =IF(ISERROR(VLOOKUP(I82,番号書換!$A$1:$B$10,2,FALSE)),"",VLOOKUP(I82,番号書換!$A$1:$B$10,2,FALSE)) | AM82: =AG82&AH82 -> 0
J83: =IF(ISERROR(VLOOKUP(AM83,'選択科目(縦欄)'!$A$2:$E$426,5,FALSE)),"",VLOOKUP(AM83,'選択科目(縦欄)'!$A$2:$E$426,5,FALSE)) | AF83: =IF(AND(I83<>"",J83=""),"該当の番号がありません",IF(COUNTIF($I$6:$I$14,I83)>1,"重複エラー","")) | AG83: =IF(A83="",AG82,C83) -> 0 | AH83: =IF(ISERROR(VLOOKUP(I83,番号書換!$A$1:$B$10,2,FALSE)),"",VLOOKUP(I83,番号書換!$A$1:$B$10,2,FALSE)) | AM83: =AG83&AH83 -> 0
J84: =IF(ISERROR(VLOOKUP(AM84,'選択科目(縦欄)'!$A$2:$E$426,5,FALSE)),"",VLOOKUP(AM84,'選択科目(縦欄)'!$A$2:$E$426,5,FALSE)) | AF84: =IF(AND(I84<>"",J84=""),"該当の番号がありません",IF(COUNTIF($I$6:$I$14,I84)>1,"重複エラー","")) | AG84: =IF(A84="",AG83,C84) -> 0 | AH84: =IF(ISERROR(VLOOKUP(I84,番号書換!$A$1:$B$10,2,FALSE)),"",VLOOKUP(I84,番号書換!$A$1:$B$10,2,FALSE)) | AM84: =AG84&AH84 -> 0
I85: ⑩ | J85: その他( ) | AG85: =IF(A85="",AG84,C85) -> 0
A86: 9 | E86: =IF(ISERROR(VLOOKUP(C86,'選択科目(縦欄)'!$B$2:$C$426,2)),"",(VLOOKUP(C86,'選択科目(縦欄)'!$B$2:$C$426,2))) | J86: =IF(ISERROR(VLOOKUP(AM86,'選択科目(縦欄)'!$A$2:$E$426,5,FALSE)),"",VLOOKUP(AM86,'選択科目(縦欄)'!$A$2:$E$426,5,FALSE)) | AF86: =IF(AND(I86<>"",J86=""),"該当の番号がありません",IF(COUNTIF($I$6:$I$14,I86)>1,"重複エラー","")) | AG86: =IF(A86="",AG85,C86) -> 0 | AH86: =IF(ISERROR(VLOOKUP(I86,番号書換!$A$1:$B$10,2,FALSE)),"",VLOOKUP(I86,番号書換!$A$1:$B$10,2,FALSE)) | AM86: =AG86&AH86 -> 0
J87: =IF(ISERROR(VLOOKUP(AM87,'選択科目(縦欄)'!$A$2:$E$426,5,FALSE)),"",VLOOKUP(AM87,'選択科目(縦欄)'!$A$2:$E$426,5,FALSE)) | AF87: =IF(AND(I87<>"",J87=""),"該当の番号がありません",IF(COUNTIF($I$6:$I$14,I87)>1,"重複エラー","")) | AG87: =IF(A87="",AG86,C87) -> 0 | AH87: =IF(ISERROR(VLOOKUP(I87,番号書換!$A$1:$B$10,2,FALSE)),"",VLOOKUP(I87,番号書換!$A$1:$B$10,2,FALSE)) | AM87: =AG87&AH87 -> 0
J88: =IF(ISERROR(VLOOKUP(AM88,'選択科目(縦欄)'!$A$2:$E$426,5,FALSE)),"",VLOOKUP(AM88,'選択科目(縦欄)'!$A$2:$E$426,5,FALSE)) | AF88: =IF(AND(I88<>"",J88=""),"該当の番号がありません",IF(COUNTIF($I$6:$I$14,I88)>1,"重複エラー","")) | AG88: =IF(A88="",AG87,C88) -> 0 | AH88: =IF(ISERROR(VLOOKUP(I88,番号書換!$A$1:$B$10,2,FALSE)),"",VLOOKUP(I88,番号書換!$A$1:$B$10,2,FALSE)) | AM88: =AG88&AH88 -> 0
J89: =IF(ISERROR(VLOOKUP(AM89,'選択科目(縦欄)'!$A$2:$E$426,5,FALSE)),"",VLOOKUP(AM89,'選択科目(縦欄)'!$A$2:$E$426,5,FALSE)) | AF89: =IF(AND(I89<>"",J89=""),"該当の番号がありません",IF(COUNTIF($I$6:$I$14,I89)>1,"重複エラー","")) | AG89: =IF(A89="",AG88,C89) -> 0 | AH89: =IF(ISERROR(VLOOKUP(I89,番号書換!$A$1:$B$10,2,FALSE)),"",VLOOKUP(I89,番号書換!$A$1:$B$10,2,FALSE)) | AM89: =AG89&AH89 -> 0
J90: =IF(ISERROR(VLOOKUP(AM90,'選択科目(縦欄)'!$A$2:$E$426,5,FALSE)),"",VLOOKUP(AM90,'選択科目(縦欄)'!$A$2:$E$426,5,FALSE)) | AF90: =IF(AND(I90<>"",J90=""),"該当の番号がありません",IF(COUNTIF($I$6:$I$14,I90)>1,"重複エラー","")) | AG90: =IF(A90="",AG89,C90) -> 0 | AH90: =IF(ISERROR(VLOOKUP(I90,番号書換!$A$1:$B$10,2,FALSE)),"",VLOOKUP(I90,番号書換!$A$1:$B$10,2,FALSE)) | AM90: =AG90&AH90 -> 0
J91: =IF(ISERROR(VLOOKUP(AM91,'選択科目(縦欄)'!$A$2:$E$426,5,FALSE)),"",VLOOKUP(AM91,'選択科目(縦欄)'!$A$2:$E$426,5,FALSE)) | AF91: =IF(AND(I91<>"",J91=""),"該当の番号がありません",IF(COUNTIF($I$6:$I$14,I91)>1,"重複エラー","")) | AG91: =IF(A91="",AG90,C91) -> 0 | AH91: =IF(ISERROR(VLOOKUP(I91,番号書換!$A$1:$B$10,2,FALSE)),"",VLOOKUP(I91,番号書換!$A$1:$B$10,2,FALSE)) | AM91: =AG91&AH91 -> 0
J92: =IF(ISERROR(VLOOKUP(AM92,'選択科目(縦欄)'!$A$2:$E$426,5,FALSE)),"",VLOOKUP(AM92,'選択科目(縦欄)'!$A$2:$E$426,5,FALSE)) | AF92: =IF(AND(I92<>"",J92=""),"該当の番号がありません",IF(COUNTIF($I$6:$I$14,I92)>1,"重複エラー","")) | AG92: =IF(A92="",AG91,C92) -> 0 | AH92: =IF(ISERROR(VLOOKUP(I92,番号書換!$A$1:$B$10,2,FALSE)),"",VLOOKUP(I92,番号書換!$A$1:$B$10,2,FALSE)) | AM92: =AG92&AH92 -> 0
J93: =IF(ISERROR(VLOOKUP(AM93,'選択科目(縦欄)'!$A$2:$E$426,5,FALSE)),"",VLOOKUP(AM93,'選択科目(縦欄)'!$A$2:$E$426,5,FALSE)) | AF93: =IF(AND(I93<>"",J93=""),"該当の番号がありません",IF(COUNTIF($I$6:$I$14,I93)>1,"重複エラー","")) | AG93: =IF(A93="",AG92,C93) -> 0 | AH93: =IF(ISERROR(VLOOKUP(I93,番号書換!$A$1:$B$10,2,FALSE)),"",VLOOKUP(I93,番号書換!$A$1:$B$10,2,FALSE)) | AM93: =AG93&AH93 -> 0
J94: =IF(ISERROR(VLOOKUP(AM94,'選択科目(縦欄)'!$A$2:$E$426,5,FALSE)),"",VLOOKUP(AM94,'選択科目(縦欄)'!$A$2:$E$426,5,FALSE)) | AF94: =IF(AND(I94<>"",J94=""),"該当の番号がありません",IF(COUNTIF($I$6:$I$14,I94)>1,"重複エラー","")) | AG94: =IF(A94="",AG93,C94) -> 0 | AH94: =IF(ISERROR(VLOOKUP(I94,番号書換!$A$1:$B$10,2,FALSE)),"",VLOOKUP(I94,番号書換!$A$1:$B$10,2,FALSE)) | AM94: =AG94&AH94 -> 0
I95: ⑩ | J95: その他( ) | AG95: =IF(A95="",AG94,C95) -> 0
A96: 10 | E96: =IF(ISERROR(VLOOKUP(C96,'選択科目(縦欄)'!$B$2:$C$426,2)),"",(VLOOKUP(C96,'選択科目(縦欄)'!$B$2:$C$426,2))) | J96: =IF(ISERROR(VLOOKUP(AM96,'選択科目(縦欄)'!$A$2:$E$426,5,FALSE)),"",VLOOKUP(AM96,'選択科目(縦欄)'!$A$2:$E$426,5,FALSE)) | AF96: =IF(AND(I96<>"",J96=""),"該当の番号がありません",IF(COUNTIF($I$6:$I$14,I96)>1,"重複エラー","")) | AG96: =IF(A96="",AG95,C96) -> 0 | AH96: =IF(ISERROR(VLOOKUP(I96,番号書換!$A$1:$B$10,2,FALSE)),"",VLOOKUP(I96,番号書換!$A$1:$B$10,2,FALSE)) | AM96: =AG96&AH96 -> 0
J97: =IF(ISERROR(VLOOKUP(AM97,'選択科目(縦欄)'!$A$2:$E$426,5,FALSE)),"",VLOOKUP(AM97,'選択科目(縦欄)'!$A$2:$E$426,5,FALSE)) | AF97: =IF(AND(I97<>"",J97=""),"該当の番号がありません",IF(COUNTIF($I$6:$I$14,I97)>1,"重複エラー","")) | AG97: =IF(A97="",AG96,C97) -> 0 | AH97: =IF(ISERROR(VLOOKUP(I97,番号書換!$A$1:$B$10,2,FALSE)),"",VLOOKUP(I97,番号書換!$A$1:$B$10,2,FALSE)) | AM97: =AG97&AH97 -> 0
J98: =IF(ISERROR(VLOOKUP(AM98,'選択科目(縦欄)'!$A$2:$E$426,5,FALSE)),"",VLOOKUP(AM98,'選択科目(縦欄)'!$A$2:$E$426,5,FALSE)) | AF98: =IF(AND(I98<>"",J98=""),"該当の番号がありません",IF(COUNTIF($I$6:$I$14,I98)>1,"重複エラー","")) | AG98: =IF(A98="",AG97,C98) -> 0 | AH98: =IF(ISERROR(VLOOKUP(I98,番号書換!$A$1:$B$10,2,FALSE)),"",VLOOKUP(I98,番号書換!$A$1:$B$10,2,FALSE)) | AM98: =AG98&AH98 -> 0
J99: =IF(ISERROR(VLOOKUP(AM99,'選択科目(縦欄)'!$A$2:$E$426,5,FALSE)),"",VLOOKUP(AM99,'選択科目(縦欄)'!$A$2:$E$426,5,FALSE)) | AF99: =IF(AND(I99<>"",J99=""),"該当の番号がありません",IF(COUNTIF($I$6:$I$14,I99)>1,"重複エラー","")) | AG99: =IF(A99="",AG98,C99) -> 0 | AH99: =IF(ISERROR(VLOOKUP(I99,番号書換!$A$1:$B$10,2,FALSE)),"",VLOOKUP(I99,番号書換!$A$1:$B$10,2,FALSE)) | AM99: =AG99&AH99 -> 0
J100: =IF(ISERROR(VLOOKUP(AM100,'選択科目(縦欄)'!$A$2:$E$426,5,FALSE)),"",VLOOKUP(AM100,'選択科目(縦欄)'!$A$2:$E$426,5,FALSE)) | AF100: =IF(AND(I100<>"",J100=""),"該当の番号がありません",IF(COUNTIF($I$6:$I$14,I100)>1,"重複エラー","")) | AG100: =IF(A100="",AG99,C100) -> 0 | AH100: =IF(ISERROR(VLOOKUP(I100,番号書換!$A$1:$B$10,2,FALSE)),"",VLOOKUP(I100,番号書換!$A$1:$B$10,2,FALSE)) | AM100: =AG100&AH100 -> 0
...

Sheet 分類表
B1: 営業種目分類表
A2: 【大分類：物品（製作・修繕含む）】
A3: 中分類№ | B3: 中分類名 | C3: 小分類№ | D3: 小分類名 | E3: 取扱品目・業務内容例示 | F3: 登録上の要件 （許認可・登録等の資格）
A4: 01 | B4: 文具 事務機器 | C4: 01 | D4: 事務用品 スチール製品 | E4: ①文房具 ②コピー用紙 ③印刷用紙 ④事務用机・椅子 ⑤保管庫 ⑩その他
C5: 02 | D5: 事務用機器 | E5: ①複写機 ②印刷機 ③裁断機 ④紙折り機 ⑤圧着機 ⑥郵便計器 ⑩その他
C6: 03 | D6: 施設用機器 | E6: ①自動券売機 ②駐車場用発券機 ⑩その他
C7: 04 | D7: ＯＡ機器及び関連商品 | E7: ①パソコン ②サーバー ③プリンター ④コンピューター周辺機器 ⑤ソフトウエア ⑥トナーカートリッジ ⑩その他
C8: 05 | D8: 印章 | E8: ①印鑑 ②公印 ③作成印 ④ゴム印 ⑩その他
A9: 02 | B9: 教材 運動 遊具 | C9: 06 | D9: 保育教材 保育用品 | E9: ①保育園等教材 ②保育用品 ⑩その他
C10: 07 | D10: 遊具 | E10: ①大型遊具 ②ブランコ ③滑り台 ⑩その他
C11: 08 | D11: 学校教材 学校用品 | E11: ①養護教材 ②理科用標本模型 ③ミシン ④各種教材 ⑩その他
C12: 09 | D12: 運動用具 運動着類 | E12: ①運動用品（ボール、武道具等） ②運動器具（サッカーゴール、跳箱、卓球台等） ③トレーニング機器・測定機器 ④アウトドア用品 ⑤運動用着衣・靴 ⑩その他
C13: 10 | D13: 楽器 | E13: ①楽器類 ②音楽CD ③ピアノ調律 ⑩その他
A14: 03 | B14: 家具 | C14: 11 | D14: 室内装飾品 | E14: ①カーテン ②ブラインド ③暗幕 ④じゅうたん・カーペット ⑤間仕切り ⑩その他
C15: 12 | D15: 家具 | E15: ①机・椅子（学校用含む） ②応接セット ③木製家具 ⑩その他
A16: 04 | B16: 被服 寝具 | C16: 13 | D16: 着衣類 | E16: ①調理用服 ②保育用エプロン ③作業服 ④防寒着 ⑤雨具 ⑥帽子 ⑩その他
C17: 14 | D17: 靴 | E17: ①教育シューズ ②安全靴 ③室内履き ④厨房シューズ ⑤長靴 ⑩その他
C18: 15 | D18: 寝具類 | E18: ①布団 ②毛布 ③座布団 ⑩その他
A19: 05 | B19: 電気 通信機器 | C19: 16 | D19: 家庭用電化製品 | E19: ①テレビ ②録画再生機 ③冷蔵庫 ④掃除機 ⑤洗濯機 ⑥空気清浄機 ⑦加湿器 ⑧電子レンジ ⑨施設用電器部品 ⑩その他
C20: 17 | D20: 音響器具 | E20: ①アンプ ②マイク ⑩その他
C21: 18 | D21: 通信機器 | E21: ①電話機（携帯電話含む） ②FAX ③無線機 ⑩その他
A22: 06 | B22: 冷暖房器具類 | C22: 19 | D22: 電気冷暖房器具 | E22: ①エアコン ②扇風機 ③電気ストーブ ⑩その他
C23: 20 | D23: 石油・ガス暖房器具 | E23: ①石油暖房機 ②ガス暖房機 ⑩その他
A24: 07 | B24: 厨房器具 | C24: 21 | D24: 厨房機器 | E24: ①シンク ②ガステーブル ③給食用厨房機器 ⑩その他
C25: 22 | D25: 食器 調理用器具 | E25: ①給食用食器類 ②鍋 ③食缶 ⑩その他
C26: 23 | D26: 厨房用消耗品 | E26: ①調理用ポリ手袋 ②ポリ袋 ③食品包装用ラップ ④食中毒予防消耗品 ⑩その他
A27: 中分類№ | B27: 中分類名 | C27: 小分類№ | D27: 小分類名 | E27: 取扱品目・業務内容例示 | F27: 登録上の要件 （許認可・登録等の資格）
A28: 08 | B28: 医療 衛生 薬品 | C28: 24 | D28: 医療用機器 器具 | E28: ①ＡＥＤ ②診療所用医療機器 ③薬用保冷庫 ④保健室用機器 ⑩その他 | F28: 高度管理医療機器等販売業許可、管理医療機器販売業届、医療用具販売業届
C29: 25 | D29: 福祉機器 介護用品 | E29: ①車椅子 ②リハビリ器具 ③補聴器 ④介護用品 ⑩その他
C30: 26 | D30: 衛生材料 | E30: ①包帯 ②ガーゼ ③脱脂綿 ④マスク ⑤手指消毒剤 ⑩その他
C31: 27 | D31: 医療薬品 | E31: ①医薬品 ②ワクチン ⑩その他 | F31: 薬局開設許可、医薬品販売業許可、動物用医薬品販売業許可
C32: 28 | D32: 防疫用薬品 | E32: ①害虫防除剤 ⑩その他 | F32: 医薬品販売業許可、毒物劇物販売業登録
C33: 29 | D33: 農業薬品 | E33: ①農薬 ②除草剤 ⑩その他 | F33: 農薬販売届
C34: 30 | D34: 工業薬品 | E34: ①下水道処理施設使用薬品 ②水道水処理施設使用薬品 ③プール薬品 ⑩その他
A35: 09 | B35: 産業機器 （医療用以外） | C35: 31 | D35: 計測機器 | E35: ①水質・環境測定機器 ②計量機器 ③観測機器 ④分析機器 ⑩その他
C36: 32 | D36: 農畜用機器 | E36: ①草刈機 ②刈払機 ③動力トラクター ④コンバイン ⑩その他
C37: 33 | D37: 環境用機器 | E37: ①生ごみ処理機 ②分煙機 ⑩その他
C38: 34 | D38: 一般工作機器 | E38: ①小型除雪機 ②発電機 ③クレーン ⑩その他
C39: 35 | D39: 上下水道用機器 | E39: ①水道メーター ②可搬式ポンプ ③汚泥脱水機 ④漏水防止機器 ⑤各種用水処理装置 ⑩その他
C40: 36 | D40: 有機資源センター用機器 | E40: ①たい肥製造用資材（かくはん機部品 チェーン） ⑩その他
A41: 10 | B41: 精密機械 | C41: 37 | D41: カメラ 写真材料 | E41: ①カメラ ②映写機 ③フィルム・写真材料 ④写真撮影 ⑤現像 ⑩その他
C42: 38 | D42: 時計 メガネ | E42: ①時計 ②メガネ ⑩その他
A43: 11 | B43: 標識 看板 旗類 | C43: 39 | D43: 道路標識 | E43: ①道路標識 ②スノーポール ③カーブミラー ④デリネーター ⑩その他
C44: 40 | D44: 看板 | E44: ①スチール看板 ②アクリル看板 ③木製看板 ④マグネットシート ⑩その他
C45: 41 | D45: 選挙用看板 | E45: ①選挙用ポスター掲示板 ⑩その他
C46: 42 | D46: 横断幕 のぼり旗 | E46: ①消防団旗 ②横断幕 ③のぼり旗 ④校旗 ⑩その他
A47: 12 | B47: 工事用設備 | C47: 43 | D47: 鋼材 | E47: ①鉄筋 ②鉄骨 ③鋼管 ④アルミ ⑩その他
C48: 44 | D48: コンクリート セメント 舗装材 | E48: ①アスファルト混合物 ②セメント ③石灰 ④コンクリート ⑤舗装用資材 ⑥潤滑油 ⑦融雪剤 ⑧凍結防止剤 ⑨常温合剤 ⑩その他
C49: 45 | D49: 石材 | E49: ①砂 ②砂利 ③土 ④人造石 ⑤砕石 ⑥レンガ ⑦ブロック ⑩その他
C50: 46 | D50: 諸材料類 | E50: ①ガラス ②サッシ ③木材 ④木材加工品 ⑤建具 ⑥測量用品 ⑩その他
C51: 47 | D51: 水道用資材 | E51: ①上下水道用資材 ⑩その他
C52: 48 | D52: シート 袋 | E52: ①麻袋 ②フレキシブルコンテナバッグ（たい肥用含む） ③ブルーシート ④土のう ⑩その他
A53: 中分類№ | B53: 中分類名 | C53: 小分類№ | D53: 小分類名 | E53: 取扱品目・業務内容例示 | F53: 登録上の要件 （許認可・登録等の資格）
A54: 13 | B54: 燃料 | C54: 49 | D54: 石油類 | E54: ①ガソリン ②軽油 ③灯油 ④重油 ⑤油脂類 ⑩その他 | F54: 石油製品販売業開始届、揮発油販売業者登録
C55: 50 | D55: 気体燃料 | E55: ①ＬＰガス ⑩その他 | F55: 液化石油ガス販売事業登録、高圧ガス販売事業届
C56: 51 | D56: 電力 | E56: ①電力供給 ⑩その他 | F56: 特定規模電気事業者登録
A57: 14 | B57: 車両 | C57: 52 | D57: 一般車両 | E57: ①普通自動車 ②軽自動車 ③軽トラック ④中型トラック ⑤福祉車両 ⑩その他
C58: 53 | D58: バス | E58: ①マイクロバス ⑩その他
C59: 54 | D59: 特殊車両 | E59: ①除雪車 ②消防ポンプ積載車 ⑩その他
C60: 55 | D60: バイク 自転車 | E60: ①バイク ②自転車 ⑩その他
C61: 56 | D61: 自動車部品 用品 | E61: ①部品 ②電装品 ③タイヤ ④チェーン ⑤バッテリー ⑥チャイルドシート ⑩その他
A62: 15 | B62: 印刷 | C62: 57 | D62: 広報誌 | E62: ①広報しばた ②議会だより ⑩その他
C63: 58 | D63: 冊子 | E63: ①文芸書 ②教科書 ③報告書 ⑩その他
C64: 59 | D64: 事務用印刷物 軽印刷物 | E64: ①封筒 ②複写用紙 ③偽造防止用紙 ④チラシ ⑤パンフレット ⑥ポスター ⑦シール ⑧アルバム ⑩その他
C65: 60 | D65: フォーム印刷 | E65: ①コンピュータ用連続用紙 ②ＯＣＲ ⑩その他
C66: 61 | D66: シーリング印刷 | E66: ①コンピュータ用連続用紙 ②ＯＣＲ ⑩その他
C67: 62 | D67: 地図 航空写真 | E67: ①都市計画図 ②大判航空写真 ⑩その他
A68: 16 | B68: 図書 | C68: 63 | D68: 書籍 | E68: ①定期刊行物 ②一般図書 ③既製パンフレット ④住宅地図 ⑩その他
C69: 64 | D69: 法令 台本 | E69: ①例規 ②加除式の台本 ⑩その他
A70: 17 | B70: 生活雑貨 | C70: 65 | D70: 日用雑貨 金物 | E70: ①石鹸・洗剤 ②清掃用品 ③家庭金物 ④荒物 ⑤陶磁器 ⑥ビニール用品 ⑦塗料 ⑧物置 ⑩その他
C71: 66 | D71: 新発田市指定ごみ袋 | E71: ①新発田市指定ごみ袋 ⑩その他
C72: 67 | D72: ごみ収集用品 | E72: ①ごみ収集容器 ②ビン回収コンテナ ③資源ごみ回収ネット ⑩その他
C73: 68 | D73: 園芸用品 植木 | E73: ①種子 ②苗木 ③プランター ④肥料 ⑤園芸 ⑥造園資材 ⑩その他
B74: 消防・防災用品 | C74: 69 | D74: 消防・防災用品 | E74: ①ホース ②防災服 ③吸水管 ④担架 ⑤ヘルメット ⑥保存食 ⑦作業用手袋 ⑧災害救助用毛布 ⑩その他
C75: 70 | D75: 消防用設備 | E75: ①消防ポンプ ②消火器 ③避難設備 ⑩その他 | F75: 消防設備業届
A76: 18 | B76: 古物買受 | C76: 71 | D76: 古物買受 | E76: ①金属類 ⑩その他 | F76: 古物商営業許可、金属くず商営業許可
A77: 19 | B77: その他 | C77: 72 | D77: 選挙用品 | E77: ①投票箱 ②記載台 ③開票台 ④投票用紙計数機・交付機 ⑩その他
C78: 73 | D78: 報償品 | E78: ①トロフィー ②盾 ③メダル ④贈答品 ⑤啓発品 ⑥タオル ⑦名入れティッシュ ⑧徽章 ⑩その他
A79: 【大分類：委託】
A80: 中分類№ | B80: 中分類名 | C80: 小分類№ | D80: 小分類名 | E80: 取扱品目・業務内容例示 | F80: 登録上の要件 （許認可・登録等の資格）
A81: 20 | B81: 建物管理 | C81: 74 | D81: 庁舎 事務所等清掃 | E81: ①日常清掃 ②定期清掃業務 ③環境衛生業務 ⑩その他 | F81: 建築物清掃業登録、建築物環境衛生総合管理業登録
C82: 75 | D82: 受付 案内業務 | E82: ①窓口での受付案内業務 ②スタジオ運営管理 ⑩その他
C83: 76 | D83: 電話交換業務 | E83: ①電話交換業務 ⑩その他
C84: 77 | D84: 管理人業務 | E84: ①管理人業務 ⑩その他
C85: 78 | D85: 管理 運営業務 | E85: ①施設の管理・運営業務 ⑩その他
C86: 79 | D86: 建築設備保守管理 | E86: ①施設の建築設備保守 ⑩その他
A87: 21 | B87: 警備業務 | C87: 80 | D87: 人的警備 | E87: ①宿日直 ②イベント開催時の警備業務 ⑩その他 | F87: 警備業認定
C88: 81 | D88: 機械警備 | E88: ①監視警備業務 ②防犯装置・防犯器具販売及び保守 ⑩その他 | F88: 警備業認定
A89: 22 | B89: 浄化槽 貯水槽清掃 | C89: 82 | D89: 浄化槽清掃 点検 | E89: ①合併浄化槽清掃業務 ②合併浄化槽点検業務 ⑩その他 | F89: 浄化槽清掃業許可、浄化槽保守点検業者登録
C90: 83 | D90: 貯水槽清掃 点検 | E90: ①貯水槽清掃業務 ②貯水槽点検業務 ⑩その他 | F90: 建築物飲料水貯水槽清掃業登録
A91: 23 | B91: 機械設備保守 | C91: 84 | D91: 空調保守 | E91: ①空調設備保守点検 ⑩その他
C92: 85 | D92: ボイラー保守 | E92: ①ボイラー保守点検 ⑩その他
C93: 86 | D93: エレベーター保守 | E93: ①エレベーター保守点検 ⑩その他
C94: 87 | D94: プール保守 | E94: ①プール循環浄化装置保守点検 ⑩その他
C95: 88 | D95: 自動ドア保守 | E95: ①自動ドア保守点検 ⑩その他
C96: 89 | D96: 電気設備保守 | E96: ①配電設備保守 ②発電機保守 ③ポンプ設備保守 ⑩その他
C97: 90 | D97: 消防設備保守 | E97: ①消防設備保守 ②防火設備保守 ⑩その他 | F97: 消防設備協会表示登録会員
C98: 91 | D98: 通信設備保守 | E98: ①電話機保守 ②無線機保守 ③放送設備保守 ⑩その他
C99: 92 | D99: 計装設備保守 | E99: ①簡易水道計装機保守点検 ⑩その他
C100: 93 | D100: 舞台設備保守 | E100: ①舞台設備保守点検 ⑩その他
...

Sheet 【記載例】
A1: 別紙
A2: 希望する営業種目表 【記載例】
A3: 入札（見積）を希望する順（15位まで）に以下に記入してください。
A4: 順位 | C4: 小分類 № | E4: 小分類名 | I4: 番号 | J4: 取扱品目・業務内容 | P4: 許認可・登録等の資格 ＊証明書、免許等を添付すること | Z4: 取扱品目のメーカー名 ＊代理店等の場合は証明書を添付すること
A6: 1 | C6: 02 | E6: 事務用機器 | I6: ① | J6: 複写機 | Z6: ㈱シバタ、㈱ケイヤク
I7: ② | J7: 印刷機
I8: ④ | J8: 紙折り機
I15: ⑩ | J15: その他（レジスタ）
A16: 2 | C16: 24 | E16: 医療用機器 器具 | I16: ① | J16: ＡＥＤ | P16: 高度管理医療機器等販売業許可
I17: ② | J17: 診療所用医療機器 | P17: 管理医療機器販売業届、医療用具販売業届
I25: ⑩ | J25: その他（ ）
A26: 3 | C26: 107 | E26: 下水道処理施設等維持管理 | I26: ① | J26: 下水道処理施設等維持管理 | P26: 下水道処理施設維持管理業者登録、浄化槽保守点検登録
I35: ⑩ | J35: その他（ ）
A36: 4
I45: ⑩ | J45: その他（ ）
A46: 5
I55: ⑩ | J55: その他（ ）

Sheet 営業種目一覧
B2: 中分類№ | C2: 中分類名 | D2: 小分類№ | E2: 小分類名 | G2: 取扱品目・業務内容例示
B3: 01 | C3: 文具 事務機器 | D3: 01 | E3: 事務用品 スチール製品 | F3: ① | G3: 文房具 | H3: ② | I3: コピー用紙 | J3: ③ | K3: 印刷用紙 | L3: ④ | M3: 事務用机・椅子 | N3: ⑤ | O3: 保管庫 | P3: ⑩ | Q3: その他
B4: 01 | C4: 文具 事務機器 | D4: 02 | E4: 事務用機器 | F4: ① | G4: 複写機 | H4: ② | I4: 印刷機 | J4: ③ | K4: 裁断機 | L4: ④ | M4: 紙折り機 | N4: ⑤ | O4: 圧着機 | P4: ⑥ | Q4: 郵便計器 | R4: ⑩ | S4: その他
B5: 01 | C5: 文具 事務機器 | D5: 03 | E5: 施設用機器 | F5: ① | G5: 自動販売機 | H5: ② | I5: 駐車場発券機 | J5: ⑩ | K5: その他
B6: 01 | C6: 文具 事務機器 | D6: 04 | E6: ＯＡ機器及び関連商品 | F6: ① | G6: パソコン | H6: ② | I6: サーバー | J6: ③ | K6: プリンター | L6: ④ | M6: コンピューター周辺機器 | N6: ⑤ | O6: ソフトウエア | P6: ⑥ | Q6: トナーカートリッジ | R6: ⑩ | S6: その他
B7: 01 | C7: 文具 事務機器 | D7: 05 | E7: 印章 | F7: ① | G7: 印鑑 | H7: ② | I7: 公印 | J7: ③ | K7: 作成印 | L7: ④ | M7: ゴム印 | N7: ⑩ | O7: その他
B8: 02 | C8: 家具 | D8: 06 | E8: 室内装飾品 | F8: ① | G8: カーテン | H8: ② | I8: ブラインド | J8: ③ | K8: 暗幕 | L8: ④ | M8: じゅうたん・カーペット | N8: ⑤ | O8: 畳 | P8: ⑥ | Q8: 間仕切り | R8: ⑩ | S8: その他
B9: 02 | C9: 家具 | D9: 07 | E9: 家具 | F9: ① | G9: 机・椅子 | H9: ② | I9: 応接セット | J9: ③ | K9: 木製家具 | L9: ④ | M9: オーダーメイド家具 | N9: ⑤ | O9: カプセルベッド | P9: ⑩ | Q9: その他
B10: 03 | C10: 被服 寝具 | D10: 08 | E10: 着衣類 | F10: ① | G10: 調理用服 | H10: ② | I10: 作業服 | J10: ③ | K10: 防寒着 | L10: ④ | M10: 雨具 | N10: ⑤ | O10: 帽子 | P10: ⑩ | Q10: その他
B11: 03 | C11: 被服 寝具 | D11: 09 | E11: 靴 | F11: ① | G11: 教育シューズ | H11: ② | I11: 安全靴 | J11: ③ | K11: 室内履き | L11: ④ | M11: 厨房シューズ | N11: ⑤ | O11: 長靴 | P11: ⑩ | Q11: その他
B12: 03 | C12: 被服 寝具 | D12: 10 | E12: 寝具類 | F12: ① | G12: 布団 | H12: ② | I12: 毛布 | J12: ③ | K12: 座布団 | L12: ⑩ | M12: その他
B13: 04 | C13: 電気 通信機器 | D13: 11 | E13: 家庭用電化製品及び関連商品 | F13: ① | G13: テレビ | H13: ② | I13: 録画再生機 | J13: ③ | K13: 冷蔵庫 | L13: ④ | M13: 掃除機 | N13: ⑤ | O13: 洗濯機 | P13: ⑥ | Q13: 空気清浄機・加湿器 | R13: ⑦ | S13: 電子レンジ | T13: ⑧ | U13: 乾電池 | V13: ⑨ | W13: コンセント | X13: ⑩ | Y13: その他
B14: 04 | C14: 電気 通信機器 | D14: 12 | E14: 音響器具 | F14: ① | G14: アンプ | H14: ② | I14: マイク | J14: ⑩ | K14: その他
B15: 04 | C15: 電気 通信機器 | D15: 13 | E15: 通信機器 | F15: ① | G15: 電話機（携帯電話含む） | H15: ② | I15: FAX | J15: ③ | K15: 無線機 | L15: ⑩ | M15: その他
B16: 05 | C16: 冷暖房器具類 | D16: 14 | E16: 電気冷暖房機器 | F16: ① | G16: 空調機器 | H16: ② | I16: 扇風機 | J16: ③ | K16: 電気ストーブ | L16: ⑩ | M16: その他
B17: 05 | C17: 冷暖房器具類 | D17: 15 | E17: 石油・ガス暖房器具 | F17: ① | G17: 石油暖房機 | H17: ② | I17: ガス暖房機 | J17: ⑩ | K17: その他
B18: 06 | C18: 厨房器具 | D18: 16 | E18: 厨房機器 | F18: ① | G18: シンク | H18: ② | I18: ガステーブル | J18: ③ | K18: 給食用厨房機器 | L18: ⑩ | M18: その他
B19: 06 | C19: 厨房器具 | D19: 17 | E19: 食器 調理用器具 | F19: ① | G19: 給食用食器類 | H19: ② | I19: 鍋 | J19: ③ | K19: 食缶 | L19: ⑩ | M19: その他
B20: 06 | C20: 厨房器具 | D20: 18 | E20: 厨房用消耗品 | F20: ① | G20: 調理用ポリ手袋 | H20: ② | I20: ポリ袋 | J20: ③ | K20: 食品包装用ラップ | L20: ④ | M20: 食中毒予防消耗品 | N20: ⑩ | O20: その他
B21: 07 | C21: 医療 衛生 薬品 | D21: 19 | E21: 医療用機器 器具 | F21: ① | G21: ＡＥＤ | H21: ② | I21: 診療所用医療用機器 | J21: ③ | K21: 薬用保冷庫 | L21: ④ | M21: 保健室用機器 | N21: ⑩ | O21: その他
B22: 07 | C22: 医療 衛生 薬品 | D22: 20 | E22: 福祉機器 介護用品 | F22: ① | G22: 車椅子 | H22: ② | I22: リハビリ器具 | J22: ③ | K22: 補聴器 | L22: ④ | M22: 介護用品 | N22: ⑩ | O22: その他
B23: 07 | C23: 医療 衛生 薬品 | D23: 21 | E23: 衛生材料 | F23: ① | G23: 包帯 | H23: ② | I23: ガーゼ | J23: ③ | K23: 脱脂綿 | L23: ④ | M23: マスク | N23: ⑤ | O23: 手指消毒剤 | P23: ⑩ | Q23: その他
B24: 07 | C24: 医療 衛生 薬品 | D24: 22 | E24: 医療薬品 | F24: ① | G24: 医薬品 | H24: ② | I24: ワクチン | J24: ⑩ | K24: その他
B25: 07 | C25: 医療 衛生 薬品 | D25: 23 | E25: 防疫用薬品 | F25: ① | G25: 害虫防除剤 | H25: ⑩ | I25: その他
B26: 07 | C26: 医療 衛生 薬品 | D26: 24 | E26: 工業薬品 | F26: ① | G26: 下水道処理施設使用薬品 | H26: ② | I26: 水道水処理施設使用薬品 | J26: ③ | K26: プール薬品 | L26: ⑩ | M26: その他
B27: 07 | C27: 医療 衛生 薬品 | D27: 25 | E27: 農業薬品 | F27: ① | G27: 農薬 | H27: ② | I27: 除草剤 | J27: ⑩ | K27: その他
B28: 08 | C28: 産業機器 （医療用以外） | D28: 26 | E28: 計測機器 | F28: ① | G28: 水質・環境測定用機器 | H28: ② | I28: 計量機器 | J28: ③ | K28: 観測機器 | L28: ④ | M28: 分析機器 | N28: ⑩ | O28: その他
B29: 08 | C29: 産業機器 （医療用以外） | D29: 27 | E29: 農畜用機器 | F29: ① | G29: 草刈機 | H29: ② | I29: 刈払機 | J29: ③ | K29: 動力トラクター | L29: ④ | M29: コンバイン | N29: ⑩ | O29: その他
B30: 08 | C30: 産業機器 （医療用以外） | D30: 28 | E30: 環境用機器 | F30: ① | G30: 生ごみ処理機 | H30: ② | I30: 分煙機 | J30: ⑩ | K30: その他
B31: 08 | C31: 産業機器 （医療用以外） | D31: 29 | E31: 一般工作機器 | F31: ① | G31: 小型除雪機 | H31: ② | I31: 発電機 | J31: ③ | K31: クレーン | L31: ⑩ | M31: その他
B32: 08 | C32: 産業機器 （医療用以外） | D32: 30 | E32: ごみ処理施設用品 | F32: ① | G32: クレーン | H32: ② | I32: 破砕機 | J32: ③ | K32: ろ布 | L32: ④ | M32: 火格子 | N32: ⑤ | O32: 耐火レンガ | P32: ⑥ | Q32: ごみ焼却施設用部品 | R32: ⑩ | S32: その他
B33: 08 | C33: 産業機器 （医療用以外） | D33: 31 | E33: 上下水道用機器 | F33: ① | G33: 水道メーター | H33: ② | I33: 可搬式ポンプ | J33: ③ | K33: 水中ポンプ | L33: ④ | M33: 水中エアレーター | N33: ⑤ | O33: 水中ミキサー | P33: ⑥ | Q33: 汚泥脱水機 | R33: ⑦ | S33: 漏水防止機器 | T33: ⑧ | U33: 各種用水処理装置 | V33: ⑩ | W33: その他
B34: 09 | C34: 精密機械 | D34: 32 | E34: カメラ 写真材料 | F34: ① | G34: カメラ | H34: ② | I34: 映写機 | J34: ③ | K34: フィルム・写真材料 | L34: ④ | M34: 写真撮影器具 | N34: ⑤ | O34: 現像 | P34: ⑩ | Q34: その他
B35: 09 | C35: 精密機械 | D35: 33 | E35: 時計 眼鏡 | F35: ① | G35: 時計 | H35: ② | I35: 眼鏡 | J35: ⑩ | K35: その他
B36: 10 | C36: 標識 看板 旗類 | D36: 34 | E36: 道路標識 | F36: ① | G36: 道路標識 | H36: ② | I36: スノーポール | J36: ③ | K36: カーブミラー | L36: ④ | M36: デリネーター | N36: ⑩ | O36: その他
B37: 10 | C37: 標識 看板 旗類 | D37: 35 | E37: 看板 | F37: ① | G37: スチール看板 | H37: ② | I37: アクリル看板 | J37: ③ | K37: 木製看板 | L37: ④ | M37: マグネットシート | N37: ⑩ | O37: その他
B38: 10 | C38: 標識 看板 旗類 | D38: 36 | E38: 横断幕 のぼり旗 | F38: ① | G38: 消防団旗 | H38: ② | I38: 横断幕 | J38: ③ | K38: のぼり旗 | L38: ⑩ | M38: その他
B39: 11 | C39: 工事用材料 | D39: 37 | E39: 鋼材 | F39: ① | G39: 鉄筋 | H39: ② | I39: 鉄骨 | J39: ③ | K39: 鋼管 | L39: ④ | M39: アルミ | N39: ⑩ | O39: その他
B40: 11 | C40: 工事用材料 | D40: 38 | E40: コンクリート セメント 舗装材 | F40: ① | G40: アスファルト混合物 | H40: ② | I40: セメント | J40: ③ | K40: 石灰 | L40: ④ | M40: コンクリート | N40: ⑤ | O40: 舗装用資材 | P40: ⑥ | Q40: 潤滑油 | R40: ⑦ | S40: 融雪剤 | T40: ⑧ | U40: 凍結防止剤 | V40: ⑨ | W40: 常温合剤 | X40: ⑩ | Y40: その他
B41: 11 | C41: 工事用材料 | D41: 39 | E41: 石材 | F41: ① | G41: 砂 | H41: ② | I41: 砂利 | J41: ③ | K41: 土 | L41: ④ | M41: 人造石 | N41: ⑤ | O41: 砕石 | P41: ⑥ | Q41: レンガ | R41: ⑦ | S41: ブロック | T41: ⑩ | U41: その他
B42: 11 | C42: 工事用材料 | D42: 40 | E42: 諸材料類 | F42: ① | G42: ガラス | H42: ② | I42: サッシ | J42: ③ | K42: 木材 | L42: ④ | M42: 木材加工品 | N42: ⑤ | O42: 建具 | P42: ⑥ | Q42: 測量用品 | R42: ⑩ | S42: その他
B43: 11 | C43: 工事用材料 | D43: 41 | E43: 水道用資材 | F43: ① | G43: 上下水道用資材 | H43: ⑩ | I43: その他
B44: 11 | C44: 工事用材料 | D44: 42 | E44: シート 袋 | F44: ① | G44: 麻袋 | H44: ② | I44: フレキシブルコンテナバック | J44: ③ | K44: ブルーシート | L44: ④ | M44: 土のう | N44: ⑩ | O44: その他
B45: 11 | C45: 工事用材料 | D45: 43 | E45: その他の工事用設備 | F45: ① | G45: 仮設トイレ | H45: ⑩ | I45: その他
B46: 12 | C46: 燃料 | D46: 44 | E46: 石油類 | F46: ① | G46: ガソリン | H46: ② | I46: 軽油 | J46: ③ | K46: 灯油 | L46: ④ | M46: 重油 | N46: ⑤ | O46: 油脂類 | P46: ⑩ | Q46: その他
B47: 12 | C47: 燃料 | D47: 45 | E47: 気体燃料 | F47: ① | G47: ＬＰガス | H47: ⑩ | I47: その他
B48: 12 | C48: 燃料 | D48: 46 | E48: 電力 | F48: ① | G48: 電力供給 | H48: ⑩ | I48: その他
B49: 13 | C49: 車両 ボート | D49: 47 | E49: 一般車両 | F49: ① | G49: 普通自動車 | H49: ② | I49: 軽自動車 | J49: ③ | K49: 軽トラック | L49: ④ | M49: 中型トラック | N49: ⑤ | O49: 福祉車両 | P49: ⑩ | Q49: その他
B50: 13 | C50: 車両 ボート | D50: 48 | E50: バス | F50: ① | G50: マイクロバス | H50: ⑩ | I50: その他
B51: 13 | C51: 車両 ボート | D51: 49 | E51: 特殊車両 | F51: ① | G51: 除雪車 | H51: ② | I51: 消防ポンプ積載車 | J51: ③ | K51: 救急車 | L51: ④ | M51: 梯子車 | N51: ⑤ | O51: 救助工作車 | P51: ⑥ | Q51: 消防化学車 | R51: ⑦ | S51: その他の消防車両 | T51: ⑧ | U51: 油圧ショベル | V51: ⑨ | W51: その他重機・建設機械 | X51: ⑩ | Y51: その他
B52: 13 | C52: 車両 ボート | D52: 50 | E52: バイク 自転車 | F52: ① | G52: バイク | H52: ② | I52: 自転車 | J52: ⑩ | K52: その他
B53: 13 | C53: 車両 ボート | D53: 51 | E53: 自動車部品 用品 | F53: ① | G53: 部品 | H53: ② | I53: 電装品 | J53: ③ | K53: タイヤ | L53: ④ | M53: チェーン | N53: ⑤ | O53: バッテリー | P53: ⑩ | Q53: その他
B54: 13 | C54: 車両 ボート | D54: 52 | E54: ボート | F54: ① | G54: ボート | H54: ② | I54: 船外機 | J54: ③ | K54: ボート用品 | L54: ⑩ | M54: その他
B55: 14 | C55: 印刷 | D55: 53 | E55: 広報誌 | F55: ① | G55: 広報誌 | H55: ⑩ | I55: その他
B56: 14 | C56: 印刷 | D56: 54 | E56: 冊子 | F56: ① | G56: 予算書 | H56: ② | I56: 決算書 | J56: ③ | K56: 教科書 | L56: ④ | M56: 報告書 | N56: ⑩ | O56: その他
B57: 14 | C57: 印刷 | D57: 55 | E57: 事務用印刷物 軽印刷物 | F57: ① | G57: 封筒 | H57: ② | I57: 複写用紙 | J57: ③ | K57: 偽造防止用紙 | L57: ④ | M57: チラシ | N57: ⑤ | O57: パンフレット | P57: ⑥ | Q57: ポスター | R57: ⑦ | S57: シール | T57: ⑧ | U57: アルバム | V57: ⑨ | W57: 請求書・施設使用申請書 | X57: ⑩ | Y57: その他
B58: 14 | C58: 印刷 | D58: 56 | E58: フォーム印刷 | F58: ① | G58: コンピュータ用連続用紙 | H58: ② | I58: ＯＣＲ | J58: ⑩ | K58: その他
B59: 14 | C59: 印刷 | D59: 57 | E59: シーリング印刷 | F59: ① | G59: コンピュータ用連続用紙 | H59: ② | I59: ＯＣＲ | J59: ⑩ | K59: その他
B60: 14 | C60: 印刷 | D60: 58 | E60: 地図 航空写真 | F60: ① | G60: 都市計画図 | H60: ② | I60: 大判航空写真 | J60: ⑩ | K60: その他
B61: 15 | C61: 図書 | D61: 59 | E61: 書籍 | F61: ① | G61: 定期刊行物 | H61: ② | I61: 一般図書 | J61: ③ | K61: 既製パンフレット | L61: ④ | M61: 住宅地図 | N61: ⑩ | O61: その他
B62: 15 | C62: 図書 | D62: 60 | E62: 法令 台本 | F62: ① | G62: 例規 | H62: ② | I62: 加除式の台本 | J62: ⑩ | K62: その他
B63: 16 | C63: 生活用品 | D63: 61 | E63: 日用雑貨 金物 | F63: ① | G63: 石鹸・洗剤 | H63: ② | I63: 清掃用品 | J63: ③ | K63: 家庭金物 | L63: ④ | M63: 荒物 | N63: ⑤ | O63: 陶磁器 | P63: ⑥ | Q63: ビニール用品 | R63: ⑦ | S63: 紙コップ | T63: ⑧ | U63: 塗料 | V63: ⑨ | W63: 物置 | X63: ⑩ | Y63: その他
B64: 16 | C64: 生活用品 | D64: 62 | E64: ごみ収集用品 | F64: ① | G64: ごみ収集容器 | H64: ② | I64: ビン回収コンテナ | J64: ③ | K64: 資源ごみ回収ネット | L64: ⑩ | M64: その他
B65: 16 | C65: 生活用品 | D65: 63 | E65: 園芸用品 植木 | F65: ① | G65: 種子 | H65: ② | I65: 苗木 | J65: ③ | K65: プランター | L65: ④ | M65: 肥料 | N65: ⑤ | O65: 園芸 | P65: ⑥ | Q65: 造園資材 | R65: ⑩ | S65: その他
B66: 17 | C66: 消防 防災 防犯用品 | D66: 64 | E66: 消防・救助用品 | F66: ① | G66: ホース | H66: ② | I66: 吸水管 | J66: ③ | K66: 担架 | L66: ④ | M66: 消防服 | N66: ⑤ | O66: 消防防火衣 | P66: ⑥ | Q66: 消防手袋 | R66: ⑦ | S66: 消防長靴 | T66: ⑧ | U66: ヘルメット | V66: ⑨ | W66: 保存食 | X66: ⑩ | Y66: その他
B67: 17 | C67: 消防 防災 防犯用品 | D67: 65 | E67: 消防用設備 | F67: ① | G67: 消防ポンプ | H67: ② | I67: 消火器 | J67: ③ | K67: 避難設備 | L67: ⑩ | M67: その他
B68: 17 | C68: 消防 防災 防犯用品 | D68: 66 | E68: 防犯用設備 | F68: ① | G68: 監視カメラ | H68: ② | I68: 防犯カメラ | J68: ③ | K68: 電気錠 | L68: ④ | M68: 防犯警備機器 | N68: ⑩ | O68: その他
B69: 18 | C69: 古物買受 | D69: 67 | E69: 古物買受 | F69: ① | G69: 金属 | H69: ⑩ | I69: その他
B70: 19 | C70: その他の物品 | D70: 68 | E70: 火葬場施設用品 | F70: ① | G70: 火葬炉 | H70: ② | I70: 台車 | J70: ③ | K70: ロストル | L70: ④ | M70: 保護材 | N70: ⑩ | O70: その他
B71: 19 | C71: その他の物品 | D71: 69 | E71: 報償品 | F71: ① | G71: トロフィー | H71: ② | I71: 盾 | J71: ③ | K71: メダル | L71: ④ | M71: 贈答品 | N71: ⑤ | O71: タオル | P71: ⑥ | Q71: 名入れティッシュ | R71: ⑦ | S71: 徽章 | T71: ⑧ | U71: 啓発品 | V71: ⑩ | W71: その他
B72: 20 | C72: 建物管理 運転管理 | D72: 70 | E72: 庁舎 事務所等清掃 | F72: ① | G72: 日常清掃 | H72: ② | I72: 定期清掃業務 | J72: ③ | K72: 環境衛生業務 | L72: ⑩ | M72: その他
B73: 20 | C73: 建物管理 運転管理 | D73: 71 | E73: 受付 案内業務 | F73: ① | G73: 窓口での受付案内業務 | H73: ⑩ | I73: その他
B74: 20 | C74: 建物管理 運転管理 | D74: 72 | E74: 管理人業務 | F74: ① | G74: 管理人業務 | H74: ② | I74: 夜間管理業務 | J74: ⑩ | K74: その他
B75: 20 | C75: 建物管理 運転管理 | D75: 73 | E75: 管理運営業務 | F75: ① | G75: 施設の管理・運営業務 | H75: ⑩ | I75: その他
B76: 20 | C76: 建物管理 運転管理 | D76: 74 | E76: 建築設備保守管理 | F76: ① | G76: 施設の建築設備保守 | H76: ⑩ | I76: その他
B77: 20 | C77: 建物管理 運転管理 | D77: 75 | E77: 施設運転管理 | F77: ① | G77: 火葬場運転管理業務 | H77: ② | I77: ごみ焼却場運転管理業務 | J77: ③ | K77: 不燃物処理場運転管理業務 | L77: ④ | M77: し尿処理場運転管理業務 | N77: ⑩ | O77: その他
B78: 21 | C78: 警備業務 | D78: 76 | E78: 人的警備 | F78: ① | G78: 宿日直 | H78: ② | I78: イベント開催時の警備業務 | J78: ⑩ | K78: その他
B79: 21 | C79: 警備業務 | D79: 77 | E79: 機械警備 | F79: ① | G79: 監視警備業務 | H79: ② | I79: 防犯装置・防犯器具保守 | J79: ⑩ | K79: その他
B80: 22 | C80: 浄化槽 貯水槽清掃 | D80: 78 | E80: 浄化槽清掃 点検 | F80: ① | G80: 合併浄化槽清掃業務 | H80: ② | I80: 合併浄化槽点検業務 | J80: ⑩ | K80: その他
B81: 22 | C81: 浄化槽 貯水槽清掃 | D81: 79 | E81: 貯水槽清掃 点検 | F81: ① | G81: 貯水槽清掃業務 | H81: ② | I81: 貯水槽点検業務 | J81: ⑩ | K81: その他
B82: 23 | C82: 機械設備保守 | D82: 80 | E82: 空調保守 | F82: ① | G82: 空調設備保守点検 | H82: ⑩ | I82: その他
B83: 23 | C83: 機械設備保守 | D83: 81 | E83: ボイラー保守 | F83: ① | G83: ボイラー保守点検 | H83: ⑩ | I83: その他
B84: 23 | C84: 機械設備保守 | D84: 82 | E84: エレベーター保守 | F84: ① | G84: エレベーター保守点検 | H84: ⑩ | I84: その他
B85: 23 | C85: 機械設備保守 | D85: 83 | E85: プール保守 | F85: ① | G85: プール循環浄化装置保守点検 | H85: ⑩ | I85: その他
B86: 23 | C86: 機械設備保守 | D86: 84 | E86: 自動ドア保守 | F86: ① | G86: 自動ドア保守点検 | H86: ⑩ | I86: その他
B87: 23 | C87: 機械設備保守 | D87: 85 | E87: 電気設備保守 | F87: ① | G87: 配電設備保守点検 | H87: ② | I87: 電気保安業務 | J87: ③ | K87: 発電機保守 | L87: ④ | M87: ポンプ設備保守 | N87: ⑩ | O87: その他
B88: 23 | C88: 機械設備保守 | D88: 86 | E88: 消防設備保守 | F88: ① | G88: 消防設備保守点検 | H88: ② | I88: 防火設備保守点検 | J88: ⑩ | K88: その他
B89: 23 | C89: 機械設備保守 | D89: 87 | E89: 通信設備保守 | F89: ① | G89: 電話機保守 | H89: ② | I89: 無線機保守 | J89: ③ | K89: 放送設備保守 | L89: ⑩ | M89: その他
B90: 23 | C90: 機械設備保守 | D90: 88 | E90: 計装設備保守 | F90: ① | G90: 簡易水道計装機保守点検 | H90: ② | I90: その他
B91: 24 | C91: 公園 芝生等維持管理 | D91: 89 | E91: 公園等清掃 | F91: ① | G91: 公園等清掃 | H91: ⑩ | I91: その他
B92: 24 | C92: 公園 芝生等維持管理 | D92: 90 | E92: 樹木せん定 植栽 芝生管理 除草 | F92: ① | G92: 樹木せん定 | H92: ② | I92: 植栽 | J92: ③ | K92: 芝生管理 | L92: ④ | M92: 除草 | N92: ⑩ | O92: その他
B93: 25 | C93: 森林整備 | D93: 91 | E93: 森林等伐採 保育 | F93: ① | G93: 森林等伐採・保育 | H93: ② | I93: その他
B94: 25 | C94: 森林整備 | D94: 92 | E94: 病害虫等防除対策伐倒駆除 | F94: ① | G94: 松くい虫等防除 | H94: ② | I94: その他
B95: 25 | C95: 森林整備 | D95: 93 | E95: 病害虫等防除対策地上散布 | F95: ① | G95: 松くい虫等防除 | H95: ② | I95: その他
B96: 25 | C96: 森林整備 | D96: 94 | E96: 病害虫等防除対策航空防除 | F96: ① | G96: 松くい虫等防除 | H96: ⑩ | I96: その他
B97: 26 | C97: 害虫駆除 | D97: 95 | E97: ねずみ 害虫等駆除 | F97: ① | G97: ねずみ駆除 | H97: ② | I97: ユスリカ防除 | J97: ⑩ | K97: その他
B98: 26 | C98: 害虫駆除 | D98: 96 | E98: シロアリ駆除 | F98: ① | G98: シロアリ駆除 | H98: ⑩ | I98: その他
B99: 27 | C99: 検査 測定 | D99: 97 | E99: 大気 水質等測定 分析 | F99: ① | G99: 水質検査 | H99: ② | I99: 排ガス測定 | J99: ③ | K99: ダイオキシン類測定 | L99: ⑩ | M99: その他
B100: 27 | C100: 検査 測定 | D100: 98 | E100: 環境アセスメント調査 | F100: ① | G100: 環境アセスメント調査 | H100: ⑩ | I100: その他
B101: 28 | C101: 資源化委託 | D101: 99 | E101: リサイクル処理 | F101: ① | G101: 古紙リサイクル | H101: ② | I101: 空き缶・空き瓶リサイクル | J101: ③ | K101: ペットボトルリサイクル | L101: ④ | M101: 廃プラスチックリサイクル | N101: ⑩ | O101: その他
...

Sheet 選択科目(縦欄)
B1: 小分類 № | C1: 小分類名 | D1: 番号 | E1: 取扱品目・業務内容
A2: =B2&D2 -> 011 | B2: 01 | C2: 事務用品 スチール製品 | D2: 1 | E2: 文房具
A3: =B3&D3 -> 012 | B3: 01 | C3: 事務用品 スチール製品 | D3: 2 | E3: コピー用紙
A4: =B4&D4 -> 013 | B4: 01 | C4: 事務用品 スチール製品 | D4: 3 | E4: 印刷用紙
A5: =B5&D5 -> 014 | B5: 01 | C5: 事務用品 スチール製品 | D5: 4 | E5: 事務用机・椅子
A6: =B6&D6 -> 015 | B6: 01 | C6: 事務用品 スチール製品 | D6: 5 | E6: 保管庫
A7: =B7&D7 -> 021 | B7: 02 | C7: 事務用機器 | D7: 1 | E7: 複写機
A8: =B8&D8 -> 022 | B8: 02 | C8: 事務用機器 | D8: 2 | E8: 印刷機
A9: =B9&D9 -> 023 | B9: 02 | C9: 事務用機器 | D9: 3 | E9: 裁断機
A10: =B10&D10 -> 024 | B10: 02 | C10: 事務用機器 | D10: 4 | E10: 紙折り機
A11: =B11&D11 -> 025 | B11: 02 | C11: 事務用機器 | D11: 5 | E11: 圧着機
A12: =B12&D12 -> 026 | B12: 02 | C12: 事務用機器 | D12: 6 | E12: 郵便計器
A13: =B13&D13 -> 031 | B13: 03 | C13: 施設用機器 | D13: 1 | E13: 自動販売機
... A384: =B384&D384 -> 1261 | B384: 126 | C384: 人材派遣 | D384: 1 | E384: 人材派遣
A385: =B385&D385 -> 1271 | B385: 127 | C385: OA機器 事務機器 | D385: 1 | E385: コンピュータ機器
A386: =B386&D386 -> 1272 | B386: 127 | C386: OA機器 事務機器 | D386: 2 | E386: システム
A387: =B387&D387 -> 1273 | B387: 127 | C387: OA機器 事務機器 | D387: 3 | E387: 複写機・複合機
A388: =B388&D388 -> 1274 | B388: 127 | C388: OA機器 事務機器 | D388: 4 | E388: 照明器具
A389: =B389&D389 -> 1275 | B389: 127 | C389: OA機器 事務機器 | D389: 5 | E389: 空調機器
A390: =B390&D390 -> 1276 | B390: 127 | C390: OA機器 事務機器 | D390: 6 | E390: 通信機器
A391: =B391&D391 -> 1281 | B391: 128 | C391: 医療用機器 | D391: 1 | E391: 診療所等の医療用機器・器具
A392: =B392&D392 -> 1282 | B392: 128 | C392: 医療用機器 | D392: 2 | E392: AED
A393: =B393&D393 -> 1283 | B393: 128 | C393: 医療用機器 | D393: 3 | E393: 人工呼吸器
A394: =B394&D394 -> 1291 | B394: 129 | C394: 自動車 | D394: 1 | E394: メンテナンス付自動車リース
A395: =B395&D395 -> 1292 | B395: 129 | C395: 自動車 | D395: 2 | E395: ファイナンス自動車リース
A396: =B396&D396 -> 1293 | B396: 129 | C396: 自動車 | D396: 3 | E396: 重機
... A426: =B426&D426 -> 1371 | B426: 137 | C426: 上記以外のレンタル | D426: 1 | E426: （具体的に入力してください。）

Sheet 番号書換
A1: ① | B1: 1
A2: ② | B2: 2
A3: ③ | B3: 3
A4: ④ | B4: 4
A5: ⑤ | B5: 5
A6: ⑥ | B6: 6
A7: ⑦ | B7: 7
A8: ⑧ | B8: 8
A9: ⑨ | B9: 9
A10: ⑩ | B10: 10

Sheet 変換
D3: ① | E3: ② | F3: ③ | G3: ④ | H3: ⑤ | I3: ⑥ | J3: ⑦ | K3: ⑧ | L3: ⑨ | M3: ⑩
B4: =分類表!C4 -> 01 | C4: =分類表!D4 -> 事務用品 スチール製品 | D4: =IF(ISERROR(MID(分類表!$E4,FIND(D$3,分類表!$E4)+1,IF(ISERROR(FIND(E$3,分類表!$E4)-1-FIND(D$3,分類表!$E4)),FIND($M$3,分類表!$E4)-1-FIND(D$3,分類表!$E4)-1,FIND(E$3,分類表!$E4)-1-FIND(D$3,分類表!$E4)-1))),"",MID(分類表!$E4,FIND(D$3,分類表!$E4)+1,IF(ISERROR(FIND(E$3,分類表!$E4)-1-FIND(D$3,分類表!$E4)),FIND($M$3,分類表!$E4)-1-FIND(D$3,分類表!$E4)-1,FIND(E$3,分類表!$E4)-1-FIND(D$3,分類表!$E4)-1))) -> 文房具 | E4: =IF(ISERROR(MID(分類表!$E4,FIND(E$3,分類表!$E4)+1,IF(ISERROR(FIND(F$3,分類表!$E4)-1-FIND(E$3,分類表!$E4)),FIND($M$3,分類表!$E4)-1-FIND(E$3,分類表!$E4)-1,FIND(F$3,分類表!$E4)-1-FIND(E$3,分類表!$E4)-1))),"",MID(分類表!$E4,FIND(E$3,分類表!$E4)+1,IF(ISERROR(FIND(F$3,分類表!$E4)-1-FIND(E$3,分類表!$E4)),FIND($M$3,分類表!$E4)-1-FIND(E$3,分類表!$E4)-1,FIND(F$3,分類表!$E4)-1-FIND(E$3,分類表!$E4)-1))) -> コピー用紙 | F4: =IF(ISERROR(MID(分類表!$E4,FIND(F$3,分類表!$E4)+1,IF(ISERROR(FIND(G$3,分類表!$E4)-1-FIND(F$3,分類表!$E4)),FIND($M$3,分類表!$E4)-1-FIND(F$3,分類表!$E4)-1,FIND(G$3,分類表!$E4)-1-FIND(F$3,分類表!$E4)-1))),"",MID(分類表!$E4,FIND(F$3,分類表!$E4)+1,IF(ISERROR(FIND(G$3,分類表!$E4)-1-FIND(F$3,分類表!$E4)),FIND($M$3,分類表!$E4)-1-FIND(F$3,分類表!$E4)-1,FIND(G$3,分類表!$E4)-1-FIND(F$3,分類表!$E4)-1))) -> 印刷用紙 | G4: =IF(ISERROR(MID(分類表!$E4,FIND(G$3,分類表!$E4)+1,IF(ISERROR(FIND(H$3,分類表!$E4)-1-FIND(G$3,分類表!$E4)),FIND($M$3,分類表!$E4)-1-FIND(G$3,分類表!$E4)-1,FIND(H$3,分類表!$E4)-1-FIND(G$3,分類表!$E4)-1))),"",MID(分類表!$E4,FIND(G$3,分類表!$E4)+1,IF(ISERROR(FIND(H$3,分類表!$E4)-1-FIND(G$3,分類表!$E4)),FIND($M$3,分類表!$E4)-1-FIND(G$3,分類表!$E4)-1,FIND(H$3,分類表!$E4)-1-FIND(G$3,分類表!$E4)-1))) -> 事務用机・椅子 | H4: =IF(ISERROR(MID(分類表!$E4,FIND(H$3,分類表!$E4)+1,IF(ISERROR(FIND(I$3,分類表!$E4)-1-FIND(H$3,分類表!$E4)),FIND($M$3,分類表!$E4)-1-FIND(H$3,分類表!$E4)-1,FIND(I$3,分類表!$E4)-1-FIND(H$3,分類表!$E4)-1))),"",MID(分類表!$E4,FIND(H$3,分類表!$E4)+1,IF(ISERROR(FIND(I$3,分類表!$E4)-1-FIND(H$3,分類表!$E4)),FIND($M$3,分類表!$E4)-1-FIND(H$3,分類表!$E4)-1,FIND(I$3,分類表!$E4)-1-FIND(H$3,分類表!$E4)-1))) -> 保管庫 | I4: =IF(ISERROR(MID(分類表!$E4,FIND(I$3,分類表!$E4)+1,IF(ISERROR(FIND(J$3,分類表!$E4)-1-FIND(I$3,分類表!$E4)),FIND($M$3,分類表!$E4)-1-FIND(I$3,分類表!$E4)-1,FIND(J$3,分類表!$E4)-1-FIND(I$3,分類表!$E4)-1))),"",MID(分類表!$E4,FIND(I$3,分類表!$E4)+1,IF(ISERROR(FIND(J$3,分類表!$E4)-1-FIND(I$3,分類表!$E4)),FIND($M$3,分類表!$E4)-1-FIND(I$3,分類表!$E4)-1,FIND(J$3,分類表!$E4)-1-FIND(I$3,分類表!$E4)-1))) | J4: =IF(ISERROR(MID(分類表!$E4,FIND(J$3,分類表!$E4)+1,IF(ISERROR(FIND(K$3,分類表!$E4)-1-FIND(J$3,分類表!$E4)),FIND($M$3,分類表!$E4)-1-FIND(J$3,分類表!$E4)-1,FIND(K$3,分類表!$E4)-1-FIND(J$3,分類表!$E4)-1))),"",MID(分類表!$E4,FIND(J$3,分類表!$E4)+1,IF(ISERROR(FIND(K$3,分類表!$E4)-1-FIND(J$3,分類表!$E4)),FIND($M$3,分類表!$E4)-1-FIND(J$3,分類表!$E4)-1,FIND(K$3,分類表!$E4)-1-FIND(J$3,分類表!$E4)-1))) | K4: =IF(ISERROR(MID(分類表!$E4,FIND(K$3,分類表!$E4)+1,IF(ISERROR(FIND(L$3,分類表!$E4)-1-FIND(K$3,分類表!$E4)),FIND($M$3,分類表!$E4)-1-FIND(K$3,分類表!$E4)-1,FIND(L$3,分類表!$E4)-1-FIND(K$3,分類表!$E4)-1))),"",MID(分類表!$E4,FIND(K$3,分類表!$E4)+1,IF(ISERROR(FIND(L$3,分類表!$E4)-1-FIND(K$3,分類表!$E4)),FIND($M$3,分類表!$E4)-1-FIND(K$3,分類表!$E4)-1,FIND(L$3,分類表!$E4)-1-FIND(K$3,分類表!$E4)-1))) | L4: =IF(ISERROR(MID(分類表!$E4,FIND(L$3,分類表!$E4)+1,IF(ISERROR(FIND(M$3,分類表!$E4)-1-FIND(L$3,分類表!$E4)),FIND($M$3,分類表!$E4)-1-FIND(L$3,分類表!$E4)-1,FIND(M$3,分類表!$E4)-1-FIND(L$3,分類表!$E4)-1))),"",MID(分類表!$E4,FIND(L$3,分類表!$E4)+1,IF(ISERROR(FIND(M$3,分類表!$E4)-1-FIND(L$3,分類表!$E4)),FIND($M$3,分類表!$E4)-1-FIND(L$3,分類表!$E4)-1,FIND(M$3,分類表!$E4)-1-FIND(L$3,分類表!$E4)-1))) | M4: =IF(ISERROR(MID(分類表!$E4,FIND(M$3,分類表!$E4)+1,LEN(分類表!$E4)-FIND(M$3,分類表!$E4)+1)),"",MID(分類表!$E4,FIND(M$3,分類表!$E4)+1,LEN(分類表!$E4)-FIND(M$3,分類表!$E4)+1)) -> その他 | O4: ① | P4: 1
B5: =分類表!C5 -> 02 | C5: =分類表!D5 -> 事務用機器 | D5: =IF(ISERROR(MID(分類表!$E5,FIND(D$3,分類表!$E5)+1,IF(ISERROR(FIND(E$3,分類表!$E5)-1-FIND(D$3,分類表!$E5)),FIND($M$3,分類表!$E5)-1-FIND(D$3,分類表!$E5)-1,FIND(E$3,分類表!$E5)-1-FIND(D$3,分類表!$E5)-1))),"",MID(分類表!$E5,FIND(D$3,分類表!$E5)+1,IF(ISERROR(FIND(E$3,分類表!$E5)-1-FIND(D$3,分類表!$E5)),FIND($M$3,分類表!$E5)-1-FIND(D$3,分類表!$E5)-1,FIND(E$3,分類表!$E5)-1-FIND(D$3,分類表!$E5)-1))) -> 複写機 | E5: =IF(ISERROR(MID(分類表!$E5,FIND(E$3,分類表!$E5)+1,IF(ISERROR(FIND(F$3,分類表!$E5)-1-FIND(E$3,分類表!$E5)),FIND($M$3,分類表!$E5)-1-FIND(E$3,分類表!$E5)-1,FIND(F$3,分類表!$E5)-1-FIND(E$3,分類表!$E5)-1))),"",MID(分類表!$E5,FIND(E$3,分類表!$E5)+1,IF(ISERROR(FIND(F$3,分類表!$E5)-1-FIND(E$3,分類表!$E5)),FIND($M$3,分類表!$E5)-1-FIND(E$3,分類表!$E5)-1,FIND(F$3,分類表!$E5)-1-FIND(E$3,分類表!$E5)-1))) -> 印刷機 | F5: =IF(ISERROR(MID(分類表!$E5,FIND(F$3,分類表!$E5)+1,IF(ISERROR(FIND(G$3,分類表!$E5)-1-FIND(F$3,分類表!$E5)),FIND($M$3,分類表!$E5)-1-FIND(F$3,分類表!$E5)-1,FIND(G$3,分類表!$E5)-1-FIND(F$3,分類表!$E5)-1))),"",MID(分類表!$E5,FIND(F$3,分類表!$E5)+1,IF(ISERROR(FIND(G$3,分類表!$E5)-1-FIND(F$3,分類表!$E5)),FIND($M$3,分類表!$E5)-1-FIND(F$3,分類表!$E5)-1,FIND(G$3,分類表!$E5)-1-FIND(F$3,分類表!$E5)-1))) -> 裁断機 | G5: =IF(ISERROR(MID(分類表!$E5,FIND(G$3,分類表!$E5)+1,IF(ISERROR(FIND(H$3,分類表!$E5)-1-FIND(G$3,分類表!$E5)),FIND($M$3,分類表!$E5)-1-FIND(G$3,分類表!$E5)-1,FIND(H$3,分類表!$E5)-1-FIND(G$3,分類表!$E5)-1))),"",MID(分類表!$E5,FIND(G$3,分類表!$E5)+1,IF(ISERROR(FIND(H$3,分類表!$E5)-1-FIND(G$3,分類表!$E5)),FIND($M$3,分類表!$E5)-1-FIND(G$3,分類表!$E5)-1,FIND(H$3,分類表!$E5)-1-FIND(G$3,分類表!$E5)-1))) -> 紙折り機 | H5: =IF(ISERROR(MID(分類表!$E5,FIND(H$3,分類表!$E5)+1,IF(ISERROR(FIND(I$3,分類表!$E5)-1-FIND(H$3,分類表!$E5)),FIND($M$3,分類表!$E5)-1-FIND(H$3,分類表!$E5)-1,FIND(I$3,分類表!$E5)-1-FIND(H$3,分類表!$E5)-1))),"",MID(分類表!$E5,FIND(H$3,分類表!$E5)+1,IF(ISERROR(FIND(I$3,分類表!$E5)-1-FIND(H$3,分類表!$E5)),FIND($M$3,分類表!$E5)-1-FIND(H$3,分類表!$E5)-1,FIND(I$3,分類表!$E5)-1-FIND(H$3,分類表!$E5)-1))) -> 圧着機 | I5: =IF(ISERROR(MID(分類表!$E5,FIND(I$3,分類表!$E5)+1,IF(ISERROR(FIND(J$3,分類表!$E5)-1-FIND(I$3,分類表!$E5)),FIND($M$3,分類表!$E5)-1-FIND(I$3,分類表!$E5)-1,FIND(J$3,分類表!$E5)-1-FIND(I$3,分類表!$E5)-1))),"",MID(分類表!$E5,FIND(I$3,分類表!$E5)+1,IF(ISERROR(FIND(J$3,分類表!$E5)-1-FIND(I$3,分類表!$E5)),FIND($M$3,分類表!$E5)-1-FIND(I$3,分類表!$E5)-1,FIND(J$3,分類表!$E5)-1-FIND(I$3,分類表!$E5)-1))) -> 郵便計器 | J5: =IF(ISERROR(MID(分類表!$E5,FIND(J$3,分類表!$E5)+1,IF(ISERROR(FIND(K$3,分類表!$E5)-1-FIND(J$3,分類表!$E5)),FIND($M$3,分類表!$E5)-1-FIND(J$3,分類表!$E5)-1,FIND(K$3,分類表!$E5)-1-FIND(J$3,分類表!$E5)-1))),"",MID(分類表!$E5,FIND(J$3,分類表!$E5)+1,IF(ISERROR(FIND(K$3,分類表!$E5)-1-FIND(J$3,分類表!$E5)),FIND($M$3,分類表!$E5)-1-FIND(J$3,分類表!$E5)-1,FIND(K$3,分類表!$E5)-1-FIND(J$3,分類表!$E5)-1))) | K5: =IF(ISERROR(MID(分類表!$E5,FIND(K$3,分類表!$E5)+1,IF(ISERROR(FIND(L$3,分類表!$E5)-1-FIND(K$3,分類表!$E5)),FIND($M$3,分類表!$E5)-1-FIND(K$3,分類表!$E5)-1,FIND(L$3,分類表!$E5)-1-FIND(K$3,分類表!$E5)-1))),"",MID(分類表!$E5,FIND(K$3,分類表!$E5)+1,IF(ISERROR(FIND(L$3,分類表!$E5)-1-FIND(K$3,分類表!$E5)),FIND($M$3,分類表!$E5)-1-FIND(K$3,分類表!$E5)-1,FIND(L$3,分類表!$E5)-1-FIND(K$3,分類表!$E5)-1))) | L5: =IF(ISERROR(MID(分類表!$E5,FIND(L$3,分類表!$E5)+1,IF(ISERROR(FIND(M$3,分類表!$E5)-1-FIND(L$3,分類表!$E5)),FIND($M$3,分類表!$E5)-1-FIND(L$3,分類表!$E5)-1,FIND(M$3,分類表!$E5)-1-FIND(L$3,分類表!$E5)-1))),"",MID(分類表!$E5,FIND(L$3,分類表!$E5)+1,IF(ISERROR(FIND(M$3,分類表!$E5)-1-FIND(L$3,分類表!$E5)),FIND($M$3,分類表!$E5)-1-FIND(L$3,分類表!$E5)-1,FIND(M$3,分類表!$E5)-1-FIND(L$3,分類表!$E5)-1))) | M5: =IF(ISERROR(MID(分類表!$E5,FIND(M$3,分類表!$E5)+1,LEN(分類表!$E5)-FIND(M$3,分類表!$E5)+1)),"",MID(分類表!$E5,FIND(M$3,分類表!$E5)+1,LEN(分類表!$E5)-FIND(M$3,分類表!$E5)+1)) -> その他 | O5: ② | P5: 2
B6: =分類表!C6 -> 03 | C6: =分類表!D6 -> 施設用機器 | D6: =IF(ISERROR(MID(分類表!$E6,FIND(D$3,分類表!$E6)+1,IF(ISERROR(FIND(E$3,分類表!$E6)-1-FIND(D$3,分類表!$E6)),FIND($M$3,分類表!$E6)-1-FIND(D$3,分類表!$E6)-1,FIND(E$3,分類表!$E6)-1-FIND(D$3,分類表!$E6)-1))),"",MID(分類表!$E6,FIND(D$3,分類表!$E6)+1,IF(ISERROR(FIND(E$3,分類表!$E6)-1-FIND(D$3,分類表!$E6)),FIND($M$3,分類表!$E6)-1-FIND(D$3,分類表!$E6)-1,FIND(E$3,分類表!$E6)-1-FIND(D$3,分類表!$E6)-1))) -> 自動券売機 | E6: =IF(ISERROR(MID(分類表!$E6,FIND(E$3,分類表!$E6)+1,IF(ISERROR(FIND(F$3,分類表!$E6)-1-FIND(E$3,分類表!$E6)),FIND($M$3,分類表!$E6)-1-FIND(E$3,分類表!$E6)-1,FIND(F$3,分類表!$E6)-1-FIND(E$3,分類表!$E6)-1))),"",MID(分類表!$E6,FIND(E$3,分類表!$E6)+1,IF(ISERROR(FIND(F$3,分類表!$E6)-1-FIND(E$3,分類表!$E6)),FIND($M$3,分類表!$E6)-1-FIND(E$3,分類表!$E6)-1,FIND(F$3,分類表!$E6)-1-FIND(E$3,分類表!$E6)-1))) -> 駐車場用発券機 | F6: =IF(ISERROR(MID(分類表!$E6,FIND(F$3,分類表!$E6)+1,IF(ISERROR(FIND(G$3,分類表!$E6)-1-FIND(F$3,分類表!$E6)),FIND($M$3,分類表!$E6)-1-FIND(F$3,分類表!$E6)-1,FIND(G$3,分類表!$E6)-1-FIND(F$3,分類表!$E6)-1))),"",MID(分類表!$E6,FIND(F$3,分類表!$E6)+1,IF(ISERROR(FIND(G$3,分類表!$E6)-1-FIND(F$3,分類表!$E6)),FIND($M$3,分類表!$E6)-1-FIND(F$3,分類表!$E6)-1,FIND(G$3,分類表!$E6)-1-FIND(F$3,分類表!$E6)-1))) | G6: =IF(ISERROR(MID(分類表!$E6,FIND(G$3,分類表!$E6)+1,IF(ISERROR(FIND(H$3,分類表!$E6)-1-FIND(G$3,分類表!$E6)),FIND($M$3,分類表!$E6)-1-FIND(G$3,分類表!$E6)-1,FIND(H$3,分類表!$E6)-1-FIND(G$3,分類表!$E6)-1))),"",MID(分類表!$E6,FIND(G$3,分類表!$E6)+1,IF(ISERROR(FIND(H$3,分類表!$E6)-1-FIND(G$3,分類表!$E6)),FIND($M$3,分類表!$E6)-1-FIND(G$3,分類表!$E6)-1,FIND(H$3,分類表!$E6)-1-FIND(G$3,分類表!$E6)-1))) | H6: =IF(ISERROR(MID(分類表!$E6,FIND(H$3,分類表!$E6)+1,IF(ISERROR(FIND(I$3,分類表!$E6)-1-FIND(H$3,分類表!$E6)),FIND($M$3,分類表!$E6)-1-FIND(H$3,分類表!$E6)-1,FIND(I$3,分類表!$E6)-1-FIND(H$3,分類表!$E6)-1))),"",MID(分類表!$E6,FIND(H$3,分類表!$E6)+1,IF(ISERROR(FIND(I$3,分類表!$E6)-1-FIND(H$3,分類表!$E6)),FIND($M$3,分類表!$E6)-1-FIND(H$3,分類表!$E6)-1,FIND(I$3,分類表!$E6)-1-FIND(H$3,分類表!$E6)-1))) | I6: =IF(ISERROR(MID(分類表!$E6,FIND(I$3,分類表!$E6)+1,IF(ISERROR(FIND(J$3,分類表!$E6)-1-FIND(I$3,分類表!$E6)),FIND($M$3,分類表!$E6)-1-FIND(I$3,分類表!$E6)-1,FIND(J$3,分類表!$E6)-1-FIND(I$3,分類表!$E6)-1))),"",MID(分類表!$E6,FIND(I$3,分類表!$E6)+1,IF(ISERROR(FIND(J$3,分類表!$E6)-1-FIND(I$3,分類表!$E6)),FIND($M$3,分類表!$E6)-1-FIND(I$3,分類表!$E6)-1,FIND(J$3,分類表!$E6)-1-FIND(I$3,分類表!$E6)-1))) | J6: =IF(ISERROR(MID(分類表!$E6,FIND(J$3,分類表!$E6)+1,IF(ISERROR(FIND(K$3,分類表!$E6)-1-FIND(J$3,分類表!$E6)),FIND($M$3,分類表!$E6)-1-FIND(J$3,分類表!$E6)-1,FIND(K$3,分類表!$E6)-1-FIND(J$3,分類表!$E6)-1))),"",MID(分類表!$E6,FIND(J$3,分類表!$E6)+1,IF(ISERROR(FIND(K$3,分類表!$E6)-1-FIND(J$3,分類表!$E6)),FIND($M$3,分類表!$E6)-1-FIND(J$3,分類表!$E6)-1,FIND(K$3,分類表!$E6)-1-FIND(J$3,分類表!$E6)-1))) | K6: =IF(ISERROR(MID(分類表!$E6,FIND(K$3,分類表!$E6)+1,IF(ISERROR(FIND(L$3,分類表!$E6)-1-FIND(K$3,分類表!$E6)),FIND($M$3,分類表!$E6)-1-FIND(K$3,分類表!$E6)-1,FIND(L$3,分類表!$E6)-1-FIND(K$3,分類表!$E6)-1))),"",MID(分類表!$E6,FIND(K$3,分類表!$E6)+1,IF(ISERROR(FIND(L$3,分類表!$E6)-1-FIND(K$3,分類表!$E6)),FIND($M$3,分類表!$E6)-1-FIND(K$3,分類表!$E6)-1,FIND(L$3,分類表!$E6)-1-FIND(K$3,分類表!$E6)-1))) | L6: =IF(ISERROR(MID(分類表!$E6,FIND(L$3,分類表!$E6)+1,IF(ISERROR(FIND(M$3,分類表!$E6)-1-FIND(L$3,分類表!$E6)),FIND($M$3,分類表!$E6)-1-FIND(L$3,分類表!$E6)-1,FIND(M$3,分類表!$E6)-1-FIND(L$3,分類表!$E6)-1))),"",MID(分類表!$E6,FIND(L$3,分類表!$E6)+1,IF(ISERROR(FIND(M$3,分類表!$E6)-1-FIND(L$3,分類表!$E6)),FIND($M$3,分類表!$E6)-1-FIND(L$3,分類表!$E6)-1,FIND(M$3,分類表!$E6)-1-FIND(L$3,分類表!$E6)-1))) | M6: =IF(ISERROR(MID(分類表!$E6,FIND(M$3,分類表!$E6)+1,LEN(分類表!$E6)-FIND(M$3,分類表!$E6)+1)),"",MID(分類表!$E6,FIND(M$3,分類表!$E6)+1,LEN(分類表!$E6)-FIND(M$3,分類表!$E6)+1)) -> その他 | O6: ③ | P6: 3
B7: =分類表!C7 -> 04 | C7: =分類表!D7 -> ＯＡ機器及び関連商品 | D7: =IF(ISERROR(MID(分類表!$E7,FIND(D$3,分類表!$E7)+1,IF(ISERROR(FIND(E$3,分類表!$E7)-1-FIND(D$3,分類表!$E7)),FIND($M$3,分類表!$E7)-1-FIND(D$3,分類表!$E7)-1,FIND(E$3,分類表!$E7)-1-FIND(D$3,分類表!$E7)-1))),"",MID(分類表!$E7,FIND(D$3,分類表!$E7)+1,IF(ISERROR(FIND(E$3,分類表!$E7)-1-FIND(D$3,分類表!$E7)),FIND($M$3,分類表!$E7)-1-FIND(D$3,分類表!$E7)-1,FIND(E$3,分類表!$E7)-1-FIND(D$3,分類表!$E7)-1))) -> パソコン | E7: =IF(ISERROR(MID(分類表!$E7,FIND(E$3,分類表!$E7)+1,IF(ISERROR(FIND(F$3,分類表!$E7)-1-FIND(E$3,分類表!$E7)),FIND($M$3,分類表!$E7)-1-FIND(E$3,分類表!$E7)-1,FIND(F$3,分類表!$E7)-1-FIND(E$3,分類表!$E7)-1))),"",MID(分類表!$E7,FIND(E$3,分類表!$E7)+1,IF(ISERROR(FIND(F$3,分類表!$E7)-1-FIND(E$3,分類表!$E7)),FIND($M$3,分類表!$E7)-1-FIND(E$3,分類表!$E7)-1,FIND(F$3,分類表!$E7)-1-FIND(E$3,分類表!$E7)-1))) -> サーバー | F7: =IF(ISERROR(MID(分類表!$E7,FIND(F$3,分類表!$E7)+1,IF(ISERROR(FIND(G$3,分類表!$E7)-1-FIND(F$3,分類表!$E7)),FIND($M$3,分類表!$E7)-1-FIND(F$3,分類表!$E7)-1,FIND(G$3,分類表!$E7)-1-FIND(F$3,分類表!$E7)-1))),"",MID(分類表!$E7,FIND(F$3,分類表!$E7)+1,IF(ISERROR(FIND(G$3,分類表!$E7)-1-FIND(F$3,分類表!$E7)),FIND($M$3,分類表!$E7)-1-FIND(F$3,分類表!$E7)-1,FIND(G$3,分類表!$E7)-1-FIND(F$3,分類表!$E7)-1))) -> プリンター | G7: =IF(ISERROR(MID(分類表!$E7,FIND(G$3,分類表!$E7)+1,IF(ISERROR(FIND(H$3,分類表!$E7)-1-FIND(G$3,分類表!$E7)),FIND($M$3,分類表!$E7)-1-FIND(G$3,分類表!$E7)-1,FIND(H$3,分類表!$E7)-1-FIND(G$3,分類表!$E7)-1))),"",MID(分類表!$E7,FIND(G$3,分類表!$E7)+1,IF(ISERROR(FIND(H$3,分類表!$E7)-1-FIND(G$3,分類表!$E7)),FIND($M$3,分類表!$E7)-1-FIND(G$3,分類表!$E7)-1,FIND(H$3,分類表!$E7)-1-FIND(G$3,分類表!$E7)-1))) -> コンピューター周辺機器 | H7: =IF(ISERROR(MID(分類表!$E7,FIND(H$3,分類表!$E7)+1,IF(ISERROR(FIND(I$3,分類表!$E7)-1-FIND(H$3,分類表!$E7)),FIND($M$3,分類表!$E7)-1-FIND(H$3,分類表!$E7)-1,FIND(I$3,分類表!$E7)-1-FIND(H$3,分類表!$E7)-1))),"",MID(分類表!$E7,FIND(H$3,分類表!$E7)+1,IF(ISERROR(FIND(I$3,分類表!$E7)-1-FIND(H$3,分類表!$E7)),FIND($M$3,分類表!$E7)-1-FIND(H$3,分類表!$E7)-1,FIND(I$3,分類表!$E7)-1-FIND(H$3,分類表!$E7)-1))) -> ソフトウエア | I7: =IF(ISERROR(MID(分類表!$E7,FIND(I$3,分類表!$E7)+1,IF(ISERROR(FIND(J$3,分類表!$E7)-1-FIND(I$3,分類表!$E7)),FIND($M$3,分類表!$E7)-1-FIND(I$3,分類表!$E7)-1,FIND(J$3,分類表!$E7)-1-FIND(I$3,分類表!$E7)-1))),"",MID(分類表!$E7,FIND(I$3,分類表!$E7)+1,IF(ISERROR(FIND(J$3,分類表!$E7)-1-FIND(I$3,分類表!$E7)),FIND($M$3,分類表!$E7)-1-FIND(I$3,分類表!$E7)-1,FIND(J$3,分類表!$E7)-1-FIND(I$3,分類表!$E7)-1))) -> トナーカートリッジ | J7: =IF(ISERROR(MID(分類表!$E7,FIND(J$3,分類表!$E7)+1,IF(ISERROR(FIND(K$3,分類表!$E7)-1-FIND(J$3,分類表!$E7)),FIND($M$3,分類表!$E7)-1-FIND(J$3,分類表!$E7)-1,FIND(K$3,分類表!$E7)-1-FIND(J$3,分類表!$E7)-1))),"",MID(分類表!$E7,FIND(J$3,分類表!$E7)+1,IF(ISERROR(FIND(K$3,分類表!$E7)-1-FIND(J$3,分類表!$E7)),FIND($M$3,分類表!$E7)-1-FIND(J$3,分類表!$E7)-1,FIND(K$3,分類表!$E7)-1-FIND(J$3,分類表!$E7)-1))) | K7: =IF(ISERROR(MID(分類表!$E7,FIND(K$3,分類表!$E7)+1,IF(ISERROR(FIND(L$3,分類表!$E7)-1-FIND(K$3,分類表!$E7)),FIND($M$3,分類表!$E7)-1-FIND(K$3,分類表!$E7)-1,FIND(L$3,分類表!$E7)-1-FIND(K$3,分類表!$E7)-1))),"",MID(分類表!$E7,FIND(K$3,分類表!$E7)+1,IF(ISERROR(FIND(L$3,分類表!$E7)-1-FIND(K$3,分類表!$E7)),FIND($M$3,分類表!$E7)-1-FIND(K$3,分類表!$E7)-1,FIND(L$3,分類表!$E7)-1-FIND(K$3,分類表!$E7)-1))) | L7: =IF(ISERROR(MID(分類表!$E7,FIND(L$3,分類表!$E7)+1,IF(ISERROR(FIND(M$3,分類表!$E7)-1-FIND(L$3,分類表!$E7)),FIND($M$3,分類表!$E7)-1-FIND(L$3,分類表!$E7)-1,FIND(M$3,分類表!$E7)-1-FIND(L$3,分類表!$E7)-1))),"",MID(分類表!$E7,FIND(L$3,分類表!$E7)+1,IF(ISERROR(FIND(M$3,分類表!$E7)-1-FIND(L$3,分類表!$E7)),FIND($M$3,分類表!$E7)-1-FIND(L$3,分類表!$E7)-1,FIND(M$3,分類表!$E7)-1-FIND(L$3,分類表!$E7)-1))) | M7: =IF(ISERROR(MID(分類表!$E7,FIND(M$3,分類表!$E7)+1,LEN(分類表!$E7)-FIND(M$3,分類表!$E7)+1)),"",MID(分類表!$E7,FIND(M$3,分類表!$E7)+1,LEN(分類表!$E7)-FIND(M$3,分類表!$E7)+1)) -> その他 | O7: ④ | P7: 4
B8: =分類表!C8 -> 05 | C8: =分類表!D8 -> 印章 | D8: =IF(ISERROR(MID(分類表!$E8,FIND(D$3,分類表!$E8)+1,IF(ISERROR(FIND(E$3,分類表!$E8)-1-FIND(D$3,分類表!$E8)),FIND($M$3,分類表!$E8)-1-FIND(D$3,分類表!$E8)-1,FIND(E$3,分類表!$E8)-1-FIND(D$3,分類表!$E8)-1))),"",MID(分類表!$E8,FIND(D$3,分類表!$E8)+1,IF(ISERROR(FIND(E$3,分類表!$E8)-1-FIND(D$3,分類表!$E8)),FIND($M$3,分類表!$E8)-1-FIND(D$3,分類表!$E8)-1,FIND(E$3,分類表!$E8)-1-FIND(D$3,分類表!$E8)-1))) -> 印鑑 | E8: =IF(ISERROR(MID(分類表!$E8,FIND(E$3,分類表!$E8)+1,IF(ISERROR(FIND(F$3,分類表!$E8)-1-FIND(E$3,分類表!$E8)),FIND($M$3,分類表!$E8)-1-FIND(E$3,分類表!$E8)-1,FIND(F$3,分類表!$E8)-1-FIND(E$3,分類表!$E8)-1))),"",MID(分類表!$E8,FIND(E$3,分類表!$E8)+1,IF(ISERROR(FIND(F$3,分類表!$E8)-1-FIND(E$3,分類表!$E8)),FIND($M$3,分類表!$E8)-1-FIND(E$3,分類表!$E8)-1,FIND(F$3,分類表!$E8)-1-FIND(E$3,分類表!$E8)-1))) -> 公印 | F8: =IF(ISERROR(MID(分類表!$E8,FIND(F$3,分類表!$E8)+1,IF(ISERROR(FIND(G$3,分類表!$E8)-1-FIND(F$3,分類表!$E8)),FIND($M$3,分類表!$E8)-1-FIND(F$3,分類表!$E8)-1,FIND(G$3,分類表!$E8)-1-FIND(F$3,分類表!$E8)-1))),"",MID(分類表!$E8,FIND(F$3,分類表!$E8)+1,IF(ISERROR(FIND(G$3,分類表!$E8)-1-FIND(F$3,分類表!$E8)),FIND($M$3,分類表!$E8)-1-FIND(F$3,分類表!$E8)-1,FIND(G$3,分類表!$E8)-1-FIND(F$3,分類表!$E8)-1))) -> 作成印 | G8: =IF(ISERROR(MID(分類表!$E8,FIND(G$3,分類表!$E8)+1,IF(ISERROR(FIND(H$3,分類表!$E8)-1-FIND(G$3,分類表!$E8)),FIND($M$3,分類表!$E8)-1-FIND(G$3,分類表!$E8)-1,FIND(H$3,分類表!$E8)-1-FIND(G$3,分類表!$E8)-1))),"",MID(分類表!$E8,FIND(G$3,分類表!$E8)+1,IF(ISERROR(FIND(H$3,分類表!$E8)-1-FIND(G$3,分類表!$E8)),FIND($M$3,分類表!$E8)-1-FIND(G$3,分類表!$E8)-1,FIND(H$3,分類表!$E8)-1-FIND(G$3,分類表!$E8)-1))) -> ゴム印 | H8: =IF(ISERROR(MID(分類表!$E8,FIND(H$3,分類表!$E8)+1,IF(ISERROR(FIND(I$3,分類表!$E8)-1-FIND(H$3,分類表!$E8)),FIND($M$3,分類表!$E8)-1-FIND(H$3,分類表!$E8)-1,FIND(I$3,分類表!$E8)-1-FIND(H$3,分類表!$E8)-1))),"",MID(分類表!$E8,FIND(H$3,分類表!$E8)+1,IF(ISERROR(FIND(I$3,分類表!$E8)-1-FIND(H$3,分類表!$E8)),FIND($M$3,分類表!$E8)-1-FIND(H$3,分類表!$E8)-1,FIND(I$3,分類表!$E8)-1-FIND(H$3,分類表!$E8)-1))) | I8: =IF(ISERROR(MID(分類表!$E8,FIND(I$3,分類表!$E8)+1,IF(ISERROR(FIND(J$3,分類表!$E8)-1-FIND(I$3,分類表!$E8)),FIND($M$3,分類表!$E8)-1-FIND(I$3,分類表!$E8)-1,FIND(J$3,分類表!$E8)-1-FIND(I$3,分類表!$E8)-1))),"",MID(分類表!$E8,FIND(I$3,分類表!$E8)+1,IF(ISERROR(FIND(J$3,分類表!$E8)-1-FIND(I$3,分類表!$E8)),FIND($M$3,分類表!$E8)-1-FIND(I$3,分類表!$E8)-1,FIND(J$3,分類表!$E8)-1-FIND(I$3,分類表!$E8)-1))) | J8: =IF(ISERROR(MID(分類表!$E8,FIND(J$3,分類表!$E8)+1,IF(ISERROR(FIND(K$3,分類表!$E8)-1-FIND(J$3,分類表!$E8)),FIND($M$3,分類表!$E8)-1-FIND(J$3,分類表!$E8)-1,FIND(K$3,分類表!$E8)-1-FIND(J$3,分類表!$E8)-1))),"",MID(分類表!$E8,FIND(J$3,分類表!$E8)+1,IF(ISERROR(FIND(K$3,分類表!$E8)-1-FIND(J$3,分類表!$E8)),FIND($M$3,分類表!$E8)-1-FIND(J$3,分類表!$E8)-1,FIND(K$3,分類表!$E8)-1-FIND(J$3,分類表!$E8)-1))) | K8: =IF(ISERROR(MID(分類表!$E8,FIND(K$3,分類表!$E8)+1,IF(ISERROR(FIND(L$3,分類表!$E8)-1-FIND(K$3,分類表!$E8)),FIND($M$3,分類表!$E8)-1-FIND(K$3,分類表!$E8)-1,FIND(L$3,分類表!$E8)-1-FIND(K$3,分類表!$E8)-1))),"",MID(分類表!$E8,FIND(K$3,分類表!$E8)+1,IF(ISERROR(FIND(L$3,分類表!$E8)-1-FIND(K$3,分類表!$E8)),FIND($M$3,分類表!$E8)-1-FIND(K$3,分類表!$E8)-1,FIND(L$3,分類表!$E8)-1-FIND(K$3,分類表!$E8)-1))) | L8: =IF(ISERROR(MID(分類表!$E8,FIND(L$3,分類表!$E8)+1,IF(ISERROR(FIND(M$3,分類表!$E8)-1-FIND(L$3,分類表!$E8)),FIND($M$3,分類表!$E8)-1-FIND(L$3,分類表!$E8)-1,FIND(M$3,分類表!$E8)-1-FIND(L$3,分類表!$E8)-1))),"",MID(分類表!$E8,FIND(L$3,分類表!$E8)+1,IF(ISERROR(FIND(M$3,分類表!$E8)-1-FIND(L$3,分類表!$E8)),FIND($M$3,分類表!$E8)-1-FIND(L$3,分類表!$E8)-1,FIND(M$3,分類表!$E8)-1-FIND(L$3,分類表!$E8)-1))) | M8: =IF(ISERROR(MID(分類表!$E8,FIND(M$3,分類表!$E8)+1,LEN(分類表!$E8)-FIND(M$3,分類表!$E8)+1)),"",MID(分類表!$E8,FIND(M$3,分類表!$E8)+1,LEN(分類表!$E8)-FIND(M$3,分類表!$E8)+1)) -> その他 | O8: ⑤ | P8: 5
B9: =分類表!C9 -> 06 | C9: =分類表!D9 -> 保育教材 保育用品 | D9: =IF(ISERROR(MID(分類表!$E9,FIND(D$3,分類表!$E9)+1,IF(ISERROR(FIND(E$3,分類表!$E9)-1-FIND(D$3,分類表!$E9)),FIND($M$3,分類表!$E9)-1-FIND(D$3,分類表!$E9)-1,FIND(E$3,分類表!$E9)-1-FIND(D$3,分類表!$E9)-1))),"",MID(分類表!$E9,FIND(D$3,分類表!$E9)+1,IF(ISERROR(FIND(E$3,分類表!$E9)-1-FIND(D$3,分類表!$E9)),FIND($M$3,分類表!$E9)-1-FIND(D$3,分類表!$E9)-1,FIND(E$3,分類表!$E9)-1-FIND(D$3,分類表!$E9)-1))) -> 保育園等教材 | E9: =IF(ISERROR(MID(分類表!$E9,FIND(E$3,分類表!$E9)+1,IF(ISERROR(FIND(F$3,分類表!$E9)-1-FIND(E$3,分類表!$E9)),FIND($M$3,分類表!$E9)-1-FIND(E$3,分類表!$E9)-1,FIND(F$3,分類表!$E9)-1-FIND(E$3,分類表!$E9)-1))),"",MID(分類表!$E9,FIND(E$3,分類表!$E9)+1,IF(ISERROR(FIND(F$3,分類表!$E9)-1-FIND(E$3,分類表!$E9)),FIND($M$3,分類表!$E9)-1-FIND(E$3,分類表!$E9)-1,FIND(F$3,分類表!$E9)-1-FIND(E$3,分類表!$E9)-1))) -> 保育用品 | F9: =IF(ISERROR(MID(分類表!$E9,FIND(F$3,分類表!$E9)+1,IF(ISERROR(FIND(G$3,分類表!$E9)-1-FIND(F$3,分類表!$E9)),FIND($M$3,分類表!$E9)-1-FIND(F$3,分類表!$E9)-1,FIND(G$3,分類表!$E9)-1-FIND(F$3,分類表!$E9)-1))),"",MID(分類表!$E9,FIND(F$3,分類表!$E9)+1,IF(ISERROR(FIND(G$3,分類表!$E9)-1-FIND(F$3,分類表!$E9)),FIND($M$3,分類表!$E9)-1-FIND(F$3,分類表!$E9)-1,FIND(G$3,分類表!$E9)-1-FIND(F$3,分類表!$E9)-1))) | G9: =IF(ISERROR(MID(分類表!$E9,FIND(G$3,分類表!$E9)+1,IF(ISERROR(FIND(H$3,分類表!$E9)-1-FIND(G$3,分類表!$E9)),FIND($M$3,分類表!$E9)-1-FIND(G$3,分類表!$E9)-1,FIND(H$3,分類表!$E9)-1-FIND(G$3,分類表!$E9)-1))),"",MID(分類表!$E9,FIND(G$3,分類表!$E9)+1,IF(ISERROR(FIND(H$3,分類表!$E9)-1-FIND(G$3,分類表!$E9)),FIND($M$3,分類表!$E9)-1-FIND(G$3,分類表!$E9)-1,FIND(H$3,分類表!$E9)-1-FIND(G$3,分類表!$E9)-1))) | H9: =IF(ISERROR(MID(分類表!$E9,FIND(H$3,分類表!$E9)+1,IF(ISERROR(FIND(I$3,分類表!$E9)-1-FIND(H$3,分類表!$E9)),FIND($M$3,分類表!$E9)-1-FIND(H$3,分類表!$E9)-1,FIND(I$3,分類表!$E9)-1-FIND(H$3,分類表!$E9)-1))),"",MID(分類表!$E9,FIND(H$3,分類表!$E9)+1,IF(ISERROR(FIND(I$3,分類表!$E9)-1-FIND(H$3,分類表!$E9)),FIND($M$3,分類表!$E9)-1-FIND(H$3,分類表!$E9)-1,FIND(I$3,分類表!$E9)-1-FIND(H$3,分類表!$E9)-1))) | I9: =IF(ISERROR(MID(分類表!$E9,FIND(I$3,分類表!$E9)+1,IF(ISERROR(FIND(J$3,分類表!$E9)-1-FIND(I$3,分類表!$E9)),FIND($M$3,分類表!$E9)-1-FIND(I$3,分類表!$E9)-1,FIND(J$3,分類表!$E9)-1-FIND(I$3,分類表!$E9)-1))),"",MID(分類表!$E9,FIND(I$3,分類表!$E9)+1,IF(ISERROR(FIND(J$3,分類表!$E9)-1-FIND(I$3,分類表!$E9)),FIND($M$3,分類表!$E9)-1-FIND(I$3,分類表!$E9)-1,FIND(J$3,分類表!$E9)-1-FIND(I$3,分類表!$E9)-1))) | J9: =IF(ISERROR(MID(分類表!$E9,FIND(J$3,分類表!$E9)+1,IF(ISERROR(FIND(K$3,分類表!$E9)-1-FIND(J$3,分類表!$E9)),FIND($M$3,分類表!$E9)-1-FIND(J$3,分類表!$E9)-1,FIND(K$3,分類表!$E9)-1-FIND(J$3,分類表!$E9)-1))),"",MID(分類表!$E9,FIND(J$3,分類表!$E9)+1,IF(ISERROR(FIND(K$3,分類表!$E9)-1-FIND(J$3,分類表!$E9)),FIND($M$3,分類表!$E9)-1-FIND(J$3,分類表!$E9)-1,FIND(K$3,分類表!$E9)-1-FIND(J$3,分類表!$E9)-1))) | K9: =IF(ISERROR(MID(分類表!$E9,FIND(K$3,分類表!$E9)+1,IF(ISERROR(FIND(L$3,分類表!$E9)-1-FIND(K$3,分類表!$E9)),FIND($M$3,分類表!$E9)-1-FIND(K$3,分類表!$E9)-1,FIND(L$3,分類表!$E9)-1-FIND(K$3,分類表!$E9)-1))),"",MID(分類表!$E9,FIND(K$3,分類表!$E9)+1,IF(ISERROR(FIND(L$3,分類表!$E9)-1-FIND(K$3,分類表!$E9)),FIND($M$3,分類表!$E9)-1-FIND(K$3,分類表!$E9)-1,FIND(L$3,分類表!$E9)-1-FIND(K$3,分類表!$E9)-1))) | L9: =IF(ISERROR(MID(分類表!$E9,FIND(L$3,分類表!$E9)+1,IF(ISERROR(FIND(M$3,分類表!$E9)-1-FIND(L$3,分類表!$E9)),FIND($M$3,分類表!$E9)-1-FIND(L$3,分類表!$E9)-1,FIND(M$3,分類表!$E9)-1-FIND(L$3,分類表!$E9)-1))),"",MID(分類表!$E9,FIND(L$3,分類表!$E9)+1,IF(ISERROR(FIND(M$3,分類表!$E9)-1-FIND(L$3,分類表!$E9)),FIND($M$3,分類表!$E9)-1-FIND(L$3,分類表!$E9)-1,FIND(M$3,分類表!$E9)-1-FIND(L$3,分類表!$E9)-1))) | M9: =IF(ISERROR(MID(分類表!$E9,FIND(M$3,分類表!$E9)+1,LEN(分類表!$E9)-FIND(M$3,分類表!$E9)+1)),"",MID(分類表!$E9,FIND(M$3,分類表!$E9)+1,LEN(分類表!$E9)-FIND(M$3,分類表!$E9)+1)) -> その他 | O9: ⑥ | P9: 6
B10: =分類表!C10 -> 07 | C10: =分類表!D10 -> 遊具 | D10: =IF(ISERROR(MID(分類表!$E10,FIND(D$3,分類表!$E10)+1,IF(ISERROR(FIND(E$3,分類表!$E10)-1-FIND(D$3,分類表!$E10)),FIND($M$3,分類表!$E10)-1-FIND(D$3,分類表!$E10)-1,FIND(E$3,分類表!$E10)-1-FIND(D$3,分類表!$E10)-1))),"",MID(分類表!$E10,FIND(D$3,分類表!$E10)+1,IF(ISERROR(FIND(E$3,分類表!$E10)-1-FIND(D$3,分類表!$E10)),FIND($M$3,分類表!$E10)-1-FIND(D$3,分類表!$E10)-1,FIND(E$3,分類表!$E10)-1-FIND(D$3,分類表!$E10)-1))) -> 大型遊具 | E10: =IF(ISERROR(MID(分類表!$E10,FIND(E$3,分類表!$E10)+1,IF(ISERROR(FIND(F$3,分類表!$E10)-1-FIND(E$3,分類表!$E10)),FIND($M$3,分類表!$E10)-1-FIND(E$3,分類表!$E10)-1,FIND(F$3,分類表!$E10)-1-FIND(E$3,分類表!$E10)-1))),"",MID(分類表!$E10,FIND(E$3,分類表!$E10)+1,IF(ISERROR(FIND(F$3,分類表!$E10)-1-FIND(E$3,分類表!$E10)),FIND($M$3,分類表!$E10)-1-FIND(E$3,分類表!$E10)-1,FIND(F$3,分類表!$E10)-1-FIND(E$3,分類表!$E10)-1))) -> ブランコ | F10: =IF(ISERROR(MID(分類表!$E10,FIND(F$3,分類表!$E10)+1,IF(ISERROR(FIND(G$3,分類表!$E10)-1-FIND(F$3,分類表!$E10)),FIND($M$3,分類表!$E10)-1-FIND(F$3,分類表!$E10)-1,FIND(G$3,分類表!$E10)-1-FIND(F$3,分類表!$E10)-1))),"",MID(分類表!$E10,FIND(F$3,分類表!$E10)+1,IF(ISERROR(FIND(G$3,分類表!$E10)-1-FIND(F$3,分類表!$E10)),FIND($M$3,分類表!$E10)-1-FIND(F$3,分類表!$E10)-1,FIND(G$3,分類表!$E10)-1-FIND(F$3,分類表!$E10)-1))) -> 滑り台 | G10: =IF(ISERROR(MID(分類表!$E10,FIND(G$3,分類表!$E10)+1,IF(ISERROR(FIND(H$3,分類表!$E10)-1-FIND(G$3,分類表!$E10)),FIND($M$3,分類表!$E10)-1-FIND(G$3,分類表!$E10)-1,FIND(H$3,分類表!$E10)-1-FIND(G$3,分類表!$E10)-1))),"",MID(分類表!$E10,FIND(G$3,分類表!$E10)+1,IF(ISERROR(FIND(H$3,分類表!$E10)-1-FIND(G$3,分類表!$E10)),FIND($M$3,分類表!$E10)-1-FIND(G$3,分類表!$E10)-1,FIND(H$3,分類表!$E10)-1-FIND(G$3,分類表!$E10)-1))) | H10: =IF(ISERROR(MID(分類表!$E10,FIND(H$3,分類表!$E10)+1,IF(ISERROR(FIND(I$3,分類表!$E10)-1-FIND(H$3,分類表!$E10)),FIND($M$3,分類表!$E10)-1-FIND(H$3,分類表!$E10)-1,FIND(I$3,分類表!$E10)-1-FIND(H$3,分類表!$E10)-1))),"",MID(分類表!$E10,FIND(H$3,分類表!$E10)+1,IF(ISERROR(FIND(I$3,分類表!$E10)-1-FIND(H$3,分類表!$E10)),FIND($M$3,分類表!$E10)-1-FIND(H$3,分類表!$E10)-1,FIND(I$3,分類表!$E10)-1-FIND(H$3,分類表!$E10)-1))) | I10: =IF(ISERROR(MID(分類表!$E10,FIND(I$3,分類表!$E10)+1,IF(ISERROR(FIND(J$3,分類表!$E10)-1-FIND(I$3,分類表!$E10)),FIND($M$3,分類表!$E10)-1-FIND(I$3,分類表!$E10)-1,FIND(J$3,分類表!$E10)-1-FIND(I$3,分類表!$E10)-1))),"",MID(分類表!$E10,FIND(I$3,分類表!$E10)+1,IF(ISERROR(FIND(J$3,分類表!$E10)-1-FIND(I$3,分類表!$E10)),FIND($M$3,分類表!$E10)-1-FIND(I$3,分類表!$E10)-1,FIND(J$3,分類表!$E10)-1-FIND(I$3,分類表!$E10)-1))) | J10: =IF(ISERROR(MID(分類表!$E10,FIND(J$3,分類表!$E10)+1,IF(ISERROR(FIND(K$3,分類表!$E10)-1-FIND(J$3,分類表!$E10)),FIND($M$3,分類表!$E10)-1-FIND(J$3,分類表!$E10)-1,FIND(K$3,分類表!$E10)-1-FIND(J$3,分類表!$E10)-1))),"",MID(分類表!$E10,FIND(J$3,分類表!$E10)+1,IF(ISERROR(FIND(K$3,分類表!$E10)-1-FIND(J$3,分類表!$E10)),FIND($M$3,分類表!$E10)-1-FIND(J$3,分類表!$E10)-1,FIND(K$3,分類表!$E10)-1-FIND(J$3,分類表!$E10)-1))) | K10: =IF(ISERROR(MID(分類表!$E10,FIND(K$3,分類表!$E10)+1,IF(ISERROR(FIND(L$3,分類表!$E10)-1-FIND(K$3,分類表!$E10)),FIND($M$3,分類表!$E10)-1-FIND(K$3,分類表!$E10)-1,FIND(L$3,分類表!$E10)-1-FIND(K$3,分類表!$E10)-1))),"",MID(分類表!$E10,FIND(K$3,分類表!$E10)+1,IF(ISERROR(FIND(L$3,分類表!$E10)-1-FIND(K$3,分類表!$E10)),FIND($M$3,分類表!$E10)-1-FIND(K$3,分類表!$E10)-1,FIND(L$3,分類表!$E10)-1-FIND(K$3,分類表!$E10)-1))) | L10: =IF(ISERROR(MID(分類表!$E10,FIND(L$3,分類表!$E10)+1,IF(ISERROR(FIND(M$3,分類表!$E10)-1-FIND(L$3,分類表!$E10)),FIND($M$3,分類表!$E10)-1-FIND(L$3,分類表!$E10)-1,FIND(M$3,分類表!$E10)-1-FIND(L$3,分類表!$E10)-1))),"",MID(分類表!$E10,FIND(L$3,分類表!$E10)+1,IF(ISERROR(FIND(M$3,分類表!$E10)-1-FIND(L$3,分類表!$E10)),FIND($M$3,分類表!$E10)-1-FIND(L$3,分類表!$E10)-1,FIND(M$3,分類表!$E10)-1-FIND(L$3,分類表!$E10)-1))) | M10: =IF(ISERROR(MID(分類表!$E10,FIND(M$3,分類表!$E10)+1,LEN(分類表!$E10)-FIND(M$3,分類表!$E10)+1)),"",MID(分類表!$E10,FIND(M$3,分類表!$E10)+1,LEN(分類表!$E10)-FIND(M$3,分類表!$E10)+1)) -> その他 | O10: ⑦ | P10: 7
B11: =分類表!C11 -> 08 | C11: =分類表!D11 -> 学校教材 学校用品 | D11: =IF(ISERROR(MID(分類表!$E11,FIND(D$3,分類表!$E11)+1,IF(ISERROR(FIND(E$3,分類表!$E11)-1-FIND(D$3,分類表!$E11)),FIND($M$3,分類表!$E11)-1-FIND(D$3,分類表!$E11)-1,FIND(E$3,分類表!$E11)-1-FIND(D$3,分類表!$E11)-1))),"",MID(分類表!$E11,FIND(D$3,分類表!$E11)+1,IF(ISERROR(FIND(E$3,分類表!$E11)-1-FIND(D$3,分類表!$E11)),FIND($M$3,分類表!$E11)-1-FIND(D$3,分類表!$E11)-1,FIND(E$3,分類表!$E11)-1-FIND(D$3,分類表!$E11)-1))) -> 養護教材 | E11: =IF(ISERROR(MID(分類表!$E11,FIND(E$3,分類表!$E11)+1,IF(ISERROR(FIND(F$3,分類表!$E11)-1-FIND(E$3,分類表!$E11)),FIND($M$3,分類表!$E11)-1-FIND(E$3,分類表!$E11)-1,FIND(F$3,分類表!$E11)-1-FIND(E$3,分類表!$E11)-1))),"",MID(分類表!$E11,FIND(E$3,分類表!$E11)+1,IF(ISERROR(FIND(F$3,分類表!$E11)-1-FIND(E$3,分類表!$E11)),FIND($M$3,分類表!$E11)-1-FIND(E$3,分類表!$E11)-1,FIND(F$3,分類表!$E11)-1-FIND(E$3,分類表!$E11)-1))) -> 理科用標本模型 | F11: =IF(ISERROR(MID(分類表!$E11,FIND(F$3,分類表!$E11)+1,IF(ISERROR(FIND(G$3,分類表!$E11)-1-FIND(F$3,分類表!$E11)),FIND($M$3,分類表!$E11)-1-FIND(F$3,分類表!$E11)-1,FIND(G$3,分類表!$E11)-1-FIND(F$3,分類表!$E11)-1))),"",MID(分類表!$E11,FIND(F$3,分類表!$E11)+1,IF(ISERROR(FIND(G$3,分類表!$E11)-1-FIND(F$3,分類表!$E11)),FIND($M$3,分類表!$E11)-1-FIND(F$3,分類表!$E11)-1,FIND(G$3,分類表!$E11)-1-FIND(F$3,分類表!$E11)-1))) -> ミシン | G11: =IF(ISERROR(MID(分類表!$E11,FIND(G$3,分類表!$E11)+1,IF(ISERROR(FIND(H$3,分類表!$E11)-1-FIND(G$3,分類表!$E11)),FIND($M$3,分類表!$E11)-1-FIND(G$3,分類表!$E11)-1,FIND(H$3,分類表!$E11)-1-FIND(G$3,分類表!$E11)-1))),"",MID(分類表!$E11,FIND(G$3,分類表!$E11)+1,IF(ISERROR(FIND(H$3,分類表!$E11)-1-FIND(G$3,分類表!$E11)),FIND($M$3,分類表!$E11)-1-FIND(G$3,分類表!$E11)-1,FIND(H$3,分類表!$E11)-1-FIND(G$3,分類表!$E11)-1))) -> 各種教材 | H11: =IF(ISERROR(MID(分類表!$E11,FIND(H$3,分類表!$E11)+1,IF(ISERROR(FIND(I$3,分類表!$E11)-1-FIND(H$3,分類表!$E11)),FIND($M$3,分類表!$E11)-1-FIND(H$3,分類表!$E11)-1,FIND(I$3,分類表!$E11)-1-FIND(H$3,分類表!$E11)-1))),"",MID(分類表!$E11,FIND(H$3,分類表!$E11)+1,IF(ISERROR(FIND(I$3,分類表!$E11)-1-FIND(H$3,分類表!$E11)),FIND($M$3,分類表!$E11)-1-FIND(H$3,分類表!$E11)-1,FIND(I$3,分類表!$E11)-1-FIND(H$3,分類表!$E11)-1))) | I11: =IF(ISERROR(MID(分類表!$E11,FIND(I$3,分類表!$E11)+1,IF(ISERROR(FIND(J$3,分類表!$E11)-1-FIND(I$3,分類表!$E11)),FIND($M$3,分類表!$E11)-1-FIND(I$3,分類表!$E11)-1,FIND(J$3,分類表!$E11)-1-FIND(I$3,分類表!$E11)-1))),"",MID(分類表!$E11,FIND(I$3,分類表!$E11)+1,IF(ISERROR(FIND(J$3,分類表!$E11)-1-FIND(I$3,分類表!$E11)),FIND($M$3,分類表!$E11)-1-FIND(I$3,分類表!$E11)-1,FIND(J$3,分類表!$E11)-1-FIND(I$3,分類表!$E11)-1))) | J11: =IF(ISERROR(MID(分類表!$E11,FIND(J$3,分類表!$E11)+1,IF(ISERROR(FIND(K$3,分類表!$E11)-1-FIND(J$3,分類表!$E11)),FIND($M$3,分類表!$E11)-1-FIND(J$3,分類表!$E11)-1,FIND(K$3,分類表!$E11)-1-FIND(J$3,分類表!$E11)-1))),"",MID(分類表!$E11,FIND(J$3,分類表!$E11)+1,IF(ISERROR(FIND(K$3,分類表!$E11)-1-FIND(J$3,分類表!$E11)),FIND($M$3,分類表!$E11)-1-FIND(J$3,分類表!$E11)-1,FIND(K$3,分類表!$E11)-1-FIND(J$3,分類表!$E11)-1))) | K11: =IF(ISERROR(MID(分類表!$E11,FIND(K$3,分類表!$E11)+1,IF(ISERROR(FIND(L$3,分類表!$E11)-1-FIND(K$3,分類表!$E11)),FIND($M$3,分類表!$E11)-1-FIND(K$3,分類表!$E11)-1,FIND(L$3,分類表!$E11)-1-FIND(K$3,分類表!$E11)-1))),"",MID(分類表!$E11,FIND(K$3,分類表!$E11)+1,IF(ISERROR(FIND(L$3,分類表!$E11)-1-FIND(K$3,分類表!$E11)),FIND($M$3,分類表!$E11)-1-FIND(K$3,分類表!$E11)-1,FIND(L$3,分類表!$E11)-1-FIND(K$3,分類表!$E11)-1))) | L11: =IF(ISERROR(MID(分類表!$E11,FIND(L$3,分類表!$E11)+1,IF(ISERROR(FIND(M$3,分類表!$E11)-1-FIND(L$3,分類表!$E11)),FIND($M$3,分類表!$E11)-1-FIND(L$3,分類表!$E11)-1,FIND(M$3,分類表!$E11)-1-FIND(L$3,分類表!$E11)-1))),"",MID(分類表!$E11,FIND(L$3,分類表!$E11)+1,IF(ISERROR(FIND(M$3,分類表!$E11)-1-FIND(L$3,分類表!$E11)),FIND($M$3,分類表!$E11)-1-FIND(L$3,分類表!$E11)-1,FIND(M$3,分類表!$E11)-1-FIND(L$3,分類表!$E11)-1))) | M11: =IF(ISERROR(MID(分類表!$E11,FIND(M$3,分類表!$E11)+1,LEN(分類表!$E11)-FIND(M$3,分類表!$E11)+1)),"",MID(分類表!$E11,FIND(M$3,分類表!$E11)+1,LEN(分類表!$E11)-FIND(M$3,分類表!$E11)+1)) -> その他 | O11: ⑧ | P11: 8
B12: =分類表!C12 -> 09 | C12: =分類表!D12 -> 運動用具 運動着類 | D12: =IF(ISERROR(MID(分類表!$E12,FIND(D$3,分類表!$E12)+1,IF(ISERROR(FIND(E$3,分類表!$E12)-1-FIND(D$3,分類表!$E12)),FIND($M$3,分類表!$E12)-1-FIND(D$3,分類表!$E12)-1,FIND(E$3,分類表!$E12)-1-FIND(D$3,分類表!$E12)-1))),"",MID(分類表!$E12,FIND(D$3,分類表!$E12)+1,IF(ISERROR(FIND(E$3,分類表!$E12)-1-FIND(D$3,分類表!$E12)),FIND($M$3,分類表!$E12)-1-FIND(D$3,分類表!$E12)-1,FIND(E$3,分類表!$E12)-1-FIND(D$3,分類表!$E12)-1))) -> 運動用品（ボール、武道具等） | E12: =IF(ISERROR(MID(分類表!$E12,FIND(E$3,分類表!$E12)+1,IF(ISERROR(FIND(F$3,分類表!$E12)-1-FIND(E$3,分類表!$E12)),FIND($M$3,分類表!$E12)-1-FIND(E$3,分類表!$E12)-1,FIND(F$3,分類表!$E12)-1-FIND(E$3,分類表!$E12)-1))),"",MID(分類表!$E12,FIND(E$3,分類表!$E12)+1,IF(ISERROR(FIND(F$3,分類表!$E12)-1-FIND(E$3,分類表!$E12)),FIND($M$3,分類表!$E12)-1-FIND(E$3,分類表!$E12)-1,FIND(F$3,分類表!$E12)-1-FIND(E$3,分類表!$E12)-1))) -> 運動器具（サッカーゴール、跳箱、卓球台等） | F12: =IF(ISERROR(MID(分類表!$E12,FIND(F$3,分類表!$E12)+1,IF(ISERROR(FIND(G$3,分類表!$E12)-1-FIND(F$3,分類表!$E12)),FIND($M$3,分類表!$E12)-1-FIND(F$3,分類表!$E12)-1,FIND(G$3,分類表!$E12)-1-FIND(F$3,分類表!$E12)-1))),"",MID(分類表!$E12,FIND(F$3,分類表!$E12)+1,IF(ISERROR(FIND(G$3,分類表!$E12)-1-FIND(F$3,分類表!$E12)),FIND($M$3,分類表!$E12)-1-FIND(F$3,分類表!$E12)-1,FIND(G$3,分類表!$E12)-1-FIND(F$3,分類表!$E12)-1))) -> トレーニング機器・測定機器 | G12: =IF(ISERROR(MID(分類表!$E12,FIND(G$3,分類表!$E12)+1,IF(ISERROR(FIND(H$3,分類表!$E12)-1-FIND(G$3,分類表!$E12)),FIND($M$3,分類表!$E12)-1-FIND(G$3,分類表!$E12)-1,FIND(H$3,分類表!$E12)-1-FIND(G$3,分類表!$E12)-1))),"",MID(分類表!$E12,FIND(G$3,分類表!$E12)+1,IF(ISERROR(FIND(H$3,分類表!$E12)-1-FIND(G$3,分類表!$E12)),FIND($M$3,分類表!$E12)-1-FIND(G$3,分類表!$E12)-1,FIND(H$3,分類表!$E12)-1-FIND(G$3,分類表!$E12)-1))) -> アウトドア用品 | H12: =IF(ISERROR(MID(分類表!$E12,FIND(H$3,分類表!$E12)+1,IF(ISERROR(FIND(I$3,分類表!$E12)-1-FIND(H$3,分類表!$E12)),FIND($M$3,分類表!$E12)-1-FIND(H$3,分類表!$E12)-1,FIND(I$3,分類表!$E12)-1-FIND(H$3,分類表!$E12)-1))),"",MID(分類表!$E12,FIND(H$3,分類表!$E12)+1,IF(ISERROR(FIND(I$3,分類表!$E12)-1-FIND(H$3,分類表!$E12)),FIND($M$3,分類表!$E12)-1-FIND(H$3,分類表!$E12)-1,FIND(I$3,分類表!$E12)-1-FIND(H$3,分類表!$E12)-1))) -> 運動用着衣・靴 | I12: =IF(ISERROR(MID(分類表!$E12,FIND(I$3,分類表!$E12)+1,IF(ISERROR(FIND(J$3,分類表!$E12)-1-FIND(I$3,分類表!$E12)),FIND($M$3,分類表!$E12)-1-FIND(I$3,分類表!$E12)-1,FIND(J$3,分類表!$E12)-1-FIND(I$3,分類表!$E12)-1))),"",MID(分類表!$E12,FIND(I$3,分類表!$E12)+1,IF(ISERROR(FIND(J$3,分類表!$E12)-1-FIND(I$3,分類表!$E12)),FIND($M$3,分類表!$E12)-1-FIND(I$3,分類表!$E12)-1,FIND(J$3,分類表!$E12)-1-FIND(I$3,分類表!$E12)-1))) | J12: =IF(ISERROR(MID(分類表!$E12,FIND(J$3,分類表!$E12)+1,IF(ISERROR(FIND(K$3,分類表!$E12)-1-FIND(J$3,分類表!$E12)),FIND($M$3,分類表!$E12)-1-FIND(J$3,分類表!$E12)-1,FIND(K$3,分類表!$E12)-1-FIND(J$3,分類表!$E12)-1))),"",MID(分類表!$E12,FIND(J$3,分類表!$E12)+1,IF(ISERROR(FIND(K$3,分類表!$E12)-1-FIND(J$3,分類表!$E12)),FIND($M$3,分類表!$E12)-1-FIND(J$3,分類表!$E12)-1,FIND(K$3,分類表!$E12)-1-FIND(J$3,分類表!$E12)-1))) | K12: =IF(ISERROR(MID(分類表!$E12,FIND(K$3,分類表!$E12)+1,IF(ISERROR(FIND(L$3,分類表!$E12)-1-FIND(K$3,分類表!$E12)),FIND($M$3,分類表!$E12)-1-FIND(K$3,分類表!$E12)-1,FIND(L$3,分類表!$E12)-1-FIND(K$3,分類表!$E12)-1))),"",MID(分類表!$E12,FIND(K$3,分類表!$E12)+1,IF(ISERROR(FIND(L$3,分類表!$E12)-1-FIND(K$3,分類表!$E12)),FIND($M$3,分類表!$E12)-1-FIND(K$3,分類表!$E12)-1,FIND(L$3,分類表!$E12)-1-FIND(K$3,分類表!$E12)-1))) | L12: =IF(ISERROR(MID(分類表!$E12,FIND(L$3,分類表!$E12)+1,IF(ISERROR(FIND(M$3,分類表!$E12)-1-FIND(L$3,分類表!$E12)),FIND($M$3,分類表!$E12)-1-FIND(L$3,分類表!$E12)-1,FIND(M$3,分類表!$E12)-1-FIND(L$3,分類表!$E12)-1))),"",MID(分類表!$E12,FIND(L$3,分類表!$E12)+1,IF(ISERROR(FIND(M$3,分類表!$E12)-1-FIND(L$3,分類表!$E12)),FIND($M$3,分類表!$E12)-1-FIND(L$3,分類表!$E12)-1,FIND(M$3,分類表!$E12)-1-FIND(L$3,分類表!$E12)-1))) | M12: =IF(ISERROR(MID(分類表!$E12,FIND(M$3,分類表!$E12)+1,LEN(分類表!$E12)-FIND(M$3,分類表!$E12)+1)),"",MID(分類表!$E12,FIND(M$3,分類表!$E12)+1,LEN(分類表!$E12)-FIND(M$3,分類表!$E12)+1)) -> その他 | O12: ⑨ | P12: 9
B13: =分類表!C13 -> 10 | C13: =分類表!D13 -> 楽器 | D13: =IF(ISERROR(MID(分類表!$E13,FIND(D$3,分類表!$E13)+1,IF(ISERROR(FIND(E$3,分類表!$E13)-1-FIND(D$3,分類表!$E13)),FIND($M$3,分類表!$E13)-1-FIND(D$3,分類表!$E13)-1,FIND(E$3,分類表!$E13)-1-FIND(D$3,分類表!$E13)-1))),"",MID(分類表!$E13,FIND(D$3,分類表!$E13)+1,IF(ISERROR(FIND(E$3,分類表!$E13)-1-FIND(D$3,分類表!$E13)),FIND($M$3,分類表!$E13)-1-FIND(D$3,分類表!$E13)-1,FIND(E$3,分類表!$E13)-1-FIND(D$3,分類表!$E13)-1))) -> 楽器類 | E13: =IF(ISERROR(MID(分類表!$E13,FIND(E$3,分類表!$E13)+1,IF(ISERROR(FIND(F$3,分類表!$E13)-1-FIND(E$3,分類表!$E13)),FIND($M$3,分類表!$E13)-1-FIND(E$3,分類表!$E13)-1,FIND(F$3,分類表!$E13)-1-FIND(E$3,分類表!$E13)-1))),"",MID(分類表!$E13,FIND(E$3,分類表!$E13)+1,IF(ISERROR(FIND(F$3,分類表!$E13)-1-FIND(E$3,分類表!$E13)),FIND($M$3,分類表!$E13)-1-FIND(E$3,分類表!$E13)-1,FIND(F$3,分類表!$E13)-1-FIND(E$3,分類表!$E13)-1))) -> 音楽CD | F13: =IF(ISERROR(MID(分類表!$E13,FIND(F$3,分類表!$E13)+1,IF(ISERROR(FIND(G$3,分類表!$E13)-1-FIND(F$3,分類表!$E13)),FIND($M$3,分類表!$E13)-1-FIND(F$3,分類表!$E13)-1,FIND(G$3,分類表!$E13)-1-FIND(F$3,分類表!$E13)-1))),"",MID(分類表!$E13,FIND(F$3,分類表!$E13)+1,IF(ISERROR(FIND(G$3,分類表!$E13)-1-FIND(F$3,分類表!$E13)),FIND($M$3,分類表!$E13)-1-FIND(F$3,分類表!$E13)-1,FIND(G$3,分類表!$E13)-1-FIND(F$3,分類表!$E13)-1))) -> ピアノ調律 | G13: =IF(ISERROR(MID(分類表!$E13,FIND(G$3,分類表!$E13)+1,IF(ISERROR(FIND(H$3,分類表!$E13)-1-FIND(G$3,分類表!$E13)),FIND($M$3,分類表!$E13)-1-FIND(G$3,分類表!$E13)-1,FIND(H$3,分類表!$E13)-1-FIND(G$3,分類表!$E13)-1))),"",MID(分類表!$E13,FIND(G$3,分類表!$E13)+1,IF(ISERROR(FIND(H$3,分類表!$E13)-1-FIND(G$3,分類表!$E13)),FIND($M$3,分類表!$E13)-1-FIND(G$3,分類表!$E13)-1,FIND(H$3,分類表!$E13)-1-FIND(G$3,分類表!$E13)-1))) | H13: =IF(ISERROR(MID(分類表!$E13,FIND(H$3,分類表!$E13)+1,IF(ISERROR(FIND(I$3,分類表!$E13)-1-FIND(H$3,分類表!$E13)),FIND($M$3,分類表!$E13)-1-FIND(H$3,分類表!$E13)-1,FIND(I$3,分類表!$E13)-1-FIND(H$3,分類表!$E13)-1))),"",MID(分類表!$E13,FIND(H$3,分類表!$E13)+1,IF(ISERROR(FIND(I$3,分類表!$E13)-1-FIND(H$3,分類表!$E13)),FIND($M$3,分類表!$E13)-1-FIND(H$3,分類表!$E13)-1,FIND(I$3,分類表!$E13)-1-FIND(H$3,分類表!$E13)-1))) | I13: =IF(ISERROR(MID(分類表!$E13,FIND(I$3,分類表!$E13)+1,IF(ISERROR(FIND(J$3,分類表!$E13)-1-FIND(I$3,分類表!$E13)),FIND($M$3,分類表!$E13)-1-FIND(I$3,分類表!$E13)-1,FIND(J$3,分類表!$E13)-1-FIND(I$3,分類表!$E13)-1))),"",MID(分類表!$E13,FIND(I$3,分類表!$E13)+1,IF(ISERROR(FIND(J$3,分類表!$E13)-1-FIND(I$3,分類表!$E13)),FIND($M$3,分類表!$E13)-1-FIND(I$3,分類表!$E13)-1,FIND(J$3,分類表!$E13)-1-FIND(I$3,分類表!$E13)-1))) | J13: =IF(ISERROR(MID(分類表!$E13,FIND(J$3,分類表!$E13)+1,IF(ISERROR(FIND(K$3,分類表!$E13)-1-FIND(J$3,分類表!$E13)),FIND($M$3,分類表!$E13)-1-FIND(J$3,分類表!$E13)-1,FIND(K$3,分類表!$E13)-1-FIND(J$3,分類表!$E13)-1))),"",MID(分類表!$E13,FIND(J$3,分類表!$E13)+1,IF(ISERROR(FIND(K$3,分類表!$E13)-1-FIND(J$3,分類表!$E13)),FIND($M$3,分類表!$E13)-1-FIND(J$3,分類表!$E13)-1,FIND(K$3,分類表!$E13)-1-FIND(J$3,分類表!$E13)-1))) | K13: =IF(ISERROR(MID(分類表!$E13,FIND(K$3,分類表!$E13)+1,IF(ISERROR(FIND(L$3,分類表!$E13)-1-FIND(K$3,分類表!$E13)),FIND($M$3,分類表!$E13)-1-FIND(K$3,分類表!$E13)-1,FIND(L$3,分類表!$E13)-1-FIND(K$3,分類表!$E13)-1))),"",MID(分類表!$E13,FIND(K$3,分類表!$E13)+1,IF(ISERROR(FIND(L$3,分類表!$E13)-1-FIND(K$3,分類表!$E13)),FIND($M$3,分類表!$E13)-1-FIND(K$3,分類表!$E13)-1,FIND(L$3,分類表!$E13)-1-FIND(K$3,分類表!$E13)-1))) | L13: =IF(ISERROR(MID(分類表!$E13,FIND(L$3,分類表!$E13)+1,IF(ISERROR(FIND(M$3,分類表!$E13)-1-FIND(L$3,分類表!$E13)),FIND($M$3,分類表!$E13)-1-FIND(L$3,分類表!$E13)-1,FIND(M$3,分類表!$E13)-1-FIND(L$3,分類表!$E13)-1))),"",MID(分類表!$E13,FIND(L$3,分類表!$E13)+1,IF(ISERROR(FIND(M$3,分類表!$E13)-1-FIND(L$3,分類表!$E13)),FIND($M$3,分類表!$E13)-1-FIND(L$3,分類表!$E13)-1,FIND(M$3,分類表!$E13)-1-FIND(L$3,分類表!$E13)-1))) | M13: =IF(ISERROR(MID(分類表!$E13,FIND(M$3,分類表!$E13)+1,LEN(分類表!$E13)-FIND(M$3,分類表!$E13)+1)),"",MID(分類表!$E13,FIND(M$3,分類表!$E13)+1,LEN(分類表!$E13)-FIND(M$3,分類表!$E13)+1)) -> その他 | O13: ⑩ | P13: 10
B14: =分類表!C14 -> 11 | C14: =分類表!D14 -> 室内装飾品 | D14: =IF(ISERROR(MID(分類表!$E14,FIND(D$3,分類表!$E14)+1,IF(ISERROR(FIND(E$3,分類表!$E14)-1-FIND(D$3,分類表!$E14)),FIND($M$3,分類表!$E14)-1-FIND(D$3,分類表!$E14)-1,FIND(E$3,分類表!$E14)-1-FIND(D$3,分類表!$E14)-1))),"",MID(分類表!$E14,FIND(D$3,分類表!$E14)+1,IF(ISERROR(FIND(E$3,分類表!$E14)-1-FIND(D$3,分類表!$E14)),FIND($M$3,分類表!$E14)-1-FIND(D$3,分類表!$E14)-1,FIND(E$3,分類表!$E14)-1-FIND(D$3,分類表!$E14)-1))) -> カーテン | E14: =IF(ISERROR(MID(分類表!$E14,FIND(E$3,分類表!$E14)+1,IF(ISERROR(FIND(F$3,分類表!$E14)-1-FIND(E$3,分類表!$E14)),FIND($M$3,分類表!$E14)-1-FIND(E$3,分類表!$E14)-1,FIND(F$3,分類表!$E14)-1-FIND(E$3,分類表!$E14)-1))),"",MID(分類表!$E14,FIND(E$3,分類表!$E14)+1,IF(ISERROR(FIND(F$3,分類表!$E14)-1-FIND(E$3,分類表!$E14)),FIND($M$3,分類表!$E14)-1-FIND(E$3,分類表!$E14)-1,FIND(F$3,分類表!$E14)-1-FIND(E$3,分類表!$E14)-1))) -> ブラインド | F14: =IF(ISERROR(MID(分類表!$E14,FIND(F$3,分類表!$E14)+1,IF(ISERROR(FIND(G$3,分類表!$E14)-1-FIND(F$3,分類表!$E14)),FIND($M$3,分類表!$E14)-1-FIND(F$3,分類表!$E14)-1,FIND(G$3,分類表!$E14)-1-FIND(F$3,分類表!$E14)-1))),"",MID(分類表!$E14,FIND(F$3,分類表!$E14)+1,IF(ISERROR(FIND(G$3,分類表!$E14)-1-FIND(F$3,分類表!$E14)),FIND($M$3,分類表!$E14)-1-FIND(F$3,分類表!$E14)-1,FIND(G$3,分類表!$E14)-1-FIND(F$3,分類表!$E14)-1))) -> 暗幕 | G14: =IF(ISERROR(MID(分類表!$E14,FIND(G$3,分類表!$E14)+1,IF(ISERROR(FIND(H$3,分類表!$E14)-1-FIND(G$3,分類表!$E14)),FIND($M$3,分類表!$E14)-1-FIND(G$3,分類表!$E14)-1,FIND(H$3,分類表!$E14)-1-FIND(G$3,分類表!$E14)-1))),"",MID(分類表!$E14,FIND(G$3,分類表!$E14)+1,IF(ISERROR(FIND(H$3,分類表!$E14)-1-FIND(G$3,分類表!$E14)),FIND($M$3,分類表!$E14)-1-FIND(G$3,分類表!$E14)-1,FIND(H$3,分類表!$E14)-1-FIND(G$3,分類表!$E14)-1))) -> じゅうたん・カーペット | H14: =IF(ISERROR(MID(分類表!$E14,FIND(H$3,分類表!$E14)+1,IF(ISERROR(FIND(I$3,分類表!$E14)-1-FIND(H$3,分類表!$E14)),FIND($M$3,分類表!$E14)-1-FIND(H$3,分類表!$E14)-1,FIND(I$3,分類表!$E14)-1-FIND(H$3,分類表!$E14)-1))),"",MID(分類表!$E14,FIND(H$3,分類表!$E14)+1,IF(ISERROR(FIND(I$3,分類表!$E14)-1-FIND(H$3,分類表!$E14)),FIND($M$3,分類表!$E14)-1-FIND(H$3,分類表!$E14)-1,FIND(I$3,分類表!$E14)-1-FIND(H$3,分類表!$E14)-1))) -> 間仕切り | I14: =IF(ISERROR(MID(分類表!$E14,FIND(I$3,分類表!$E14)+1,IF(ISERROR(FIND(J$3,分類表!$E14)-1-FIND(I$3,分類表!$E14)),FIND($M$3,分類表!$E14)-1-FIND(I$3,分類表!$E14)-1,FIND(J$3,分類表!$E14)-1-FIND(I$3,分類表!$E14)-1))),"",MID(分類表!$E14,FIND(I$3,分類表!$E14)+1,IF(ISERROR(FIND(J$3,分類表!$E14)-1-FIND(I$3,分類表!$E14)),FIND($M$3,分類表!$E14)-1-FIND(I$3,分類表!$E14)-1,FIND(J$3,分類表!$E14)-1-FIND(I$3,分類表!$E14)-1))) | J14: =IF(ISERROR(MID(分類表!$E14,FIND(J$3,分類表!$E14)+1,IF(ISERROR(FIND(K$3,分類表!$E14)-1-FIND(J$3,分類表!$E14)),FIND($M$3,分類表!$E14)-1-FIND(J$3,分類表!$E14)-1,FIND(K$3,分類表!$E14)-1-FIND(J$3,分類表!$E14)-1))),"",MID(分類表!$E14,FIND(J$3,分類表!$E14)+1,IF(ISERROR(FIND(K$3,分類表!$E14)-1-FIND(J$3,分類表!$E14)),FIND($M$3,分類表!$E14)-1-FIND(J$3,分類表!$E14)-1,FIND(K$3,分類表!$E14)-1-FIND(J$3,分類表!$E14)-1))) | K14: =IF(ISERROR(MID(分類表!$E14,FIND(K$3,分類表!$E14)+1,IF(ISERROR(FIND(L$3,分類表!$E14)-1-FIND(K$3,分類表!$E14)),FIND($M$3,分類表!$E14)-1-FIND(K$3,分類表!$E14)-1,FIND(L$3,分類表!$E14)-1-FIND(K$3,分類表!$E14)-1))),"",MID(分類表!$E14,FIND(K$3,分類表!$E14)+1,IF(ISERROR(FIND(L$3,分類表!$E14)-1-FIND(K$3,分類表!$E14)),FIND($M$3,分類表!$E14)-1-FIND(K$3,分類表!$E14)-1,FIND(L$3,分類表!$E14)-1-FIND(K$3,分類表!$E14)-1))) | L14: =IF(ISERROR(MID(分類表!$E14,FIND(L$3,分類表!$E14)+1,IF(ISERROR(FIND(M$3,分類表!$E14)-1-FIND(L$3,分類表!$E14)),FIND($M$3,分類表!$E14)-1-FIND(L$3,分類表!$E14)-1,FIND(M$3,分類表!$E14)-1-FIND(L$3,分類表!$E14)-1))),"",MID(分類表!$E14,FIND(L$3,分類表!$E14)+1,IF(ISERROR(FIND(M$3,分類表!$E14)-1-FIND(L$3,分類表!$E14)),FIND($M$3,分類表!$E14)-1-FIND(L$3,分類表!$E14)-1,FIND(M$3,分類表!$E14)-1-FIND(L$3,分類表!$E14)-1))) | M14: =IF(ISERROR(MID(分類表!$E14,FIND(M$3,分類表!$E14)+1,LEN(分類表!$E14)-FIND(M$3,分類表!$E14)+1)),"",MID(分類表!$E14,FIND(M$3,分類表!$E14)+1,LEN(分類表!$E14)-FIND(M$3,分類表!$E14)+1)) -> その他
B15: =分類表!C15 -> 12 | C15: =分類表!D15 -> 家具 | D15: =IF(ISERROR(MID(分類表!$E15,FIND(D$3,分類表!$E15)+1,IF(ISERROR(FIND(E$3,分類表!$E15)-1-FIND(D$3,分類表!$E15)),FIND($M$3,分類表!$E15)-1-FIND(D$3,分類表!$E15)-1,FIND(E$3,分類表!$E15)-1-FIND(D$3,分類表!$E15)-1))),"",MID(分類表!$E15,FIND(D$3,分類表!$E15)+1,IF(ISERROR(FIND(E$3,分類表!$E15)-1-FIND(D$3,分類表!$E15)),FIND($M$3,分類表!$E15)-1-FIND(D$3,分類表!$E15)-1,FIND(E$3,分類表!$E15)-1-FIND(D$3,分類表!$E15)-1))) -> 机・椅子（学校用含む） | E15: =IF(ISERROR(MID(分類表!$E15,FIND(E$3,分類表!$E15)+1,IF(ISERROR(FIND(F$3,分類表!$E15)-1-FIND(E$3,分類表!$E15)),FIND($M$3,分類表!$E15)-1-FIND(E$3,分類表!$E15)-1,FIND(F$3,分類表!$E15)-1-FIND(E$3,分類表!$E15)-1))),"",MID(分類表!$E15,FIND(E$3,分類表!$E15)+1,IF(ISERROR(FIND(F$3,分類表!$E15)-1-FIND(E$3,分類表!$E15)),FIND($M$3,分類表!$E15)-1-FIND(E$3,分類表!$E15)-1,FIND(F$3,分類表!$E15)-1-FIND(E$3,分類表!$E15)-1))) -> 応接セット | F15: =IF(ISERROR(MID(分類表!$E15,FIND(F$3,分類表!$E15)+1,IF(ISERROR(FIND(G$3,分類表!$E15)-1-FIND(F$3,分類表!$E15)),FIND($M$3,分類表!$E15)-1-FIND(F$3,分類表!$E15)-1,FIND(G$3,分類表!$E15)-1-FIND(F$3,分類表!$E15)-1))),"",MID(分類表!$E15,FIND(F$3,分類表!$E15)+1,IF(ISERROR(FIND(G$3,分類表!$E15)-1-FIND(F$3,分類表!$E15)),FIND($M$3,分類表!$E15)-1-FIND(F$3,分類表!$E15)-1,FIND(G$3,分類表!$E15)-1-FIND(F$3,分類表!$E15)-1))) -> 木製家具 | G15: =IF(ISERROR(MID(分類表!$E15,FIND(G$3,分類表!$E15)+1,IF(ISERROR(FIND(H$3,分類表!$E15)-1-FIND(G$3,分類表!$E15)),FIND($M$3,分類表!$E15)-1-FIND(G$3,分類表!$E15)-1,FIND(H$3,分類表!$E15)-1-FIND(G$3,分類表!$E15)-1))),"",MID(分類表!$E15,FIND(G$3,分類表!$E15)+1,IF(ISERROR(FIND(H$3,分類表!$E15)-1-FIND(G$3,分類表!$E15)),FIND($M$3,分類表!$E15)-1-FIND(G$3,分類表!$E15)-1,FIND(H$3,分類表!$E15)-1-FIND(G$3,分類表!$E15)-1))) | H15: =IF(ISERROR(MID(分類表!$E15,FIND(H$3,分類表!$E15)+1,IF(ISERROR(FIND(I$3,分類表!$E15)-1-FIND(H$3,分類表!$E15)),FIND($M$3,分類表!$E15)-1-FIND(H$3,分類表!$E15)-1,FIND(I$3,分類表!$E15)-1-FIND(H$3,分類表!$E15)-1))),"",MID(分類表!$E15,FIND(H$3,分類表!$E15)+1,IF(ISERROR(FIND(I$3,分類表!$E15)-1-FIND(H$3,分類表!$E15)),FIND($M$3,分類表!$E15)-1-FIND(H$3,分類表!$E15)-1,FIND(I$3,分類表!$E15)-1-FIND(H$3,分類表!$E15)-1))) | I15: =IF(ISERROR(MID(分類表!$E15,FIND(I$3,分類表!$E15)+1,IF(ISERROR(FIND(J$3,分類表!$E15)-1-FIND(I$3,分類表!$E15)),FIND($M$3,分類表!$E15)-1-FIND(I$3,分類表!$E15)-1,FIND(J$3,分類表!$E15)-1-FIND(I$3,分類表!$E15)-1))),"",MID(分類表!$E15,FIND(I$3,分類表!$E15)+1,IF(ISERROR(FIND(J$3,分類表!$E15)-1-FIND(I$3,分類表!$E15)),FIND($M$3,分類表!$E15)-1-FIND(I$3,分類表!$E15)-1,FIND(J$3,分類表!$E15)-1-FIND(I$3,分類表!$E15)-1))) | J15: =IF(ISERROR(MID(分類表!$E15,FIND(J$3,分類表!$E15)+1,IF(ISERROR(FIND(K$3,分類表!$E15)-1-FIND(J$3,分類表!$E15)),FIND($M$3,分類表!$E15)-1-FIND(J$3,分類表!$E15)-1,FIND(K$3,分類表!$E15)-1-FIND(J$3,分類表!$E15)-1))),"",MID(分類表!$E15,FIND(J$3,分類表!$E15)+1,IF(ISERROR(FIND(K$3,分類表!$E15)-1-FIND(J$3,分類表!$E15)),FIND($M$3,分類表!$E15)-1-FIND(J$3,分類表!$E15)-1,FIND(K$3,分類表!$E15)-1-FIND(J$3,分類表!$E15)-1))) | K15: =IF(ISERROR(MID(分類表!$E15,FIND(K$3,分類表!$E15)+1,IF(ISERROR(FIND(L$3,分類表!$E15)-1-FIND(K$3,分類表!$E15)),FIND($M$3,分類表!$E15)-1-FIND(K$3,分類表!$E15)-1,FIND(L$3,分類表!$E15)-1-FIND(K$3,分類表!$E15)-1))),"",MID(分類表!$E15,FIND(K$3,分類表!$E15)+1,IF(ISERROR(FIND(L$3,分類表!$E15)-1-FIND(K$3,分類表!$E15)),FIND($M$3,分類表!$E15)-1-FIND(K$3,分類表!$E15)-1,FIND(L$3,分類表!$E15)-1-FIND(K$3,分類表!$E15)-1))) | L15: =IF(ISERROR(MID(分類表!$E15,FIND(L$3,分類表!$E15)+1,IF(ISERROR(FIND(M$3,分類表!$E15)-1-FIND(L$3,分類表!$E15)),FIND($M$3,分類表!$E15)-1-FIND(L$3,分類表!$E15)-1,FIND(M$3,分類表!$E15)-1-FIND(L$3,分類表!$E15)-1))),"",MID(分類表!$E15,FIND(L$3,分類表!$E15)+1,IF(ISERROR(FIND(M$3,分類表!$E15)-1-FIND(L$3,分類表!$E15)),FIND($M$3,分類表!$E15)-1-FIND(L$3,分類表!$E15)-1,FIND(M$3,分類表!$E15)-1-FIND(L$3,分類表!$E15)-1))) | M15: =IF(ISERROR(MID(分類表!$E15,FIND(M$3,分類表!$E15)+1,LEN(分類表!$E15)-FIND(M$3,分類表!$E15)+1)),"",MID(分類表!$E15,FIND(M$3,分類表!$E15)+1,LEN(分類表!$E15)-FIND(M$3,分類表!$E15)+1)) -> その他
B16: =分類表!C16 -> 13 | C16: =分類表!D16 -> 着衣類 | D16: =IF(ISERROR(MID(分類表!$E16,FIND(D$3,分類表!$E16)+1,IF(ISERROR(FIND(E$3,分類表!$E16)-1-FIND(D$3,分類表!$E16)),FIND($M$3,分類表!$E16)-1-FIND(D$3,分類表!$E16)-1,FIND(E$3,分類表!$E16)-1-FIND(D$3,分類表!$E16)-1))),"",MID(分類表!$E16,FIND(D$3,分類表!$E16)+1,IF(ISERROR(FIND(E$3,分類表!$E16)-1-FIND(D$3,分類表!$E16)),FIND($M$3,分類表!$E16)-1-FIND(D$3,分類表!$E16)-1,FIND(E$3,分類表!$E16)-1-FIND(D$3,分類表!$E16)-1))) -> 調理用服 | E16: =IF(ISERROR(MID(分類表!$E16,FIND(E$3,分類表!$E16)+1,IF(ISERROR(FIND(F$3,分類表!$E16)-1-FIND(E$3,分類表!$E16)),FIND($M$3,分類表!$E16)-1-FIND(E$3,分類表!$E16)-1,FIND(F$3,分類表!$E16)-1-FIND(E$3,分類表!$E16)-1))),"",MID(分類表!$E16,FIND(E$3,分類表!$E16)+1,IF(ISERROR(FIND(F$3,分類表!$E16)-1-FIND(E$3,分類表!$E16)),FIND($M$3,分類表!$E16)-1-FIND(E$3,分類表!$E16)-1,FIND(F$3,分類表!$E16)-1-FIND(E$3,分類表!$E16)-1))) -> 保育用エプロン | F16: =IF(ISERROR(MID(分類表!$E16,FIND(F$3,分類表!$E16)+1,IF(ISERROR(FIND(G$3,分類表!$E16)-1-FIND(F$3,分類表!$E16)),FIND($M$3,分類表!$E16)-1-FIND(F$3,分類表!$E16)-1,FIND(G$3,分類表!$E16)-1-FIND(F$3,分類表!$E16)-1))),"",MID(分類表!$E16,FIND(F$3,分類表!$E16)+1,IF(ISERROR(FIND(G$3,分類表!$E16)-1-FIND(F$3,分類表!$E16)),FIND($M$3,分類表!$E16)-1-FIND(F$3,分類表!$E16)-1,FIND(G$3,分類表!$E16)-1-FIND(F$3,分類表!$E16)-1))) -> 作業服 | G16: =IF(ISERROR(MID(分類表!$E16,FIND(G$3,分類表!$E16)+1,IF(ISERROR(FIND(H$3,分類表!$E16)-1-FIND(G$3,分類表!$E16)),FIND($M$3,分類表!$E16)-1-FIND(G$3,分類表!$E16)-1,FIND(H$3,分類表!$E16)-1-FIND(G$3,分類表!$E16)-1))),"",MID(分類表!$E16,FIND(G$3,分類表!$E16)+1,IF(ISERROR(FIND(H$3,分類表!$E16)-1-FIND(G$3,分類表!$E16)),FIND($M$3,分類表!$E16)-1-FIND(G$3,分類表!$E16)-1,FIND(H$3,分類表!$E16)-1-FIND(G$3,分類表!$E16)-1))) -> 防寒着 | H16: =IF(ISERROR(MID(分類表!$E16,FIND(H$3,分類表!$E16)+1,IF(ISERROR(FIND(I$3,分類表!$E16)-1-FIND(H$3,分類表!$E16)),FIND($M$3,分類表!$E16)-1-FIND(H$3,分類表!$E16)-1,FIND(I$3,分類表!$E16)-1-FIND(H$3,分類表!$E16)-1))),"",MID(分類表!$E16,FIND(H$3,分類表!$E16)+1,IF(ISERROR(FIND(I$3,分類表!$E16)-1-FIND(H$3,分類表!$E16)),FIND($M$3,分類表!$E16)-1-FIND(H$3,分類表!$E16)-1,FIND(I$3,分類表!$E16)-1-FIND(H$3,分類表!$E16)-1))) -> 雨具 | I16: =IF(ISERROR(MID(分類表!$E16,FIND(I$3,分類表!$E16)+1,IF(ISERROR(FIND(J$3,分類表!$E16)-1-FIND(I$3,分類表!$E16)),FIND($M$3,分類表!$E16)-1-FIND(I$3,分類表!$E16)-1,FIND(J$3,分類表!$E16)-1-FIND(I$3,分類表!$E16)-1))),"",MID(分類表!$E16,FIND(I$3,分類表!$E16)+1,IF(ISERROR(FIND(J$3,分類表!$E16)-1-FIND(I$3,分類表!$E16)),FIND($M$3,分類表!$E16)-1-FIND(I$3,分類表!$E16)-1,FIND(J$3,分類表!$E16)-1-FIND(I$3,分類表!$E16)-1))) -> 帽子 | J16: =IF(ISERROR(MID(分類表!$E16,FIND(J$3,分類表!$E16)+1,IF(ISERROR(FIND(K$3,分類表!$E16)-1-FIND(J$3,分類表!$E16)),FIND($M$3,分類表!$E16)-1-FIND(J$3,分類表!$E16)-1,FIND(K$3,分類表!$E16)-1-FIND(J$3,分類表!$E16)-1))),"",MID(分類表!$E16,FIND(J$3,分類表!$E16)+1,IF(ISERROR(FIND(K$3,分類表!$E16)-1-FIND(J$3,分類表!$E16)),FIND($M$3,分類表!$E16)-1-FIND(J$3,分類表!$E16)-1,FIND(K$3,分類表!$E16)-1-FIND(J$3,分類表!$E16)-1))) | K16: =IF(ISERROR(MID(分類表!$E16,FIND(K$3,分類表!$E16)+1,IF(ISERROR(FIND(L$3,分類表!$E16)-1-FIND(K$3,分類表!$E16)),FIND($M$3,分類表!$E16)-1-FIND(K$3,分類表!$E16)-1,FIND(L$3,分類表!$E16)-1-FIND(K$3,分類表!$E16)-1))),"",MID(分類表!$E16,FIND(K$3,分類表!$E16)+1,IF(ISERROR(FIND(L$3,分類表!$E16)-1-FIND(K$3,分類表!$E16)),FIND($M$3,分類表!$E16)-1-FIND(K$3,分類表!$E16)-1,FIND(L$3,分類表!$E16)-1-FIND(K$3,分類表!$E16)-1))) | L16: =IF(ISERROR(MID(分類表!$E16,FIND(L$3,分類表!$E16)+1,IF(ISERROR(FIND(M$3,分類表!$E16)-1-FIND(L$3,分類表!$E16)),FIND($M$3,分類表!$E16)-1-FIND(L$3,分類表!$E16)-1,FIND(M$3,分類表!$E16)-1-FIND(L$3,分類表!$E16)-1))),"",MID(分類表!$E16,FIND(L$3,分類表!$E16)+1,IF(ISERROR(FIND(M$3,分類表!$E16)-1-FIND(L$3,分類表!$E16)),FIND($M$3,分類表!$E16)-1-FIND(L$3,分類表!$E16)-1,FIND(M$3,分類表!$E16)-1-FIND(L$3,分類表!$E16)-1))) | M16: =IF(ISERROR(MID(分類表!$E16,FIND(M$3,分類表!$E16)+1,LEN(分類表!$E16)-FIND(M$3,分類表!$E16)+1)),"",MID(分類表!$E16,FIND(M$3,分類表!$E16)+1,LEN(分類表!$E16)-FIND(M$3,分類表!$E16)+1)) -> その他
B17: =分類表!C17 -> 14 | C17: =分類表!D17 -> 靴 | D17: =IF(ISERROR(MID(分類表!$E17,FIND(D$3,分類表!$E17)+1,IF(ISERROR(FIND(E$3,分類表!$E17)-1-FIND(D$3,分類表!$E17)),FIND($M$3,分類表!$E17)-1-FIND(D$3,分類表!$E17)-1,FIND(E$3,分類表!$E17)-1-FIND(D$3,分類表!$E17)-1))),"",MID(分類表!$E17,FIND(D$3,分類表!$E17)+1,IF(ISERROR(FIND(E$3,分類表!$E17)-1-FIND(D$3,分類表!$E17)),FIND($M$3,分類表!$E17)-1-FIND(D$3,分類表!$E17)-1,FIND(E$3,分類表!$E17)-1-FIND(D$3,分類表!$E17)-1))) -> 教育シューズ | E17: =IF(ISERROR(MID(分類表!$E17,FIND(E$3,分類表!$E17)+1,IF(ISERROR(FIND(F$3,分類表!$E17)-1-FIND(E$3,分類表!$E17)),FIND($M$3,分類表!$E17)-1-FIND(E$3,分類表!$E17)-1,FIND(F$3,分類表!$E17)-1-FIND(E$3,分類表!$E17)-1))),"",MID(分類表!$E17,FIND(E$3,分類表!$E17)+1,IF(ISERROR(FIND(F$3,分類表!$E17)-1-FIND(E$3,分類表!$E17)),FIND($M$3,分類表!$E17)-1-FIND(E$3,分類表!$E17)-1,FIND(F$3,分類表!$E17)-1-FIND(E$3,分類表!$E17)-1))) -> 安全靴 | F17: =IF(ISERROR(MID(分類表!$E17,FIND(F$3,分類表!$E17)+1,IF(ISERROR(FIND(G$3,分類表!$E17)-1-FIND(F$3,分類表!$E17)),FIND($M$3,分類表!$E17)-1-FIND(F$3,分類表!$E17)-1,FIND(G$3,分類表!$E17)-1-FIND(F$3,分類表!$E17)-1))),"",MID(分類表!$E17,FIND(F$3,分類表!$E17)+1,IF(ISERROR(FIND(G$3,分類表!$E17)-1-FIND(F$3,分類表!$E17)),FIND($M$3,分類表!$E17)-1-FIND(F$3,分類表!$E17)-1,FIND(G$3,分類表!$E17)-1-FIND(F$3,分類表!$E17)-1))) -> 室内履き | G17: =IF(ISERROR(MID(分類表!$E17,FIND(G$3,分類表!$E17)+1,IF(ISERROR(FIND(H$3,分類表!$E17)-1-FIND(G$3,分類表!$E17)),FIND($M$3,分類表!$E17)-1-FIND(G$3,分類表!$E17)-1,FIND(H$3,分類表!$E17)-1-FIND(G$3,分類表!$E17)-1))),"",MID(分類表!$E17,FIND(G$3,分類表!$E17)+1,IF(ISERROR(FIND(H$3,分類表!$E17)-1-FIND(G$3,分類表!$E17)),FIND($M$3,分類表!$E17)-1-FIND(G$3,分類表!$E17)-1,FIND(H$3,分類表!$E17)-1-FIND(G$3,分類表!$E17)-1))) -> 厨房シューズ | H17: =IF(ISERROR(MID(分類表!$E17,FIND(H$3,分類表!$E17)+1,IF(ISERROR(FIND(I$3,分類表!$E17)-1-FIND(H$3,分類表!$E17)),FIND($M$3,分類表!$E17)-1-FIND(H$3,分類表!$E17)-1,FIND(I$3,分類表!$E17)-1-FIND(H$3,分類表!$E17)-1))),"",MID(分類表!$E17,FIND(H$3,分類表!$E17)+1,IF(ISERROR(FIND(I$3,分類表!$E17)-1-FIND(H$3,分類表!$E17)),FIND($M$3,分類表!$E17)-1-FIND(H$3,分類表!$E17)-1,FIND(I$3,分類表!$E17)-1-FIND(H$3,分類表!$E17)-1))) -> 長靴 | I17: =IF(ISERROR(MID(分類表!$E17,FIND(I$3,分類表!$E17)+1,IF(ISERROR(FIND(J$3,分類表!$E17)-1-FIND(I$3,分類表!$E17)),FIND($M$3,分類表!$E17)-1-FIND(I$3,分類表!$E17)-1,FIND(J$3,分類表!$E17)-1-FIND(I$3,分類表!$E17)-1))),"",MID(分類表!$E17,FIND(I$3,分類表!$E17)+1,IF(ISERROR(FIND(J$3,分類表!$E17)-1-FIND(I$3,分類表!$E17)),FIND($M$3,分類表!$E17)-1-FIND(I$3,分類表!$E17)-1,FIND(J$3,分類表!$E17)-1-FIND(I$3,分類表!$E17)-1))) | J17: =IF(ISERROR(MID(分類表!$E17,FIND(J$3,分類表!$E17)+1,IF(ISERROR(FIND(K$3,分類表!$E17)-1-FIND(J$3,分類表!$E17)),FIND($M$3,分類表!$E17)-1-FIND(J$3,分類表!$E17)-1,FIND(K$3,分類表!$E17)-1-FIND(J$3,分類表!$E17)-1))),"",MID(分類表!$E17,FIND(J$3,分類表!$E17)+1,IF(ISERROR(FIND(K$3,分類表!$E17)-1-FIND(J$3,分類表!$E17)),FIND($M$3,分類表!$E17)-1-FIND(J$3,分類表!$E17)-1,FIND(K$3,分類表!$E17)-1-FIND(J$3,分類表!$E17)-1))) | K17: =IF(ISERROR(MID(分類表!$E17,FIND(K$3,分類表!$E17)+1,IF(ISERROR(FIND(L$3,分類表!$E17)-1-FIND(K$3,分類表!$E17)),FIND($M$3,分類表!$E17)-1-FIND(K$3,分類表!$E17)-1,FIND(L$3,分類表!$E17)-1-FIND(K$3,分類表!$E17)-1))),"",MID(分類表!$E17,FIND(K$3,分類表!$E17)+1,IF(ISERROR(FIND(L$3,分類表!$E17)-1-FIND(K$3,分類表!$E17)),FIND($M$3,分類表!$E17)-1-FIND(K$3,分類表!$E17)-1,FIND(L$3,分類表!$E17)-1-FIND(K$3,分類表!$E17)-1))) | L17: =IF(ISERROR(MID(分類表!$E17,FIND(L$3,分類表!$E17)+1,IF(ISERROR(FIND(M$3,分類表!$E17)-1-FIND(L$3,分類表!$E17)),FIND($M$3,分類表!$E17)-1-FIND(L$3,分類表!$E17)-1,FIND(M$3,分類表!$E17)-1-FIND(L$3,分類表!$E17)-1))),"",MID(分類表!$E17,FIND(L$3,分類表!$E17)+1,IF(ISERROR(FIND(M$3,分類表!$E17)-1-FIND(L$3,分類表!$E17)),FIND($M$3,分類表!$E17)-1-FIND(L$3,分類表!$E17)-1,FIND(M$3,分類表!$E17)-1-FIND(L$3,分類表!$E17)-1))) | M17: =IF(ISERROR(MID(分類表!$E17,FIND(M$3,分類表!$E17)+1,LEN(分類表!$E17)-FIND(M$3,分類表!$E17)+1)),"",MID(分類表!$E17,FIND(M$3,分類表!$E17)+1,LEN(分類表!$E17)-FIND(M$3,分類表!$E17)+1)) -> その他
B18: =分類表!C18 -> 15 | C18: =分類表!D18 -> 寝具類 | D18: =IF(ISERROR(MID(分類表!$E18,FIND(D$3,分類表!$E18)+1,IF(ISERROR(FIND(E$3,分類表!$E18)-1-FIND(D$3,分類表!$E18)),FIND($M$3,分類表!$E18)-1-FIND(D$3,分類表!$E18)-1,FIND(E$3,分類表!$E18)-1-FIND(D$3,分類表!$E18)-1))),"",MID(分類表!$E18,FIND(D$3,分類表!$E18)+1,IF(ISERROR(FIND(E$3,分類表!$E18)-1-FIND(D$3,分類表!$E18)),FIND($M$3,分類表!$E18)-1-FIND(D$3,分類表!$E18)-1,FIND(E$3,分類表!$E18)-1-FIND(D$3,分類表!$E18)-1))) -> 布団 | E18: =IF(ISERROR(MID(分類表!$E18,FIND(E$3,分類表!$E18)+1,IF(ISERROR(FIND(F$3,分類表!$E18)-1-FIND(E$3,分類表!$E18)),FIND($M$3,分類表!$E18)-1-FIND(E$3,分類表!$E18)-1,FIND(F$3,分類表!$E18)-1-FIND(E$3,分類表!$E18)-1))),"",MID(分類表!$E18,FIND(E$3,分類表!$E18)+1,IF(ISERROR(FIND(F$3,分類表!$E18)-1-FIND(E$3,分類表!$E18)),FIND($M$3,分類表!$E18)-1-FIND(E$3,分類表!$E18)-1,FIND(F$3,分類表!$E18)-1-FIND(E$3,分類表!$E18)-1))) -> 毛布 | F18: =IF(ISERROR(MID(分類表!$E18,FIND(F$3,分類表!$E18)+1,IF(ISERROR(FIND(G$3,分類表!$E18)-1-FIND(F$3,分類表!$E18)),FIND($M$3,分類表!$E18)-1-FIND(F$3,分類表!$E18)-1,FIND(G$3,分類表!$E18)-1-FIND(F$3,分類表!$E18)-1))),"",MID(分類表!$E18,FIND(F$3,分類表!$E18)+1,IF(ISERROR(FIND(G$3,分類表!$E18)-1-FIND(F$3,分類表!$E18)),FIND($M$3,分類表!$E18)-1-FIND(F$3,分類表!$E18)-1,FIND(G$3,分類表!$E18)-1-FIND(F$3,分類表!$E18)-1))) -> 座布団 | G18: =IF(ISERROR(MID(分類表!$E18,FIND(G$3,分類表!$E18)+1,IF(ISERROR(FIND(H$3,分類表!$E18)-1-FIND(G$3,分類表!$E18)),FIND($M$3,分類表!$E18)-1-FIND(G$3,分類表!$E18)-1,FIND(H$3,分類表!$E18)-1-FIND(G$3,分類表!$E18)-1))),"",MID(分類表!$E18,FIND(G$3,分類表!$E18)+1,IF(ISERROR(FIND(H$3,分類表!$E18)-1-FIND(G$3,分類表!$E18)),FIND($M$3,分類表!$E18)-1-FIND(G$3,分類表!$E18)-1,FIND(H$3,分類表!$E18)-1-FIND(G$3,分類表!$E18)-1))) | H18: =IF(ISERROR(MID(分類表!$E18,FIND(H$3,分類表!$E18)+1,IF(ISERROR(FIND(I$3,分類表!$E18)-1-FIND(H$3,分類表!$E18)),FIND($M$3,分類表!$E18)-1-FIND(H$3,分類表!$E18)-1,FIND(I$3,分類表!$E18)-1-FIND(H$3,分類表!$E18)-1))),"",MID(分類表!$E18,FIND(H$3,分類表!$E18)+1,IF(ISERROR(FIND(I$3,分類表!$E18)-1-FIND(H$3,分類表!$E18)),FIND($M$3,分類表!$E18)-1-FIND(H$3,分類表!$E18)-1,FIND(I$3,分類表!$E18)-1-FIND(H$3,分類表!$E18)-1))) | I18: =IF(ISERROR(MID(分類表!$E18,FIND(I$3,分類表!$E18)+1,IF(ISERROR(FIND(J$3,分類表!$E18)-1-FIND(I$3,分類表!$E18)),FIND($M$3,分類表!$E18)-1-FIND(I$3,分類表!$E18)-1,FIND(J$3,分類表!$E18)-1-FIND(I$3,分類表!$E18)-1))),"",MID(分類表!$E18,FIND(I$3,分類表!$E18)+1,IF(ISERROR(FIND(J$3,分類表!$E18)-1-FIND(I$3,分類表!$E18)),FIND($M$3,分類表!$E18)-1-FIND(I$3,分類表!$E18)-1,FIND(J$3,分類表!$E18)-1-FIND(I$3,分類表!$E18)-1))) | J18: =IF(ISERROR(MID(分類表!$E18,FIND(J$3,分類表!$E18)+1,IF(ISERROR(FIND(K$3,分類表!$E18)-1-FIND(J$3,分類表!$E18)),FIND($M$3,分類表!$E18)-1-FIND(J$3,分類表!$E18)-1,FIND(K$3,分類表!$E18)-1-FIND(J$3,分類表!$E18)-1))),"",MID(分類表!$E18,FIND(J$3,分類表!$E18)+1,IF(ISERROR(FIND(K$3,分類表!$E18)-1-FIND(J$3,分類表!$E18)),FIND($M$3,分類表!$E18)-1-FIND(J$3,分類表!$E18)-1,FIND(K$3,分類表!$E18)-1-FIND(J$3,分類表!$E18)-1))) | K18: =IF(ISERROR(MID(分類表!$E18,FIND(K$3,分類表!$E18)+1,IF(ISERROR(FIND(L$3,分類表!$E18)-1-FIND(K$3,分類表!$E18)),FIND($M$3,分類表!$E18)-1-FIND(K$3,分類表!$E18)-1,FIND(L$3,分類表!$E18)-1-FIND(K$3,分類表!$E18)-1))),"",MID(分類表!$E18,FIND(K$3,分類表!$E18)+1,IF(ISERROR(FIND(L$3,分類表!$E18)-1-FIND(K$3,分類表!$E18)),FIND($M$3,分類表!$E18)-1-FIND(K$3,分類表!$E18)-1,FIND(L$3,分類表!$E18)-1-FIND(K$3,分類表!$E18)-1))) | L18: =IF(ISERROR(MID(分類表!$E18,FIND(L$3,分類表!$E18)+1,IF(ISERROR(FIND(M$3,分類表!$E18)-1-FIND(L$3,分類表!$E18)),FIND($M$3,分類表!$E18)-1-FIND(L$3,分類表!$E18)-1,FIND(M$3,分類表!$E18)-1-FIND(L$3,分類表!$E18)-1))),"",MID(分類表!$E18,FIND(L$3,分類表!$E18)+1,IF(ISERROR(FIND(M$3,分類表!$E18)-1-FIND(L$3,分類表!$E18)),FIND($M$3,分類表!$E18)-1-FIND(L$3,分類表!$E18)-1,FIND(M$3,分類表!$E18)-1-FIND(L$3,分類表!$E18)-1))) | M18: =IF(ISERROR(MID(分類表!$E18,FIND(M$3,分類表!$E18)+1,LEN(分類表!$E18)-FIND(M$3,分類表!$E18)+1)),"",MID(分類表!$E18,FIND(M$3,分類表!$E18)+1,LEN(分類表!$E18)-FIND(M$3,分類表!$E18)+1)) -> その他
B19: =分類表!C19 -> 16 | C19: =分類表!D19 -> 家庭用電化製品 | D19: =IF(ISERROR(MID(分類表!$E19,FIND(D$3,分類表!$E19)+1,IF(ISERROR(FIND(E$3,分類表!$E19)-1-FIND(D$3,分類表!$E19)),FIND($M$3,分類表!$E19)-1-FIND(D$3,分類表!$E19)-1,FIND(E$3,分類表!$E19)-1-FIND(D$3,分類表!$E19)-1))),"",MID(分類表!$E19,FIND(D$3,分類表!$E19)+1,IF(ISERROR(FIND(E$3,分類表!$E19)-1-FIND(D$3,分類表!$E19)),FIND($M$3,分類表!$E19)-1-FIND(D$3,分類表!$E19)-1,FIND(E$3,分類表!$E19)-1-FIND(D$3,分類表!$E19)-1))) -> テレビ | E19: =IF(ISERROR(MID(分類表!$E19,FIND(E$3,分類表!$E19)+1,IF(ISERROR(FIND(F$3,分類表!$E19)-1-FIND(E$3,分類表!$E19)),FIND($M$3,分類表!$E19)-1-FIND(E$3,分類表!$E19)-1,FIND(F$3,分類表!$E19)-1-FIND(E$3,分類表!$E19)-1))),"",MID(分類表!$E19,FIND(E$3,分類表!$E19)+1,IF(ISERROR(FIND(F$3,分類表!$E19)-1-FIND(E$3,分類表!$E19)),FIND($M$3,分類表!$E19)-1-FIND(E$3,分類表!$E19)-1,FIND(F$3,分類表!$E19)-1-FIND(E$3,分類表!$E19)-1))) -> 録画再生機 | F19: =IF(ISERROR(MID(分類表!$E19,FIND(F$3,分類表!$E19)+1,IF(ISERROR(FIND(G$3,分類表!$E19)-1-FIND(F$3,分類表!$E19)),FIND($M$3,分類表!$E19)-1-FIND(F$3,分類表!$E19)-1,FIND(G$3,分類表!$E19)-1-FIND(F$3,分類表!$E19)-1))),"",MID(分類表!$E19,FIND(F$3,分類表!$E19)+1,IF(ISERROR(FIND(G$3,分類表!$E19)-1-FIND(F$3,分類表!$E19)),FIND($M$3,分類表!$E19)-1-FIND(F$3,分類表!$E19)-1,FIND(G$3,分類表!$E19)-1-FIND(F$3,分類表!$E19)-1))) -> 冷蔵庫 | G19: =IF(ISERROR(MID(分類表!$E19,FIND(G$3,分類表!$E19)+1,IF(ISERROR(FIND(H$3,分類表!$E19)-1-FIND(G$3,分類表!$E19)),FIND($M$3,分類表!$E19)-1-FIND(G$3,分類表!$E19)-1,FIND(H$3,分類表!$E19)-1-FIND(G$3,分類表!$E19)-1))),"",MID(分類表!$E19,FIND(G$3,分類表!$E19)+1,IF(ISERROR(FIND(H$3,分類表!$E19)-1-FIND(G$3,分類表!$E19)),FIND($M$3,分類表!$E19)-1-FIND(G$3,分類表!$E19)-1,FIND(H$3,分類表!$E19)-1-FIND(G$3,分類表!$E19)-1))) -> 掃除機 | H19: =IF(ISERROR(MID(分類表!$E19,FIND(H$3,分類表!$E19)+1,IF(ISERROR(FIND(I$3,分類表!$E19)-1-FIND(H$3,分類表!$E19)),FIND($M$3,分類表!$E19)-1-FIND(H$3,分類表!$E19)-1,FIND(I$3,分類表!$E19)-1-FIND(H$3,分類表!$E19)-1))),"",MID(分類表!$E19,FIND(H$3,分類表!$E19)+1,IF(ISERROR(FIND(I$3,分類表!$E19)-1-FIND(H$3,分類表!$E19)),FIND($M$3,分類表!$E19)-1-FIND(H$3,分類表!$E19)-1,FIND(I$3,分類表!$E19)-1-FIND(H$3,分類表!$E19)-1))) -> 洗濯機 | I19: =IF(ISERROR(MID(分類表!$E19,FIND(I$3,分類表!$E19)+1,IF(ISERROR(FIND(J$3,分類表!$E19)-1-FIND(I$3,分類表!$E19)),FIND($M$3,分類表!$E19)-1-FIND(I$3,分類表!$E19)-1,FIND(J$3,分類表!$E19)-1-FIND(I$3,分類表!$E19)-1))),"",MID(分類表!$E19,FIND(I$3,分類表!$E19)+1,IF(ISERROR(FIND(J$3,分類表!$E19)-1-FIND(I$3,分類表!$E19)),FIND($M$3,分類表!$E19)-1-FIND(I$3,分類表!$E19)-1,FIND(J$3,分類表!$E19)-1-FIND(I$3,分類表!$E19)-1))) -> 空気清浄機 | J19: =IF(ISERROR(MID(分類表!$E19,FIND(J$3,分類表!$E19)+1,IF(ISERROR(FIND(K$3,分類表!$E19)-1-FIND(J$3,分類表!$E19)),FIND($M$3,分類表!$E19)-1-FIND(J$3,分類表!$E19)-1,FIND(K$3,分類表!$E19)-1-FIND(J$3,分類表!$E19)-1))),"",MID(分類表!$E19,FIND(J$3,分類表!$E19)+1,IF(ISERROR(FIND(K$3,分類表!$E19)-1-FIND(J$3,分類表!$E19)),FIND($M$3,分類表!$E19)-1-FIND(J$3,分類表!$E19)-1,FIND(K$3,分類表!$E19)-1-FIND(J$3,分類表!$E19)-1))) -> 加湿器 | K19: =IF(ISERROR(MID(分類表!$E19,FIND(K$3,分類表!$E19)+1,IF(ISERROR(FIND(L$3,分類表!$E19)-1-FIND(K$3,分類表!$E19)),FIND($M$3,分類表!$E19)-1-FIND(K$3,分類表!$E19)-1,FIND(L$3,分類表!$E19)-1-FIND(K$3,分類表!$E19)-1))),"",MID(分類表!$E19,FIND(K$3,分類表!$E19)+1,IF(ISERROR(FIND(L$3,分類表!$E19)-1-FIND(K$3,分類表!$E19)),FIND($M$3,分類表!$E19)-1-FIND(K$3,分類表!$E19)-1,FIND(L$3,分類表!$E19)-1-FIND(K$3,分類表!$E19)-1))) -> 電子レンジ | L19: =IF(ISERROR(MID(分類表!$E19,FIND(L$3,分類表!$E19)+1,IF(ISERROR(FIND(M$3,分類表!$E19)-1-FIND(L$3,分類表!$E19)),FIND($M$3,分類表!$E19)-1-FIND(L$3,分類表!$E19)-1,FIND(M$3,分類表!$E19)-1-FIND(L$3,分類表!$E19)-1))),"",MID(分類表!$E19,FIND(L$3,分類表!$E19)+1,IF(ISERROR(FIND(M$3,分類表!$E19)-1-FIND(L$3,分類表!$E19)),FIND($M$3,分類表!$E19)-1-FIND(L$3,分類表!$E19)-1,FIND(M$3,分類表!$E19)-1-FIND(L$3,分類表!$E19)-1))) -> 施設用電器部品 | M19: =IF(ISERROR(MID(分類表!$E19,FIND(M$3,分類表!$E19)+1,LEN(分類表!$E19)-FIND(M$3,分類表!$E19)+1)),"",MID(分類表!$E19,FIND(M$3,分類表!$E19)+1,LEN(分類表!$E19)-FIND(M$3,分類表!$E19)+1)) -> その他
B20: =分類表!C20 -> 17 | C20: =分類表!D20 -> 音響器具 | D20: =IF(ISERROR(MID(分類表!$E20,FIND(D$3,分類表!$E20)+1,IF(ISERROR(FIND(E$3,分類表!$E20)-1-FIND(D$3,分類表!$E20)),FIND($M$3,分類表!$E20)-1-FIND(D$3,分類表!$E20)-1,FIND(E$3,分類表!$E20)-1-FIND(D$3,分類表!$E20)-1))),"",MID(分類表!$E20,FIND(D$3,分類表!$E20)+1,IF(ISERROR(FIND(E$3,分類表!$E20)-1-FIND(D$3,分類表!$E20)),FIND($M$3,分類表!$E20)-1-FIND(D$3,分類表!$E20)-1,FIND(E$3,分類表!$E20)-1-FIND(D$3,分類表!$E20)-1))) -> アンプ | E20: =IF(ISERROR(MID(分類表!$E20,FIND(E$3,分類表!$E20)+1,IF(ISERROR(FIND(F$3,分類表!$E20)-1-FIND(E$3,分類表!$E20)),FIND($M$3,分類表!$E20)-1-FIND(E$3,分類表!$E20)-1,FIND(F$3,分類表!$E20)-1-FIND(E$3,分類表!$E20)-1))),"",MID(分類表!$E20,FIND(E$3,分類表!$E20)+1,IF(ISERROR(FIND(F$3,分類表!$E20)-1-FIND(E$3,分類表!$E20)),FIND($M$3,分類表!$E20)-1-FIND(E$3,分類表!$E20)-1,FIND(F$3,分類表!$E20)-1-FIND(E$3,分類表!$E20)-1))) -> マイク | F20: =IF(ISERROR(MID(分類表!$E20,FIND(F$3,分類表!$E20)+1,IF(ISERROR(FIND(G$3,分類表!$E20)-1-FIND(F$3,分類表!$E20)),FIND($M$3,分類表!$E20)-1-FIND(F$3,分類表!$E20)-1,FIND(G$3,分類表!$E20)-1-FIND(F$3,分類表!$E20)-1))),"",MID(分類表!$E20,FIND(F$3,分類表!$E20)+1,IF(ISERROR(FIND(G$3,分類表!$E20)-1-FIND(F$3,分類表!$E20)),FIND($M$3,分類表!$E20)-1-FIND(F$3,分類表!$E20)-1,FIND(G$3,分類表!$E20)-1-FIND(F$3,分類表!$E20)-1))) | G20: =IF(ISERROR(MID(分類表!$E20,FIND(G$3,分類表!$E20)+1,IF(ISERROR(FIND(H$3,分類表!$E20)-1-FIND(G$3,分類表!$E20)),FIND($M$3,分類表!$E20)-1-FIND(G$3,分類表!$E20)-1,FIND(H$3,分類表!$E20)-1-FIND(G$3,分類表!$E20)-1))),"",MID(分類表!$E20,FIND(G$3,分類表!$E20)+1,IF(ISERROR(FIND(H$3,分類表!$E20)-1-FIND(G$3,分類表!$E20)),FIND($M$3,分類表!$E20)-1-FIND(G$3,分類表!$E20)-1,FIND(H$3,分類表!$E20)-1-FIND(G$3,分類表!$E20)-1))) | H20: =IF(ISERROR(MID(分類表!$E20,FIND(H$3,分類表!$E20)+1,IF(ISERROR(FIND(I$3,分類表!$E20)-1-FIND(H$3,分類表!$E20)),FIND($M$3,分類表!$E20)-1-FIND(H$3,分類表!$E20)-1,FIND(I$3,分類表!$E20)-1-FIND(H$3,分類表!$E20)-1))),"",MID(分類表!$E20,FIND(H$3,分類表!$E20)+1,IF(ISERROR(FIND(I$3,分類表!$E20)-1-FIND(H$3,分類表!$E20)),FIND($M$3,分類表!$E20)-1-FIND(H$3,分類表!$E20)-1,FIND(I$3,分類表!$E20)-1-FIND(H$3,分類表!$E20)-1))) | I20: =IF(ISERROR(MID(分類表!$E20,FIND(I$3,分類表!$E20)+1,IF(ISERROR(FIND(J$3,分類表!$E20)-1-FIND(I$3,分類表!$E20)),FIND($M$3,分類表!$E20)-1-FIND(I$3,分類表!$E20)-1,FIND(J$3,分類表!$E20)-1-FIND(I$3,分類表!$E20)-1))),"",MID(分類表!$E20,FIND(I$3,分類表!$E20)+1,IF(ISERROR(FIND(J$3,分類表!$E20)-1-FIND(I$3,分類表!$E20)),FIND($M$3,分類表!$E20)-1-FIND(I$3,分類表!$E20)-1,FIND(J$3,分類表!$E20)-1-FIND(I$3,分類表!$E20)-1))) | J20: =IF(ISERROR(MID(分類表!$E20,FIND(J$3,分類表!$E20)+1,IF(ISERROR(FIND(K$3,分類表!$E20)-1-FIND(J$3,分類表!$E20)),FIND($M$3,分類表!$E20)-1-FIND(J$3,分類表!$E20)-1,FIND(K$3,分類表!$E20)-1-FIND(J$3,分類表!$E20)-1))),"",MID(分類表!$E20,FIND(J$3,分類表!$E20)+1,IF(ISERROR(FIND(K$3,分類表!$E20)-1-FIND(J$3,分類表!$E20)),FIND($M$3,分類表!$E20)-1-FIND(J$3,分類表!$E20)-1,FIND(K$3,分類表!$E20)-1-FIND(J$3,分類表!$E20)-1))) | K20: =IF(ISERROR(MID(分類表!$E20,FIND(K$3,分類表!$E20)+1,IF(ISERROR(FIND(L$3,分類表!$E20)-1-FIND(K$3,分類表!$E20)),FIND($M$3,分類表!$E20)-1-FIND(K$3,分類表!$E20)-1,FIND(L$3,分類表!$E20)-1-FIND(K$3,分類表!$E20)-1))),"",MID(分類表!$E20,FIND(K$3,分類表!$E20)+1,IF(ISERROR(FIND(L$3,分類表!$E20)-1-FIND(K$3,分類表!$E20)),FIND($M$3,分類表!$E20)-1-FIND(K$3,分類表!$E20)-1,FIND(L$3,分類表!$E20)-1-FIND(K$3,分類表!$E20)-1))) | L20: =IF(ISERROR(MID(分類表!$E20,FIND(L$3,分類表!$E20)+1,IF(ISERROR(FIND(M$3,分類表!$E20)-1-FIND(L$3,分類表!$E20)),FIND($M$3,分類表!$E20)-1-FIND(L$3,分類表!$E20)-1,FIND(M$3,分類表!$E20)-1-FIND(L$3,分類表!$E20)-1))),"",MID(分類表!$E20,FIND(L$3,分類表!$E20)+1,IF(ISERROR(FIND(M$3,分類表!$E20)-1-FIND(L$3,分類表!$E20)),FIND($M$3,分類表!$E20)-1-FIND(L$3,分類表!$E20)-1,FIND(M$3,分類表!$E20)-1-FIND(L$3,分類表!$E20)-1))) | M20: =IF(ISERROR(MID(分類表!$E20,FIND(M$3,分類表!$E20)+1,LEN(分類表!$E20)-FIND(M$3,分類表!$E20)+1)),"",MID(分類表!$E20,FIND(M$3,分類表!$E20)+1,LEN(分類表!$E20)-FIND(M$3,分類表!$E20)+1)) -> その他
B21: =分類表!C21 -> 18 | C21: =分類表!D21 -> 通信機器 | D21: =IF(ISERROR(MID(分類表!$E21,FIND(D$3,分類表!$E21)+1,IF(ISERROR(FIND(E$3,分類表!$E21)-1-FIND(D$3,分類表!$E21)),FIND($M$3,分類表!$E21)-1-FIND(D$3,分類表!$E21)-1,FIND(E$3,分類表!$E21)-1-FIND(D$3,分類表!$E21)-1))),"",MID(分類表!$E21,FIND(D$3,分類表!$E21)+1,IF(ISERROR(FIND(E$3,分類表!$E21)-1-FIND(D$3,分類表!$E21)),FIND($M$3,分類表!$E21)-1-FIND(D$3,分類表!$E21)-1,FIND(E$3,分類表!$E21)-1-FIND(D$3,分類表!$E21)-1))) -> 電話機（携帯電話含む） | E21: =IF(ISERROR(MID(分類表!$E21,FIND(E$3,分類表!$E21)+1,IF(ISERROR(FIND(F$3,分類表!$E21)-1-FIND(E$3,分類表!$E21)),FIND($M$3,分類表!$E21)-1-FIND(E$3,分類表!$E21)-1,FIND(F$3,分類表!$E21)-1-FIND(E$3,分類表!$E21)-1))),"",MID(分類表!$E21,FIND(E$3,分類表!$E21)+1,IF(ISERROR(FIND(F$3,分類表!$E21)-1-FIND(E$3,分類表!$E21)),FIND($M$3,分類表!$E21)-1-FIND(E$3,分類表!$E21)-1,FIND(F$3,分類表!$E21)-1-FIND(E$3,分類表!$E21)-1))) -> FAX | F21: =IF(ISERROR(MID(分類表!$E21,FIND(F$3,分類表!$E21)+1,IF(ISERROR(FIND(G$3,分類表!$E21)-1-FIND(F$3,分類表!$E21)),FIND($M$3,分類表!$E21)-1-FIND(F$3,分類表!$E21)-1,FIND(G$3,分類表!$E21)-1-FIND(F$3,分類表!$E21)-1))),"",MID(分類表!$E21,FIND(F$3,分類表!$E21)+1,IF(ISERROR(FIND(G$3,分類表!$E21)-1-FIND(F$3,分類表!$E21)),FIND($M$3,分類表!$E21)-1-FIND(F$3,分類表!$E21)-1,FIND(G$3,分類表!$E21)-1-FIND(F$3,分類表!$E21)-1))) -> 無線機 | G21: =IF(ISERROR(MID(分類表!$E21,FIND(G$3,分類表!$E21)+1,IF(ISERROR(FIND(H$3,分類表!$E21)-1-FIND(G$3,分類表!$E21)),FIND($M$3,分類表!$E21)-1-FIND(G$3,分類表!$E21)-1,FIND(H$3,分類表!$E21)-1-FIND(G$3,分類表!$E21)-1))),"",MID(分類表!$E21,FIND(G$3,分類表!$E21)+1,IF(ISERROR(FIND(H$3,分類表!$E21)-1-FIND(G$3,分類表!$E21)),FIND($M$3,分類表!$E21)-1-FIND(G$3,分類表!$E21)-1,FIND(H$3,分類表!$E21)-1-FIND(G$3,分類表!$E21)-1))) | H21: =IF(ISERROR(MID(分類表!$E21,FIND(H$3,分類表!$E21)+1,IF(ISERROR(FIND(I$3,分類表!$E21)-1-FIND(H$3,分類表!$E21)),FIND($M$3,分類表!$E21)-1-FIND(H$3,分類表!$E21)-1,FIND(I$3,分類表!$E21)-1-FIND(H$3,分類表!$E21)-1))),"",MID(分類表!$E21,FIND(H$3,分類表!$E21)+1,IF(ISERROR(FIND(I$3,分類表!$E21)-1-FIND(H$3,分類表!$E21)),FIND($M$3,分類表!$E21)-1-FIND(H$3,分類表!$E21)-1,FIND(I$3,分類表!$E21)-1-FIND(H$3,分類表!$E21)-1))) | I21: =IF(ISERROR(MID(分類表!$E21,FIND(I$3,分類表!$E21)+1,IF(ISERROR(FIND(J$3,分類表!$E21)-1-FIND(I$3,分類表!$E21)),FIND($M$3,分類表!$E21)-1-FIND(I$3,分類表!$E21)-1,FIND(J$3,分類表!$E21)-1-FIND(I$3,分類表!$E21)-1))),"",MID(分類表!$E21,FIND(I$3,分類表!$E21)+1,IF(ISERROR(FIND(J$3,分類表!$E21)-1-FIND(I$3,分類表!$E21)),FIND($M$3,分類表!$E21)-1-FIND(I$3,分類表!$E21)-1,FIND(J$3,分類表!$E21)-1-FIND(I$3,分類表!$E21)-1))) | J21: =IF(ISERROR(MID(分類表!$E21,FIND(J$3,分類表!$E21)+1,IF(ISERROR(FIND(K$3,分類表!$E21)-1-FIND(J$3,分類表!$E21)),FIND($M$3,分類表!$E21)-1-FIND(J$3,分類表!$E21)-1,FIND(K$3,分類表!$E21)-1-FIND(J$3,分類表!$E21)-1))),"",MID(分類表!$E21,FIND(J$3,分類表!$E21)+1,IF(ISERROR(FIND(K$3,分類表!$E21)-1-FIND(J$3,分類表!$E21)),FIND($M$3,分類表!$E21)-1-FIND(J$3,分類表!$E21)-1,FIND(K$3,分類表!$E21)-1-FIND(J$3,分類表!$E21)-1))) | K21: =IF(ISERROR(MID(分類表!$E21,FIND(K$3,分類表!$E21)+1,IF(ISERROR(FIND(L$3,分類表!$E21)-1-FIND(K$3,分類表!$E21)),FIND($M$3,分類表!$E21)-1-FIND(K$3,分類表!$E21)-1,FIND(L$3,分類表!$E21)-1-FIND(K$3,分類表!$E21)-1))),"",MID(分類表!$E21,FIND(K$3,分類表!$E21)+1,IF(ISERROR(FIND(L$3,分類表!$E21)-1-FIND(K$3,分類表!$E21)),FIND($M$3,分類表!$E21)-1-FIND(K$3,分類表!$E21)-1,FIND(L$3,分類表!$E21)-1-FIND(K$3,分類表!$E21)-1))) | L21: =IF(ISERROR(MID(分類表!$E21,FIND(L$3,分類表!$E21)+1,IF(ISERROR(FIND(M$3,分類表!$E21)-1-FIND(L$3,分類表!$E21)),FIND($M$3,分類表!$E21)-1-FIND(L$3,分類表!$E21)-1,FIND(M$3,分類表!$E21)-1-FIND(L$3,分類表!$E21)-1))),"",MID(分類表!$E21,FIND(L$3,分類表!$E21)+1,IF(ISERROR(FIND(M$3,分類表!$E21)-1-FIND(L$3,分類表!$E21)),FIND($M$3,分類表!$E21)-1-FIND(L$3,分類表!$E21)-1,FIND(M$3,分類表!$E21)-1-FIND(L$3,分類表!$E21)-1))) | M21: =IF(ISERROR(MID(分類表!$E21,FIND(M$3,分類表!$E21)+1,LEN(分類表!$E21)-FIND(M$3,分類表!$E21)+1)),"",MID(分類表!$E21,FIND(M$3,分類表!$E21)+1,LEN(分類表!$E21)-FIND(M$3,分類表!$E21)+1)) -> その他
B22: =分類表!C22 -> 19 | C22: =分類表!D22 -> 電気冷暖房器具 | D22: =IF(ISERROR(MID(分類表!$E22,FIND(D$3,分類表!$E22)+1,IF(ISERROR(FIND(E$3,分類表!$E22)-1-FIND(D$3,分類表!$E22)),FIND($M$3,分類表!$E22)-1-FIND(D$3,分類表!$E22)-1,FIND(E$3,分類表!$E22)-1-FIND(D$3,分類表!$E22)-1))),"",MID(分類表!$E22,FIND(D$3,分類表!$E22)+1,IF(ISERROR(FIND(E$3,分類表!$E22)-1-FIND(D$3,分類表!$E22)),FIND($M$3,分類表!$E22)-1-FIND(D$3,分類表!$E22)-1,FIND(E$3,分類表!$E22)-1-FIND(D$3,分類表!$E22)-1))) -> エアコン | E22: =IF(ISERROR(MID(分類表!$E22,FIND(E$3,分類表!$E22)+1,IF(ISERROR(FIND(F$3,分類表!$E22)-1-FIND(E$3,分類表!$E22)),FIND($M$3,分類表!$E22)-1-FIND(E$3,分類表!$E22)-1,FIND(F$3,分類表!$E22)-1-FIND(E$3,分類表!$E22)-1))),"",MID(分類表!$E22,FIND(E$3,分類表!$E22)+1,IF(ISERROR(FIND(F$3,分類表!$E22)-1-FIND(E$3,分類表!$E22)),FIND($M$3,分類表!$E22)-1-FIND(E$3,分類表!$E22)-1,FIND(F$3,分類表!$E22)-1-FIND(E$3,分類表!$E22)-1))) -> 扇風機 | F22: =IF(ISERROR(MID(分類表!$E22,FIND(F$3,分類表!$E22)+1,IF(ISERROR(FIND(G$3,分類表!$E22)-1-FIND(F$3,分類表!$E22)),FIND($M$3,分類表!$E22)-1-FIND(F$3,分類表!$E22)-1,FIND(G$3,分類表!$E22)-1-FIND(F$3,分類表!$E22)-1))),"",MID(分類表!$E22,FIND(F$3,分類表!$E22)+1,IF(ISERROR(FIND(G$3,分類表!$E22)-1-FIND(F$3,分類表!$E22)),FIND($M$3,分類表!$E22)-1-FIND(F$3,分類表!$E22)-1,FIND(G$3,分類表!$E22)-1-FIND(F$3,分類表!$E22)-1))) -> 電気ストーブ | G22: =IF(ISERROR(MID(分類表!$E22,FIND(G$3,分類表!$E22)+1,IF(ISERROR(FIND(H$3,分類表!$E22)-1-FIND(G$3,分類表!$E22)),FIND($M$3,分類表!$E22)-1-FIND(G$3,分類表!$E22)-1,FIND(H$3,分類表!$E22)-1-FIND(G$3,分類表!$E22)-1))),"",MID(分類表!$E22,FIND(G$3,分類表!$E22)+1,IF(ISERROR(FIND(H$3,分類表!$E22)-1-FIND(G$3,分類表!$E22)),FIND($M$3,分類表!$E22)-1-FIND(G$3,分類表!$E22)-1,FIND(H$3,分類表!$E22)-1-FIND(G$3,分類表!$E22)-1))) | H22: =IF(ISERROR(MID(分類表!$E22,FIND(H$3,分類表!$E22)+1,IF(ISERROR(FIND(I$3,分類表!$E22)-1-FIND(H$3,分類表!$E22)),FIND($M$3,分類表!$E22)-1-FIND(H$3,分類表!$E22)-1,FIND(I$3,分類表!$E22)-1-FIND(H$3,分類表!$E22)-1))),"",MID(分類表!$E22,FIND(H$3,分類表!$E22)+1,IF(ISERROR(FIND(I$3,分類表!$E22)-1-FIND(H$3,分類表!$E22)),FIND($M$3,分類表!$E22)-1-FIND(H$3,分類表!$E22)-1,FIND(I$3,分類表!$E22)-1-FIND(H$3,分類表!$E22)-1))) | I22: =IF(ISERROR(MID(分類表!$E22,FIND(I$3,分類表!$E22)+1,IF(ISERROR(FIND(J$3,分類表!$E22)-1-FIND(I$3,分類表!$E22)),FIND($M$3,分類表!$E22)-1-FIND(I$3,分類表!$E22)-1,FIND(J$3,分類表!$E22)-1-FIND(I$3,分類表!$E22)-1))),"",MID(分類表!$E22,FIND(I$3,分類表!$E22)+1,IF(ISERROR(FIND(J$3,分類表!$E22)-1-FIND(I$3,分類表!$E22)),FIND($M$3,分類表!$E22)-1-FIND(I$3,分類表!$E22)-1,FIND(J$3,分類表!$E22)-1-FIND(I$3,分類表!$E22)-1))) | J22: =IF(ISERROR(MID(分類表!$E22,FIND(J$3,分類表!$E22)+1,IF(ISERROR(FIND(K$3,分類表!$E22)-1-FIND(J$3,分類表!$E22)),FIND($M$3,分類表!$E22)-1-FIND(J$3,分類表!$E22)-1,FIND(K$3,分類表!$E22)-1-FIND(J$3,分類表!$E22)-1))),"",MID(分類表!$E22,FIND(J$3,分類表!$E22)+1,IF(ISERROR(FIND(K$3,分類表!$E22)-1-FIND(J$3,分類表!$E22)),FIND($M$3,分類表!$E22)-1-FIND(J$3,分類表!$E22)-1,FIND(K$3,分類表!$E22)-1-FIND(J$3,分類表!$E22)-1))) | K22: =IF(ISERROR(MID(分類表!$E22,FIND(K$3,分類表!$E22)+1,IF(ISERROR(FIND(L$3,分類表!$E22)-1-FIND(K$3,分類表!$E22)),FIND($M$3,分類表!$E22)-1-FIND(K$3,分類表!$E22)-1,FIND(L$3,分類表!$E22)-1-FIND(K$3,分類表!$E22)-1))),"",MID(分類表!$E22,FIND(K$3,分類表!$E22)+1,IF(ISERROR(FIND(L$3,分類表!$E22)-1-FIND(K$3,分類表!$E22)),FIND($M$3,分類表!$E22)-1-FIND(K$3,分類表!$E22)-1,FIND(L$3,分類表!$E22)-1-FIND(K$3,分類表!$E22)-1))) | L22: =IF(ISERROR(MID(分類表!$E22,FIND(L$3,分類表!$E22)+1,IF(ISERROR(FIND(M$3,分類表!$E22)-1-FIND(L$3,分類表!$E22)),FIND($M$3,分類表!$E22)-1-FIND(L$3,分類表!$E22)-1,FIND(M$3,分類表!$E22)-1-FIND(L$3,分類表!$E22)-1))),"",MID(分類表!$E22,FIND(L$3,分類表!$E22)+1,IF(ISERROR(FIND(M$3,分類表!$E22)-1-FIND(L$3,分類表!$E22)),FIND($M$3,分類表!$E22)-1-FIND(L$3,分類表!$E22)-1,FIND(M$3,分類表!$E22)-1-FIND(L$3,分類表!$E22)-1))) | M22: =IF(ISERROR(MID(分類表!$E22,FIND(M$3,分類表!$E22)+1,LEN(分類表!$E22)-FIND(M$3,分類表!$E22)+1)),"",MID(分類表!$E22,FIND(M$3,分類表!$E22)+1,LEN(分類表!$E22)-FIND(M$3,分類表!$E22)+1)) -> その他
B23: =分類表!C23 -> 20 | C23: =分類表!D23 -> 石油・ガス暖房器具 | D23: =IF(ISERROR(MID(分類表!$E23,FIND(D$3,分類表!$E23)+1,IF(ISERROR(FIND(E$3,分類表!$E23)-1-FIND(D$3,分類表!$E23)),FIND($M$3,分類表!$E23)-1-FIND(D$3,分類表!$E23)-1,FIND(E$3,分類表!$E23)-1-FIND(D$3,分類表!$E23)-1))),"",MID(分類表!$E23,FIND(D$3,分類表!$E23)+1,IF(ISERROR(FIND(E$3,分類表!$E23)-1-FIND(D$3,分類表!$E23)),FIND($M$3,分類表!$E23)-1-FIND(D$3,分類表!$E23)-1,FIND(E$3,分類表!$E23)-1-FIND(D$3,分類表!$E23)-1))) -> 石油暖房機 | E23: =IF(ISERROR(MID(分類表!$E23,FIND(E$3,分類表!$E23)+1,IF(ISERROR(FIND(F$3,分類表!$E23)-1-FIND(E$3,分類表!$E23)),FIND($M$3,分類表!$E23)-1-FIND(E$3,分類表!$E23)-1,FIND(F$3,分類表!$E23)-1-FIND(E$3,分類表!$E23)-1))),"",MID(分類表!$E23,FIND(E$3,分類表!$E23)+1,IF(ISERROR(FIND(F$3,分類表!$E23)-1-FIND(E$3,分類表!$E23)),FIND($M$3,分類表!$E23)-1-FIND(E$3,分類表!$E23)-1,FIND(F$3,分類表!$E23)-1-FIND(E$3,分類表!$E23)-1))) -> ガス暖房機 | F23: =IF(ISERROR(MID(分類表!$E23,FIND(F$3,分類表!$E23)+1,IF(ISERROR(FIND(G$3,分類表!$E23)-1-FIND(F$3,分類表!$E23)),FIND($M$3,分類表!$E23)-1-FIND(F$3,分類表!$E23)-1,FIND(G$3,分類表!$E23)-1-FIND(F$3,分類表!$E23)-1))),"",MID(分類表!$E23,FIND(F$3,分類表!$E23)+1,IF(ISERROR(FIND(G$3,分類表!$E23)-1-FIND(F$3,分類表!$E23)),FIND($M$3,分類表!$E23)-1-FIND(F$3,分類表!$E23)-1,FIND(G$3,分類表!$E23)-1-FIND(F$3,分類表!$E23)-1))) | G23: =IF(ISERROR(MID(分類表!$E23,FIND(G$3,分類表!$E23)+1,IF(ISERROR(FIND(H$3,分類表!$E23)-1-FIND(G$3,分類表!$E23)),FIND($M$3,分類表!$E23)-1-FIND(G$3,分類表!$E23)-1,FIND(H$3,分類表!$E23)-1-FIND(G$3,分類表!$E23)-1))),"",MID(分類表!$E23,FIND(G$3,分類表!$E23)+1,IF(ISERROR(FIND(H$3,分類表!$E23)-1-FIND(G$3,分類表!$E23)),FIND($M$3,分類表!$E23)-1-FIND(G$3,分類表!$E23)-1,FIND(H$3,分類表!$E23)-1-FIND(G$3,分類表!$E23)-1))) | H23: =IF(ISERROR(MID(分類表!$E23,FIND(H$3,分類表!$E23)+1,IF(ISERROR(FIND(I$3,分類表!$E23)-1-FIND(H$3,分類表!$E23)),FIND($M$3,分類表!$E23)-1-FIND(H$3,分類表!$E23)-1,FIND(I$3,分類表!$E23)-1-FIND(H$3,分類表!$E23)-1))),"",MID(分類表!$E23,FIND(H$3,分類表!$E23)+1,IF(ISERROR(FIND(I$3,分類表!$E23)-1-FIND(H$3,分類表!$E23)),FIND($M$3,分類表!$E23)-1-FIND(H$3,分類表!$E23)-1,FIND(I$3,分類表!$E23)-1-FIND(H$3,分類表!$E23)-1))) | I23: =IF(ISERROR(MID(分類表!$E23,FIND(I$3,分類表!$E23)+1,IF(ISERROR(FIND(J$3,分類表!$E23)-1-FIND(I$3,分類表!$E23)),FIND($M$3,分類表!$E23)-1-FIND(I$3,分類表!$E23)-1,FIND(J$3,分類表!$E23)-1-FIND(I$3,分類表!$E23)-1))),"",MID(分類表!$E23,FIND(I$3,分類表!$E23)+1,IF(ISERROR(FIND(J$3,分類表!$E23)-1-FIND(I$3,分類表!$E23)),FIND($M$3,分類表!$E23)-1-FIND(I$3,分類表!$E23)-1,FIND(J$3,分類表!$E23)-1-FIND(I$3,分類表!$E23)-1))) | J23: =IF(ISERROR(MID(分類表!$E23,FIND(J$3,分類表!$E23)+1,IF(ISERROR(FIND(K$3,分類表!$E23)-1-FIND(J$3,分類表!$E23)),FIND($M$3,分類表!$E23)-1-FIND(J$3,分類表!$E23)-1,FIND(K$3,分類表!$E23)-1-FIND(J$3,分類表!$E23)-1))),"",MID(分類表!$E23,FIND(J$3,分類表!$E23)+1,IF(ISERROR(FIND(K$3,分類表!$E23)-1-FIND(J$3,分類表!$E23)),FIND($M$3,分類表!$E23)-1-FIND(J$3,分類表!$E23)-1,FIND(K$3,分類表!$E23)-1-FIND(J$3,分類表!$E23)-1))) | K23: =IF(ISERROR(MID(分類表!$E23,FIND(K$3,分類表!$E23)+1,IF(ISERROR(FIND(L$3,分類表!$E23)-1-FIND(K$3,分類表!$E23)),FIND($M$3,分類表!$E23)-1-FIND(K$3,分類表!$E23)-1,FIND(L$3,分類表!$E23)-1-FIND(K$3,分類表!$E23)-1))),"",MID(分類表!$E23,FIND(K$3,分類表!$E23)+1,IF(ISERROR(FIND(L$3,分類表!$E23)-1-FIND(K$3,分類表!$E23)),FIND($M$3,分類表!$E23)-1-FIND(K$3,分類表!$E23)-1,FIND(L$3,分類表!$E23)-1-FIND(K$3,分類表!$E23)-1))) | L23: =IF(ISERROR(MID(分類表!$E23,FIND(L$3,分類表!$E23)+1,IF(ISERROR(FIND(M$3,分類表!$E23)-1-FIND(L$3,分類表!$E23)),FIND($M$3,分類表!$E23)-1-FIND(L$3,分類表!$E23)-1,FIND(M$3,分類表!$E23)-1-FIND(L$3,分類表!$E23)-1))),"",MID(分類表!$E23,FIND(L$3,分類表!$E23)+1,IF(ISERROR(FIND(M$3,分類表!$E23)-1-FIND(L$3,分類表!$E23)),FIND($M$3,分類表!$E23)-1-FIND(L$3,分類表!$E23)-1,FIND(M$3,分類表!$E23)-1-FIND(L$3,分類表!$E23)-1))) | M23: =IF(ISERROR(MID(分類表!$E23,FIND(M$3,分類表!$E23)+1,LEN(分類表!$E23)-FIND(M$3,分類表!$E23)+1)),"",MID(分類表!$E23,FIND(M$3,分類表!$E23)+1,LEN(分類表!$E23)-FIND(M$3,分類表!$E23)+1)) -> その他
B24: =分類表!C24 -> 21 | C24: =分類表!D24 -> 厨房機器 | D24: =IF(ISERROR(MID(分類表!$E24,FIND(D$3,分類表!$E24)+1,IF(ISERROR(FIND(E$3,分類表!$E24)-1-FIND(D$3,分類表!$E24)),FIND($M$3,分類表!$E24)-1-FIND(D$3,分類表!$E24)-1,FIND(E$3,分類表!$E24)-1-FIND(D$3,分類表!$E24)-1))),"",MID(分類表!$E24,FIND(D$3,分類表!$E24)+1,IF(ISERROR(FIND(E$3,分類表!$E24)-1-FIND(D$3,分類表!$E24)),FIND($M$3,分類表!$E24)-1-FIND(D$3,分類表!$E24)-1,FIND(E$3,分類表!$E24)-1-FIND(D$3,分類表!$E24)-1))) -> シンク | E24: =IF(ISERROR(MID(分類表!$E24,FIND(E$3,分類表!$E24)+1,IF(ISERROR(FIND(F$3,分類表!$E24)-1-FIND(E$3,分類表!$E24)),FIND($M$3,分類表!$E24)-1-FIND(E$3,分類表!$E24)-1,FIND(F$3,分類表!$E24)-1-FIND(E$3,分類表!$E24)-1))),"",MID(分類表!$E24,FIND(E$3,分類表!$E24)+1,IF(ISERROR(FIND(F$3,分類表!$E24)-1-FIND(E$3,分類表!$E24)),FIND($M$3,分類表!$E24)-1-FIND(E$3,分類表!$E24)-1,FIND(F$3,分類表!$E24)-1-FIND(E$3,分類表!$E24)-1))) -> ガステーブル | F24: =IF(ISERROR(MID(分類表!$E24,FIND(F$3,分類表!$E24)+1,IF(ISERROR(FIND(G$3,分類表!$E24)-1-FIND(F$3,分類表!$E24)),FIND($M$3,分類表!$E24)-1-FIND(F$3,分類表!$E24)-1,FIND(G$3,分類表!$E24)-1-FIND(F$3,分類表!$E24)-1))),"",MID(分類表!$E24,FIND(F$3,分類表!$E24)+1,IF(ISERROR(FIND(G$3,分類表!$E24)-1-FIND(F$3,分類表!$E24)),FIND($M$3,分類表!$E24)-1-FIND(F$3,分類表!$E24)-1,FIND(G$3,分類表!$E24)-1-FIND(F$3,分類表!$E24)-1))) -> 給食用厨房機器 | G24: =IF(ISERROR(MID(分類表!$E24,FIND(G$3,分類表!$E24)+1,IF(ISERROR(FIND(H$3,分類表!$E24)-1-FIND(G$3,分類表!$E24)),FIND($M$3,分類表!$E24)-1-FIND(G$3,分類表!$E24)-1,FIND(H$3,分類表!$E24)-1-FIND(G$3,分類表!$E24)-1))),"",MID(分類表!$E24,FIND(G$3,分類表!$E24)+1,IF(ISERROR(FIND(H$3,分類表!$E24)-1-FIND(G$3,分類表!$E24)),FIND($M$3,分類表!$E24)-1-FIND(G$3,分類表!$E24)-1,FIND(H$3,分類表!$E24)-1-FIND(G$3,分類表!$E24)-1))) | H24: =IF(ISERROR(MID(分類表!$E24,FIND(H$3,分類表!$E24)+1,IF(ISERROR(FIND(I$3,分類表!$E24)-1-FIND(H$3,分類表!$E24)),FIND($M$3,分類表!$E24)-1-FIND(H$3,分類表!$E24)-1,FIND(I$3,分類表!$E24)-1-FIND(H$3,分類表!$E24)-1))),"",MID(分類表!$E24,FIND(H$3,分類表!$E24)+1,IF(ISERROR(FIND(I$3,分類表!$E24)-1-FIND(H$3,分類表!$E24)),FIND($M$3,分類表!$E24)-1-FIND(H$3,分類表!$E24)-1,FIND(I$3,分類表!$E24)-1-FIND(H$3,分類表!$E24)-1))) | I24: =IF(ISERROR(MID(分類表!$E24,FIND(I$3,分類表!$E24)+1,IF(ISERROR(FIND(J$3,分類表!$E24)-1-FIND(I$3,分類表!$E24)),FIND($M$3,分類表!$E24)-1-FIND(I$3,分類表!$E24)-1,FIND(J$3,分類表!$E24)-1-FIND(I$3,分類表!$E24)-1))),"",MID(分類表!$E24,FIND(I$3,分類表!$E24)+1,IF(ISERROR(FIND(J$3,分類表!$E24)-1-FIND(I$3,分類表!$E24)),FIND($M$3,分類表!$E24)-1-FIND(I$3,分類表!$E24)-1,FIND(J$3,分類表!$E24)-1-FIND(I$3,分類表!$E24)-1))) | J24: =IF(ISERROR(MID(分類表!$E24,FIND(J$3,分類表!$E24)+1,IF(ISERROR(FIND(K$3,分類表!$E24)-1-FIND(J$3,分類表!$E24)),FIND($M$3,分類表!$E24)-1-FIND(J$3,分類表!$E24)-1,FIND(K$3,分類表!$E24)-1-FIND(J$3,分類表!$E24)-1))),"",MID(分類表!$E24,FIND(J$3,分類表!$E24)+1,IF(ISERROR(FIND(K$3,分類表!$E24)-1-FIND(J$3,分類表!$E24)),FIND($M$3,分類表!$E24)-1-FIND(J$3,分類表!$E24)-1,FIND(K$3,分類表!$E24)-1-FIND(J$3,分類表!$E24)-1))) | K24: =IF(ISERROR(MID(分類表!$E24,FIND(K$3,分類表!$E24)+1,IF(ISERROR(FIND(L$3,分類表!$E24)-1-FIND(K$3,分類表!$E24)),FIND($M$3,分類表!$E24)-1-FIND(K$3,分類表!$E24)-1,FIND(L$3,分類表!$E24)-1-FIND(K$3,分類表!$E24)-1))),"",MID(分類表!$E24,FIND(K$3,分類表!$E24)+1,IF(ISERROR(FIND(L$3,分類表!$E24)-1-FIND(K$3,分類表!$E24)),FIND($M$3,分類表!$E24)-1-FIND(K$3,分類表!$E24)-1,FIND(L$3,分類表!$E24)-1-FIND(K$3,分類表!$E24)-1))) | L24: =IF(ISERROR(MID(分類表!$E24,FIND(L$3,分類表!$E24)+1,IF(ISERROR(FIND(M$3,分類表!$E24)-1-FIND(L$3,分類表!$E24)),FIND($M$3,分類表!$E24)-1-FIND(L$3,分類表!$E24)-1,FIND(M$3,分類表!$E24)-1-FIND(L$3,分類表!$E24)-1))),"",MID(分類表!$E24,FIND(L$3,分類表!$E24)+1,IF(ISERROR(FIND(M$3,分類表!$E24)-1-FIND(L$3,分類表!$E24)),FIND($M$3,分類表!$E24)-1-FIND(L$3,分類表!$E24)-1,FIND(M$3,分類表!$E24)-1-FIND(L$3,分類表!$E24)-1))) | M24: =IF(ISERROR(MID(分類表!$E24,FIND(M$3,分類表!$E24)+1,LEN(分類表!$E24)-FIND(M$3,分類表!$E24)+1)),"",MID(分類表!$E24,FIND(M$3,分類表!$E24)+1,LEN(分類表!$E24)-FIND(M$3,分類表!$E24)+1)) -> その他
B25: =分類表!C25 -> 22 | C25: =分類表!D25 -> 食器 調理用器具 | D25: =IF(ISERROR(MID(分類表!$E25,FIND(D$3,分類表!$E25)+1,IF(ISERROR(FIND(E$3,分類表!$E25)-1-FIND(D$3,分類表!$E25)),FIND($M$3,分類表!$E25)-1-FIND(D$3,分類表!$E25)-1,FIND(E$3,分類表!$E25)-1-FIND(D$3,分類表!$E25)-1))),"",MID(分類表!$E25,FIND(D$3,分類表!$E25)+1,IF(ISERROR(FIND(E$3,分類表!$E25)-1-FIND(D$3,分類表!$E25)),FIND($M$3,分類表!$E25)-1-FIND(D$3,分類表!$E25)-1,FIND(E$3,分類表!$E25)-1-FIND(D$3,分類表!$E25)-1))) -> 給食用食器類 | E25: =IF(ISERROR(MID(分類表!$E25,FIND(E$3,分類表!$E25)+1,IF(ISERROR(FIND(F$3,分類表!$E25)-1-FIND(E$3,分類表!$E25)),FIND($M$3,分類表!$E25)-1-FIND(E$3,分類表!$E25)-1,FIND(F$3,分類表!$E25)-1-FIND(E$3,分類表!$E25)-1))),"",MID(分類表!$E25,FIND(E$3,分類表!$E25)+1,IF(ISERROR(FIND(F$3,分類表!$E25)-1-FIND(E$3,分類表!$E25)),FIND($M$3,分類表!$E25)-1-FIND(E$3,分類表!$E25)-1,FIND(F$3,分類表!$E25)-1-FIND(E$3,分類表!$E25)-1))) -> 鍋 | F25: =IF(ISERROR(MID(分類表!$E25,FIND(F$3,分類表!$E25)+1,IF(ISERROR(FIND(G$3,分類表!$E25)-1-FIND(F$3,分類表!$E25)),FIND($M$3,分類表!$E25)-1-FIND(F$3,分類表!$E25)-1,FIND(G$3,分類表!$E25)-1-FIND(F$3,分類表!$E25)-1))),"",MID(分類表!$E25,FIND(F$3,分類表!$E25)+1,IF(ISERROR(FIND(G$3,分類表!$E25)-1-FIND(F$3,分類表!$E25)),FIND($M$3,分類表!$E25)-1-FIND(F$3,分類表!$E25)-1,FIND(G$3,分類表!$E25)-1-FIND(F$3,分類表!$E25)-1))) -> 食缶 | G25: =IF(ISERROR(MID(分類表!$E25,FIND(G$3,分類表!$E25)+1,IF(ISERROR(FIND(H$3,分類表!$E25)-1-FIND(G$3,分類表!$E25)),FIND($M$3,分類表!$E25)-1-FIND(G$3,分類表!$E25)-1,FIND(H$3,分類表!$E25)-1-FIND(G$3,分類表!$E25)-1))),"",MID(分類表!$E25,FIND(G$3,分類表!$E25)+1,IF(ISERROR(FIND(H$3,分類表!$E25)-1-FIND(G$3,分類表!$E25)),FIND($M$3,分類表!$E25)-1-FIND(G$3,分類表!$E25)-1,FIND(H$3,分類表!$E25)-1-FIND(G$3,分類表!$E25)-1))) | H25: =IF(ISERROR(MID(分類表!$E25,FIND(H$3,分類表!$E25)+1,IF(ISERROR(FIND(I$3,分類表!$E25)-1-FIND(H$3,分類表!$E25)),FIND($M$3,分類表!$E25)-1-FIND(H$3,分類表!$E25)-1,FIND(I$3,分類表!$E25)-1-FIND(H$3,分類表!$E25)-1))),"",MID(分類表!$E25,FIND(H$3,分類表!$E25)+1,IF(ISERROR(FIND(I$3,分類表!$E25)-1-FIND(H$3,分類表!$E25)),FIND($M$3,分類表!$E25)-1-FIND(H$3,分類表!$E25)-1,FIND(I$3,分類表!$E25)-1-FIND(H$3,分類表!$E25)-1))) | I25: =IF(ISERROR(MID(分類表!$E25,FIND(I$3,分類表!$E25)+1,IF(ISERROR(FIND(J$3,分類表!$E25)-1-FIND(I$3,分類表!$E25)),FIND($M$3,分類表!$E25)-1-FIND(I$3,分類表!$E25)-1,FIND(J$3,分類表!$E25)-1-FIND(I$3,分類表!$E25)-1))),"",MID(分類表!$E25,FIND(I$3,分類表!$E25)+1,IF(ISERROR(FIND(J$3,分類表!$E25)-1-FIND(I$3,分類表!$E25)),FIND($M$3,分類表!$E25)-1-FIND(I$3,分類表!$E25)-1,FIND(J$3,分類表!$E25)-1-FIND(I$3,分類表!$E25)-1))) | J25: =IF(ISERROR(MID(分類表!$E25,FIND(J$3,分類表!$E25)+1,IF(ISERROR(FIND(K$3,分類表!$E25)-1-FIND(J$3,分類表!$E25)),FIND($M$3,分類表!$E25)-1-FIND(J$3,分類表!$E25)-1,FIND(K$3,分類表!$E25)-1-FIND(J$3,分類表!$E25)-1))),"",MID(分類表!$E25,FIND(J$3,分類表!$E25)+1,IF(ISERROR(FIND(K$3,分類表!$E25)-1-FIND(J$3,分類表!$E25)),FIND($M$3,分類表!$E25)-1-FIND(J$3,分類表!$E25)-1,FIND(K$3,分類表!$E25)-1-FIND(J$3,分類表!$E25)-1))) | K25: =IF(ISERROR(MID(分類表!$E25,FIND(K$3,分類表!$E25)+1,IF(ISERROR(FIND(L$3,分類表!$E25)-1-FIND(K$3,分類表!$E25)),FIND($M$3,分類表!$E25)-1-FIND(K$3,分類表!$E25)-1,FIND(L$3,分類表!$E25)-1-FIND(K$3,分類表!$E25)-1))),"",MID(分類表!$E25,FIND(K$3,分類表!$E25)+1,IF(ISERROR(FIND(L$3,分類表!$E25)-1-FIND(K$3,分類表!$E25)),FIND($M$3,分類表!$E25)-1-FIND(K$3,分類表!$E25)-1,FIND(L$3,分類表!$E25)-1-FIND(K$3,分類表!$E25)-1))) | L25: =IF(ISERROR(MID(分類表!$E25,FIND(L$3,分類表!$E25)+1,IF(ISERROR(FIND(M$3,分類表!$E25)-1-FIND(L$3,分類表!$E25)),FIND($M$3,分類表!$E25)-1-FIND(L$3,分類表!$E25)-1,FIND(M$3,分類表!$E25)-1-FIND(L$3,分類表!$E25)-1))),"",MID(分類表!$E25,FIND(L$3,分類表!$E25)+1,IF(ISERROR(FIND(M$3,分類表!$E25)-1-FIND(L$3,分類表!$E25)),FIND($M$3,分類表!$E25)-1-FIND(L$3,分類表!$E25)-1,FIND(M$3,分類表!$E25)-1-FIND(L$3,分類表!$E25)-1))) | M25: =IF(ISERROR(MID(分類表!$E25,FIND(M$3,分類表!$E25)+1,LEN(分類表!$E25)-FIND(M$3,分類表!$E25)+1)),"",MID(分類表!$E25,FIND(M$3,分類表!$E25)+1,LEN(分類表!$E25)-FIND(M$3,分類表!$E25)+1)) -> その他
... B158: =分類表!C158 -> 147 | C158: =分類表!D158 -> 上記以外のレンタル | D158: =IF(ISERROR(MID(分類表!$E158,FIND(D$3,分類表!$E158)+1,IF(ISERROR(FIND(E$3,分類表!$E158)-1-FIND(D$3,分類表!$E158)),FIND($M$3,分類表!$E158)-1-FIND(D$3,分類表!$E158)-1,FIND(E$3,分類表!$E158)-1-FIND(D$3,分類表!$E158)-1))),"",MID(分類表!$E158,FIND(D$3,分類表!$E158)+1,IF(ISERROR(FIND(E$3,分類表!$E158)-1-FIND(D$3,分類表!$E158)),FIND($M$3,分類表!$E158)-1-FIND(D$3,分類表!$E158)-1,FIND(E$3,分類表!$E158)-1-FIND(D$3,分類表!$E158)-1))) | E158: =IF(ISERROR(MID(分類表!$E158,FIND(E$3,分類表!$E158)+1,IF(ISERROR(FIND(F$3,分類表!$E158)-1-FIND(E$3,分類表!$E158)),FIND($M$3,分類表!$E158)-1-FIND(E$3,分類表!$E158)-1,FIND(F$3,分類表!$E158)-1-FIND(E$3,分類表!$E158)-1))),"",MID(分類表!$E158,FIND(E$3,分類表!$E158)+1,IF(ISERROR(FIND(F$3,分類表!$E158)-1-FIND(E$3,分類表!$E158)),FIND($M$3,分類表!$E158)-1-FIND(E$3,分類表!$E158)-1,FIND(F$3,分類表!$E158)-1-FIND(E$3,分類表!$E158)-1))) | F158: =IF(ISERROR(MID(分類表!$E158,FIND(F$3,分類表!$E158)+1,IF(ISERROR(FIND(G$3,分類表!$E158)-1-FIND(F$3,分類表!$E158)),FIND($M$3,分類表!$E158)-1-FIND(F$3,分類表!$E158)-1,FIND(G$3,分類表!$E158)-1-FIND(F$3,分類表!$E158)-1))),"",MID(分類表!$E158,FIND(F$3,分類表!$E158)+1,IF(ISERROR(FIND(G$3,分類表!$E158)-1-FIND(F$3,分類表!$E158)),FIND($M$3,分類表!$E158)-1-FIND(F$3,分類表!$E158)-1,FIND(G$3,分類表!$E158)-1-FIND(F$3,分類表!$E158)-1))) | G158: =IF(ISERROR(MID(分類表!$E158,FIND(G$3,分類表!$E158)+1,IF(ISERROR(FIND(H$3,分類表!$E158)-1-FIND(G$3,分類表!$E158)),FIND($M$3,分類表!$E158)-1-FIND(G$3,分類表!$E158)-1,FIND(H$3,分類表!$E158)-1-FIND(G$3,分類表!$E158)-1))),"",MID(分類表!$E158,FIND(G$3,分類表!$E158)+1,IF(ISERROR(FIND(H$3,分類表!$E158)-1-FIND(G$3,分類表!$E158)),FIND($M$3,分類表!$E158)-1-FIND(G$3,分類表!$E158)-1,FIND(H$3,分類表!$E158)-1-FIND(G$3,分類表!$E158)-1))) | H158: =IF(ISERROR(MID(分類表!$E158,FIND(H$3,分類表!$E158)+1,IF(ISERROR(FIND(I$3,分類表!$E158)-1-FIND(H$3,分類表!$E158)),FIND($M$3,分類表!$E158)-1-FIND(H$3,分類表!$E158)-1,FIND(I$3,分類表!$E158)-1-FIND(H$3,分類表!$E158)-1))),"",MID(分類表!$E158,FIND(H$3,分類表!$E158)+1,IF(ISERROR(FIND(I$3,分類表!$E158)-1-FIND(H$3,分類表!$E158)),FIND($M$3,分類表!$E158)-1-FIND(H$3,分類表!$E158)-1,FIND(I$3,分類表!$E158)-1-FIND(H$3,分類表!$E158)-1))) | I158: =IF(ISERROR(MID(分類表!$E158,FIND(I$3,分類表!$E158)+1,IF(ISERROR(FIND(J$3,分類表!$E158)-1-FIND(I$3,分類表!$E158)),FIND($M$3,分類表!$E158)-1-FIND(I$3,分類表!$E158)-1,FIND(J$3,分類表!$E158)-1-FIND(I$3,分類表!$E158)-1))),"",MID(分類表!$E158,FIND(I$3,分類表!$E158)+1,IF(ISERROR(FIND(J$3,分類表!$E158)-1-FIND(I$3,分類表!$E158)),FIND($M$3,分類表!$E158)-1-FIND(I$3,分類表!$E158)-1,FIND(J$3,分類表!$E158)-1-FIND(I$3,分類表!$E158)-1))) | J158: =IF(ISERROR(MID(分類表!$E158,FIND(J$3,分類表!$E158)+1,IF(ISERROR(FIND(K$3,分類表!$E158)-1-FIND(J$3,分類表!$E158)),FIND($M$3,分類表!$E158)-1-FIND(J$3,分類表!$E158)-1,FIND(K$3,分類表!$E158)-1-FIND(J$3,分類表!$E158)-1))),"",MID(分類表!$E158,FIND(J$3,分類表!$E158)+1,IF(ISERROR(FIND(K$3,分類表!$E158)-1-FIND(J$3,分類表!$E158)),FIND($M$3,分類表!$E158)-1-FIND(J$3,分類表!$E158)-1,FIND(K$3,分類表!$E158)-1-FIND(J$3,分類表!$E158)-1))) | K158: =IF(ISERROR(MID(分類表!$E158,FIND(K$3,分類表!$E158)+1,IF(ISERROR(FIND(L$3,分類表!$E158)-1-FIND(K$3,分類表!$E158)),FIND($M$3,分類表!$E158)-1-FIND(K$3,分類表!$E158)-1,FIND(L$3,分類表!$E158)-1-FIND(K$3,分類表!$E158)-1))),"",MID(分類表!$E158,FIND(K$3,分類表!$E158)+1,IF(ISERROR(FIND(L$3,分類表!$E158)-1-FIND(K$3,分類表!$E158)),FIND($M$3,分類表!$E158)-1-FIND(K$3,分類表!$E158)-1,FIND(L$3,分類表!$E158)-1-FIND(K$3,分類表!$E158)-1))) | L158: =IF(ISERROR(MID(分類表!$E158,FIND(L$3,分類表!$E158)+1,IF(ISERROR(FIND(M$3,分類表!$E158)-1-FIND(L$3,分類表!$E158)),FIND($M$3,分類表!$E158)-1-FIND(L$3,分類表!$E158)-1,FIND(M$3,分類表!$E158)-1-FIND(L$3,分類表!$E158)-1))),"",MID(分類表!$E158,FIND(L$3,分類表!$E158)+1,IF(ISERROR(FIND(M$3,分類表!$E158)-1-FIND(L$3,分類表!$E158)),FIND($M$3,分類表!$E158)-1-FIND(L$3,分類表!$E158)-1,FIND(M$3,分類表!$E158)-1-FIND(L$3,分類表!$E158)-1))) | M158: =IF(ISERROR(MID(分類表!$E158,FIND(M$3,分類表!$E158)+1,LEN(分類表!$E158)-FIND(M$3,分類表!$E158)+1)),"",MID(分類表!$E158,FIND(M$3,分類表!$E158)+1,LEN(分類表!$E158)-FIND(M$3,分類表!$E158)+1))
